BEGIN:VCALENDAR
VERSION:2.0
PRODID:-//NJDOT Technology Transfer - ECPv6.15.17.1//NONSGML v1.0//EN
CALSCALE:GREGORIAN
METHOD:PUBLISH
X-WR-CALNAME:NJDOT Technology Transfer
X-ORIGINAL-URL:https://njdottechtransfer.net
X-WR-CALDESC:Events for NJDOT Technology Transfer
REFRESH-INTERVAL;VALUE=DURATION:PT1H
X-Robots-Tag:noindex
X-PUBLISHED-TTL:PT1H
BEGIN:VTIMEZONE
TZID:America/New_York
BEGIN:DAYLIGHT
TZOFFSETFROM:-0500
TZOFFSETTO:-0400
TZNAME:EDT
DTSTART:20250309T070000
END:DAYLIGHT
BEGIN:STANDARD
TZOFFSETFROM:-0400
TZOFFSETTO:-0500
TZNAME:EST
DTSTART:20251102T060000
END:STANDARD
BEGIN:DAYLIGHT
TZOFFSETFROM:-0500
TZOFFSETTO:-0400
TZNAME:EDT
DTSTART:20260308T070000
END:DAYLIGHT
BEGIN:STANDARD
TZOFFSETFROM:-0400
TZOFFSETTO:-0500
TZNAME:EST
DTSTART:20261101T060000
END:STANDARD
BEGIN:DAYLIGHT
TZOFFSETFROM:-0500
TZOFFSETTO:-0400
TZNAME:EDT
DTSTART:20270314T070000
END:DAYLIGHT
BEGIN:STANDARD
TZOFFSETFROM:-0400
TZOFFSETTO:-0500
TZNAME:EST
DTSTART:20271107T060000
END:STANDARD
END:VTIMEZONE
BEGIN:VEVENT
DTSTART;TZID=America/New_York:20260422T080000
DTEND;TZID=America/New_York:20260422T133000
DTSTAMP:20260422T054633
CREATED:20260415T185742Z
LAST-MODIFIED:20260415T185742Z
UID:24745-1776844800-1776864600@njdottechtransfer.net
SUMMARY:2026 Public Works Expo and Education Program (In-Person)
DESCRIPTION:The New Jersey Chapter of the American Public Works Association (APWA) will be holding its bi-annual public works EXPO and education program on April 22\, 2026 – this is the only New Jersey public works expo in 2026. Vendors include products and services for government representatives\, including safety\, recycling\, traffic signs\, vehicles\, vehicle maintenance\, sanitation\, sewers\, materials handling equipment\, uniforms\, and consultant services. There are also three opportunities to earn CPWM credit. \nClick here to register\,
URL:https://njdottechtransfer.net/event/2026-public-works-expo-and-education-program-in-person/
LOCATION:New Jersey Convention & Expo Center\, 97 Sunfield Ave\, Edison\, NJ\, 08837
ATTACH;FMTTYPE=image/png:https://njdottechtransfer.net/wp-content/uploads/2026/04/njapwa-600x283-1.png
END:VEVENT
END:VCALENDAR