BEGIN:VCALENDAR
VERSION:2.0
PRODID:-//NJDOT Technology Transfer - ECPv6.15.17.1//NONSGML v1.0//EN
CALSCALE:GREGORIAN
METHOD:PUBLISH
X-WR-CALNAME:NJDOT Technology Transfer
X-ORIGINAL-URL:https://njdottechtransfer.net
X-WR-CALDESC:Events for NJDOT Technology Transfer
REFRESH-INTERVAL;VALUE=DURATION:PT1H
X-Robots-Tag:noindex
X-PUBLISHED-TTL:PT1H
BEGIN:VTIMEZONE
TZID:America/New_York
BEGIN:DAYLIGHT
TZOFFSETFROM:-0500
TZOFFSETTO:-0400
TZNAME:EDT
DTSTART:20220313T070000
END:DAYLIGHT
BEGIN:STANDARD
TZOFFSETFROM:-0400
TZOFFSETTO:-0500
TZNAME:EST
DTSTART:20221106T060000
END:STANDARD
BEGIN:DAYLIGHT
TZOFFSETFROM:-0500
TZOFFSETTO:-0400
TZNAME:EDT
DTSTART:20230312T070000
END:DAYLIGHT
BEGIN:STANDARD
TZOFFSETFROM:-0400
TZOFFSETTO:-0500
TZNAME:EST
DTSTART:20231105T060000
END:STANDARD
BEGIN:DAYLIGHT
TZOFFSETFROM:-0500
TZOFFSETTO:-0400
TZNAME:EDT
DTSTART:20240310T070000
END:DAYLIGHT
BEGIN:STANDARD
TZOFFSETFROM:-0400
TZOFFSETTO:-0500
TZNAME:EST
DTSTART:20241103T060000
END:STANDARD
END:VTIMEZONE
BEGIN:VEVENT
DTSTART;TZID=America/New_York:20230209T183000
DTEND;TZID=America/New_York:20230209T200000
DTSTAMP:20260424T134557
CREATED:20251205T200603Z
LAST-MODIFIED:20251205T200603Z
UID:21378-1675967400-1675972800@njdottechtransfer.net
SUMMARY:EDC-6 DABs Webinar - Field Verify Assets and Quantities and Document DAB Model with Attributes to Systems of Record
DESCRIPTION:Webinar Series\nThe FHWA will present an eight-part webinar series on the EDC-6 Implementation Initiative for Digital As-Builts (DABs). The all-encompassing webinar series is design to increase overall understanding of DABs and how to advance their implementation\, demonstrate practical benefits\, address barriers to DABs implementation\, showcase practical solutions\, and establish DABs best practices. \n  * Building blocks of DABs\n  * Benefits and opportunities\n  * Processes for implementing and institutionalizing DABs\n  * Standard practices\, policies\, and best practices \nField Verify Assets and Quantities and Document DAB Model with Attributes to Systems of Record \nThis webinar will focus on educating participants on implementation involving one of the essential use cases of digital as-builts: Document and archive as-built electronic PDF (ePDF) and model data to systems of record. The webinar will include user stories from DOT agencies using various methods: ePDF and CAD/BIM/GIS model-based. The lead DOT agencies will share their experiences on their successful implementation and projects involved\, specifications\, purpose/need\, data content captured\, form and format\, potential post-construction uses\, benefits\, challenges\, lessons learned and future work. \nDetails » https://dabs-technologyinnovation.com/webinar-series/field-verify-assets-quantities-and-archive-data/ | Register » https://dabs-technologyinnovation.com/webinar-5-registration/
URL:https://njdottechtransfer.net/event/edc-6-dabs-webinar-field-verify-assets-and-quantities-and-document-dab-model-with-attributes-to-systems-of-record/
LOCATION:NJ
END:VEVENT
BEGIN:VEVENT
DTSTART;TZID=America/New_York:20230214T000000
DTEND;TZID=America/New_York:20230217T000000
DTSTAMP:20260424T134557
CREATED:20251205T200603Z
LAST-MODIFIED:20251205T200603Z
UID:21379-1676332800-1676592000@njdottechtransfer.net
SUMMARY:Every Day Counts Virtual Summit
DESCRIPTION:Opens February 14th\, 2023 at 9am ET \nRegister Now for EDC-7 Virtual Summit \nThe EDC-7 Virtual Summit registration link https://nam02.safelinks.protection.outlook.com/?url=https:%2F%2Flnks.gd%2Fl%2FeyJhbGciOiJIUzI1NiJ9.eyJidWxsZXRpbl9saW5rX2lkIjoxMDAsInVyaSI6ImJwMjpjbGljayIsImJ1bGxldGluX2lkIjoiMjAyMzAxMTMuNjk3NjM1MzEiLCJ1cmwiOiJodHRwczovL3d3dy5maHdhLWV2ZXJ5ZGF5LWNvdW50cy03LXZpcnR1YWwtc3VtbWl0LmNvbS9tcy92aXJ0dWFsLWV2ZW50L2Zod2EtZXZlcnlkYXktY291bnRzLTctdmlydHVhbC1zdW1taXQ_ZmlyZWdsYXNzX3Jzbj10cnVlIn0.dSO1Z22OAHOU-tinr9t14JftLRGWybwu4ZiA_Eu4HCI%2Fs%2F1159082835%2Fbr%2F152584517536-l&data=05%7C01%7Cdavid.aimen%40ejb.rutgers.edu%7C40631be9d766483bd17608daf591dd13%7Cb92d2b234d35447093ff69aca6632ffe%7C1%7C0%7C638092304076583106%7CUnknown%7CTWFpbGZsb3d8eyJWIjoiMC4wLjAwMDAiLCJQIjoiV2luMzIiLCJBTiI6Ik1haWwiLCJXVCI6Mn0%3D%7C3000%7C%7C%7C&sdata=5pLmN5D5E7B7vHL2vCclW9zDaUSJdjGoAUKncxnYc3M%3D&reserved=0 is now live! The summit\, taking place from February 14-16\, 2023\, brings together transportation leaders and frontline professionals responsible for developing and delivering highway projects. We welcome participation from all of our partners—State transportation departments\, local agencies\, Federal land management agencies\, tribes\, and industry. \nIn this cycle of EDC\, the seven initiatives https://nam02.safelinks.protection.outlook.com/?url=https:%2F%2Flnks.gd%2Fl%2FeyJhbGciOiJIUzI1NiJ9.eyJidWxsZXRpbl9saW5rX2lkIjoxMDEsInVyaSI6ImJwMjpjbGljayIsImJ1bGxldGluX2lkIjoiMjAyMzAxMTMuNjk3NjM1MzEiLCJ1cmwiOiJodHRwczovL3d3dy5maHdhLmRvdC5nb3YvaW5ub3ZhdGlvbi9ldmVyeWRheWNvdW50cy9lZGNfNy8ifQ.kS8q9FHaz-VdoFzJelv2i3_ZjPh1ZkaxLdh08ViUjoU%2Fs%2F1159082835%2Fbr%2F152584517536-l&data=05%7C01%7Cdavid.aimen%40ejb.rutgers.edu%7C40631be9d766483bd17608daf591dd13%7Cb92d2b234d35447093ff69aca6632ffe%7C1%7C0%7C638092304076583106%7CUnknown%7CTWFpbGZsb3d8eyJWIjoiMC4wLjAwMDAiLCJQIjoiV2luMzIiLCJBTiI6Ik1haWwiLCJXVCI6Mn0%3D%7C3000%7C%7C%7C&sdata=7NoUbes13zB9OZik4lpZ0pZBj7LJiNq73al0cMBhu3c%3D&reserved=0 feature strategies to improve safety for all users\, build sustainable infrastructure for the future\, and grow an inclusive workforce. Learn more about each of these in the EDC-7 overview video https://nam02.safelinks.protection.outlook.com/?url=https:%2F%2Flnks.gd%2Fl%2FeyJhbGciOiJIUzI1NiJ9.eyJidWxsZXRpbl9saW5rX2lkIjoxMDIsInVyaSI6ImJwMjpjbGljayIsImJ1bGxldGluX2lkIjoiMjAyMzAxMTMuNjk3NjM1MzEiLCJ1cmwiOiJodHRwczovL3lvdXR1LmJlL0VvMkVMWmI2QlFJIn0.Q_Lq3M6hUcuA2GBkCkLRZsdawYyHiNMeOtf5vB-XTUo%2Fs%2F1159082835%2Fbr%2F152584517536-l&data=05%7C01%7Cdavid.aimen%40ejb.rutgers.edu%7C40631be9d766483bd17608daf591dd13%7Cb92d2b234d35447093ff69aca6632ffe%7C1%7C0%7C638092304076583106%7CUnknown%7CTWFpbGZsb3d8eyJWIjoiMC4wLjAwMDAiLCJQIjoiV2luMzIiLCJBTiI6Ik1haWwiLCJXVCI6Mn0%3D%7C3000%7C%7C%7C&sdata=4ZIzU%2B3OlrM%2BptRrfw0joXDU5I9%2FgHJbsG9ylQjWZvg%3D&reserved=0 . Each day of the summit will open with a session featuring speakers including FHWA leadership and innovation champions from the public and private sectors. There will be presentations\, fact sheets\, videos\, virtual booths\, and pdfs of innovations developed by the National State Transportation Innovation Council (STIC) Network available to all registered participants. \nNot sure which breakout session to attend? Watch these short videos https://nam02.safelinks.protection.outlook.com/?url=https:%2F%2Flnks.gd%2Fl%2FeyJhbGciOiJIUzI1NiJ9.eyJidWxsZXRpbl9saW5rX2lkIjoxMDMsInVyaSI6ImJwMjpjbGljayIsImJ1bGxldGluX2lkIjoiMjAyMzAxMTMuNjk3NjM1MzEiLCJ1cmwiOiJodHRwczovL3lvdXR1YmUuY29tL3BsYXlsaXN0P2xpc3Q9UEw1X3NtOWc5ZDRUMTM5ZVZvMC02MnpzLUJWWEp0WmJSSCJ9.jNHDeB3soYEemlGl_-pmTxPUoyIkcRW6062DreCVDbM%2Fs%2F1159082835%2Fbr%2F152584517536-l&data=05%7C01%7Cdavid.aimen%40ejb.rutgers.edu%7C40631be9d766483bd17608daf591dd13%7Cb92d2b234d35447093ff69aca6632ffe%7C1%7C0%7C638092304076583106%7CUnknown%7CTWFpbGZsb3d8eyJWIjoiMC4wLjAwMDAiLCJQIjoiV2luMzIiLCJBTiI6Ik1haWwiLCJXVCI6Mn0%3D%7C3000%7C%7C%7C&sdata=wpUW7jBSLH6ceV5%2FVBNHp%2B4OlA1fRL0S0gUOzMoUbWA%3D&reserved=0 on each of the EDC-7 innovations to learn more about what to expect. \nWe look forward to seeing you there! https://www.fhwa-everyday-counts-7-virtual-summit.com/ms/event/fhwa-everyday-counts-7-virtual-summit/register/single
URL:https://njdottechtransfer.net/event/every-day-counts-virtual-summit-2/
LOCATION:NJ
END:VEVENT
END:VCALENDAR