BEGIN:VCALENDAR
VERSION:2.0
PRODID:-//NJDOT Technology Transfer - ECPv6.15.17.1//NONSGML v1.0//EN
CALSCALE:GREGORIAN
METHOD:PUBLISH
X-ORIGINAL-URL:https://njdottechtransfer.net
X-WR-CALDESC:Events for NJDOT Technology Transfer
REFRESH-INTERVAL;VALUE=DURATION:PT1H
X-Robots-Tag:noindex
X-PUBLISHED-TTL:PT1H
BEGIN:VTIMEZONE
TZID:America/New_York
BEGIN:DAYLIGHT
TZOFFSETFROM:-0500
TZOFFSETTO:-0400
TZNAME:EDT
DTSTART:20220313T070000
END:DAYLIGHT
BEGIN:STANDARD
TZOFFSETFROM:-0400
TZOFFSETTO:-0500
TZNAME:EST
DTSTART:20221106T060000
END:STANDARD
BEGIN:DAYLIGHT
TZOFFSETFROM:-0500
TZOFFSETTO:-0400
TZNAME:EDT
DTSTART:20230312T070000
END:DAYLIGHT
BEGIN:STANDARD
TZOFFSETFROM:-0400
TZOFFSETTO:-0500
TZNAME:EST
DTSTART:20231105T060000
END:STANDARD
BEGIN:DAYLIGHT
TZOFFSETFROM:-0500
TZOFFSETTO:-0400
TZNAME:EDT
DTSTART:20240310T070000
END:DAYLIGHT
BEGIN:STANDARD
TZOFFSETFROM:-0400
TZOFFSETTO:-0500
TZNAME:EST
DTSTART:20241103T060000
END:STANDARD
END:VTIMEZONE
BEGIN:VEVENT
DTSTART;TZID=America/New_York:20230314T000000
DTEND;TZID=America/New_York:20230316T000000
DTSTAMP:20260424T121404
CREATED:20251205T200604Z
LAST-MODIFIED:20251205T200604Z
UID:21380-1678752000-1678924800@njdottechtransfer.net
SUMMARY:Great Communities: At the Intersection of Planning and Engineering
DESCRIPTION:This conference will showcase the importance of planners and engineers working collaboratively\, and provide real-world examples of their success. Great communities are built with this collaborative spirit in mind\, and transportation professionals of all disciplines will benefit from lessons learned in this conference. Participants will gain insights on leading-edge practices that can be taken back to their communities.\nThis virtual conference offers 10 sessions and two plenary sessions on topics of importance to both planners and engineers seeking to improve the quality of life in their communities. \nMoreover\, all sessions are being recorded so that registrants can participa. https://www.itespringconference.org/ te in sessions in real-time or on-demand. There is no need to choose between sessions taking place at the same time! Recorded sessions are available to registrants until Memorial Day. \nMORE INFO ON HOW TO REGISTER https://www.itespringconference.org/ \nIn addition\, both PDH/CMs will be offered. Details on these credits are coming soon.
URL:https://njdottechtransfer.net/event/great-communities-at-the-intersection-of-planning-and-engineering/
LOCATION:NJ
END:VEVENT
END:VCALENDAR