BEGIN:VCALENDAR
VERSION:2.0
PRODID:-//NJDOT Technology Transfer - ECPv6.15.17.1//NONSGML v1.0//EN
CALSCALE:GREGORIAN
METHOD:PUBLISH
X-ORIGINAL-URL:https://njdottechtransfer.net
X-WR-CALDESC:Events for NJDOT Technology Transfer
REFRESH-INTERVAL;VALUE=DURATION:PT1H
X-Robots-Tag:noindex
X-PUBLISHED-TTL:PT1H
BEGIN:VTIMEZONE
TZID:America/New_York
BEGIN:DAYLIGHT
TZOFFSETFROM:-0500
TZOFFSETTO:-0400
TZNAME:EDT
DTSTART:20220313T070000
END:DAYLIGHT
BEGIN:STANDARD
TZOFFSETFROM:-0400
TZOFFSETTO:-0500
TZNAME:EST
DTSTART:20221106T060000
END:STANDARD
BEGIN:DAYLIGHT
TZOFFSETFROM:-0500
TZOFFSETTO:-0400
TZNAME:EDT
DTSTART:20230312T070000
END:DAYLIGHT
BEGIN:STANDARD
TZOFFSETFROM:-0400
TZOFFSETTO:-0500
TZNAME:EST
DTSTART:20231105T060000
END:STANDARD
BEGIN:DAYLIGHT
TZOFFSETFROM:-0500
TZOFFSETTO:-0400
TZNAME:EDT
DTSTART:20240310T070000
END:DAYLIGHT
BEGIN:STANDARD
TZOFFSETFROM:-0400
TZOFFSETTO:-0500
TZNAME:EST
DTSTART:20241103T060000
END:STANDARD
END:VTIMEZONE
BEGIN:VEVENT
DTSTART;TZID=America/New_York:20230516T170000
DTEND;TZID=America/New_York:20230516T183000
DTSTAMP:20260424T085345
CREATED:20251205T200619Z
LAST-MODIFIED:20251205T200619Z
UID:21387-1684256400-1684261800@njdottechtransfer.net
SUMMARY:Crowdsourcing Course Available as a Series of Webinars Beginning May 16
DESCRIPTION:Is your local agency\, region\, or State interested in learning about the broad range of free or low-cost crowdsourced data to improve planning for operations or real-time operations?\nAre you ready to bring together key stakeholders to discuss your region’s operational challenges and how crowdsourced data might offer a viable solution? \nIf your response is yes\, attend or host the crowdsourcing course recently developed by the FHWA EDC-6 Crowdsourcing Innovation https://www.fhwa.dot.gov/innovation/everydaycounts/edc_6/crowdsourcing.cfm . \nThe Crowdsourcing Innovation Team in collaboration with the Intelligent Transportation Systems Joint Program Office (ITS JPO) Professional Capacity Building (PCB) Program is offering the crowdsourcing course through a series of five free webinars. https://www.pcb.its.dot.gov/t3/s230516_Crowdsourcing_for_Advancing_Operations-Introduction_and_Application_Highlights.aspx Webinars feature State and local practitioner perspectives to complement course content. Webinars will take place the third Tuesday of each month at 1:00 p.m. EST. The following highlights webinar dates and topics: \n  * May 16: Introduction and Application Highlights \n  * June 20: Data Sources and Data Management \n  * July 18: Traveler Information and Traffic Incident Management \n  * August 15: Road Weather and Arterial Management \n  * September 19: Emergency and Work Zone Management\, and Next Steps \nThe Crowdsourcing Course is intended for transportation operations managers\, transportation analysts\, consultants\, and university students focusing on transportation. Because it is an introductory course\, prior crowdsourcing experience is not required for participation. The course is intended to: \n  * Broaden participants’ understanding of how crowdsourced data from free navigation apps\, vehicle probes\, connected vehicles\, social media\, and other sources can improve transportation operations and safety. \n  * Help participants consider whether a specific application of crowdsourced data could meet their organization’s needs for improving transportation operations. \nClick here to register for the May 16 webinar. https://www.pcb.its.dot.gov/t3/s230516_Crowdsourcing_for_Advancing_Operations-Introduction_and_Application_Highlights.aspx To learn more about an in-person course delivery or for broader crowdsourcing questions\, please reach out to James Colyar mailto:james.colyar@dot.gov \, Ralph Volpe mailto:ralph.volpe@dot.gov \, and Greg Jones mailto:gregM.Jones@dot.gov \, the FHWA EDC-6 crowdsourcing coleads.
URL:https://njdottechtransfer.net/event/crowdsourcing-course-available-as-a-series-of-webinars-beginning-may-16/
LOCATION:NJ
END:VEVENT
BEGIN:VEVENT
DTSTART;TZID=America/New_York:20230522T170000
DTEND;TZID=America/New_York:20230522T190000
DTSTAMP:20260424T085345
CREATED:20251205T200633Z
LAST-MODIFIED:20251205T200633Z
UID:21388-1684774800-1684782000@njdottechtransfer.net
SUMMARY:Safety & NEPA: Case Studies & Noteworthy Practices Webinar
DESCRIPTION:The Federal Highway Administration (FHWA) invites you to register https://nam02.safelinks.protection.outlook.com/?url=https:%2F%2Flnks.gd%2Fl%2FeyJhbGciOiJIUzI1NiJ9.eyJidWxsZXRpbl9saW5rX2lkIjoxMDAsInVyaSI6ImJwMjpjbGljayIsImJ1bGxldGluX2lkIjoiMjAyMzA0MjAuNzU0OTEyMDEiLCJ1cmwiOiJodHRwczovL2JpdC5seS9uZXBhLXNhZmV0eS1jYXNlc3R1ZGllcyJ9.c7WtzaGdMrLguWv1objbwYDRbPhDCeVJ_5Fl2I5trHc%2Fs%2F1159082835%2Fbr%2F160142699946-l&data=05%7C01%7Cdavid.aimen%40ejb.rutgers.edu%7C887dac92e57e4744528808db41b042d5%7Cb92d2b234d35447093ff69aca6632ffe%7C1%7C0%7C638175997851710191%7CUnknown%7CTWFpbGZsb3d8eyJWIjoiMC4wLjAwMDAiLCJQIjoiV2luMzIiLCJBTiI6Ik1haWwiLCJXVCI6Mn0%3D%7C3000%7C%7C%7C&sdata=FtDeRk1o%2FWhQ3g%2FDX30tEWRkz3pGgjY%2FXFUGEtGTy%2Bc%3D&reserved=0 for and attend a free webinar on Safety & NEPA: Case Studies & Noteworthy Practices Webinar scheduled for Monday\, May 22\, 2023\, from 1:00 to 3:00 PM ET.\nTarget Audience: \nThis webinar is open to all Federal\, State\, and local agencies that are involved with the National Environmental Policy Act (NEPA)\, safety analysis and engineering\, and project development. Please be sure to share this invitation with your colleagues who may be interested in attending. \nPurpose: \nThis webinar will feature perspectives from FHWA\, including guidance on incorporating safety in NEPA https://nam02.safelinks.protection.outlook.com/?url=https:%2F%2Flnks.gd%2Fl%2FeyJhbGciOiJIUzI1NiJ9.eyJidWxsZXRpbl9saW5rX2lkIjoxMDEsInVyaSI6ImJwMjpjbGljayIsImJ1bGxldGluX2lkIjoiMjAyMzA0MjAuNzU0OTEyMDEiLCJ1cmwiOiJodHRwczovL3NhZmV0eS5maHdhLmRvdC5nb3YvdHNwL2Zod2FzYTExMzYvZmh3YXNhMTEzNi5wZGYifQ.VAEoDpRBhPBMPQTuZ55bvhVoCMQnIgb0Y_4DW2aQTGk%2Fs%2F1159082835%2Fbr%2F160142699946-l&data=05%7C01%7Cdavid.aimen%40ejb.rutgers.edu%7C887dac92e57e4744528808db41b042d5%7Cb92d2b234d35447093ff69aca6632ffe%7C1%7C0%7C638175997851710191%7CUnknown%7CTWFpbGZsb3d8eyJWIjoiMC4wLjAwMDAiLCJQIjoiV2luMzIiLCJBTiI6Ik1haWwiLCJXVCI6Mn0%3D%7C3000%7C%7C%7C&sdata=H6ZqjS10DADHv5rVVSlOQHRiV8GrOLqYhyJDVJsnxRY%3D&reserved=0 \, as well as noteworthy practices and projects https://nam02.safelinks.protection.outlook.com/?url=https:%2F%2Flnks.gd%2Fl%2FeyJhbGciOiJIUzI1NiJ9.eyJidWxsZXRpbl9saW5rX2lkIjoxMDIsInVyaSI6ImJwMjpjbGljayIsImJ1bGxldGluX2lkIjoiMjAyMzA0MjAuNzU0OTEyMDEiLCJ1cmwiOiJodHRwczovL2hpZ2h3YXlzLmRvdC5nb3Yvc2l0ZXMvZmh3YS5kb3QuZ292L2ZpbGVzLzIwMjMtMDIvU2FmZXR5JTIwTkVQQV9JbnRyb2R1Y3RvcnklMjBEb2N1bWVudF9GSU5BTF81MDgucGRmIn0.DrqwW1y1_1GfvrinSDhg8T_uCoL01yEom2fvs6k4s9A%2Fs%2F1159082835%2Fbr%2F160142699946-l&data=05%7C01%7Cdavid.aimen%40ejb.rutgers.edu%7C887dac92e57e4744528808db41b042d5%7Cb92d2b234d35447093ff69aca6632ffe%7C1%7C0%7C638175997851710191%7CUnknown%7CTWFpbGZsb3d8eyJWIjoiMC4wLjAwMDAiLCJQIjoiV2luMzIiLCJBTiI6Ik1haWwiLCJXVCI6Mn0%3D%7C3000%7C%7C%7C&sdata=dDsbePAjjnhdZGAZ5VSJ2QTAzYFylgRfItksv6xLkoM%3D&reserved=0 from around the country that demonstrate safety as a project purpose and need. \nPresenters: \n  * Phil Bobitz\, FHWA Office of Safety\, and David Cohen\, FHWA Office of Project Development and Environmental Review – Moderating \n  * Paul LaFleur\, FHWA Office of Safety\, and Jonathan Crum\, FHWA Pennsylvania Division – “Pennsylvania’s Needs Study Handbook” \n  * Matt Linneman\, North Dakota Department of Transportation\, and Kevin Brodie\, FHWA North Dakota Division – “North Dakota’s US 85 Expansion” \n  * Brian Dobling\, FHWA Colorado Division – “Colorado’s I-25 South Gap” \n  * Bernadette Dupont\, Office of Planning\, Environment\, & Realty\, and David Whitworth\, FHWA Kentucky Division – “Frankfort’s Second Street Corridor (US 60)” \nRegistration: \nRegistration is FREE but is required to participate. Please register https://nam02.safelinks.protection.outlook.com/?url=https:%2F%2Flnks.gd%2Fl%2FeyJhbGciOiJIUzI1NiJ9.eyJidWxsZXRpbl9saW5rX2lkIjoxMDMsInVyaSI6ImJwMjpjbGljayIsImJ1bGxldGluX2lkIjoiMjAyMzA0MjAuNzU0OTEyMDEiLCJ1cmwiOiJodHRwczovL2JpdC5seS9uZXBhLXNhZmV0eS1jYXNlc3R1ZGllcyJ9.CMIrCuXXs2mZdXdx7egK9cDMc8Q4xtp31_CL7SVWcFc%2Fs%2F1159082835%2Fbr%2F160142699946-l&data=05%7C01%7Cdavid.aimen%40ejb.rutgers.edu%7C887dac92e57e4744528808db41b042d5%7Cb92d2b234d35447093ff69aca6632ffe%7C1%7C0%7C638175997851710191%7CUnknown%7CTWFpbGZsb3d8eyJWIjoiMC4wLjAwMDAiLCJQIjoiV2luMzIiLCJBTiI6Ik1haWwiLCJXVCI6Mn0%3D%7C3000%7C%7C%7C&sdata=bWgYuzTODiVstOvUaEhMtkAPupsW8EQDT8E2M2Tb9xs%3D&reserved=0 no later than Friday\, May 12 so that reasonable accessibility accommodations can be scheduled. https://nam02.safelinks.protection.outlook.com/?url=https:%2F%2Flnks.gd%2Fl%2FeyJhbGciOiJIUzI1NiJ9.eyJidWxsZXRpbl9saW5rX2lkIjoxMDQsInVyaSI6ImJwMjpjbGljayIsImJ1bGxldGluX2lkIjoiMjAyMzA0MjAuNzU0OTEyMDEiLCJ1cmwiOiJodHRwczovL2JpdC5seS9uZXBhLXNhZmV0eS1jYXNlc3R1ZGllcyJ9.hrJ6WKOH0HGLKGJ9BZIyHj4yZe5OnoUTTYNVd5-xu1A%2Fs%2F1159082835%2Fbr%2F160142699946-l&data=05%7C01%7Cdavid.aimen%40ejb.rutgers.edu%7C887dac92e57e4744528808db41b042d5%7Cb92d2b234d35447093ff69aca6632ffe%7C1%7C0%7C638175997851710191%7CUnknown%7CTWFpbGZsb3d8eyJWIjoiMC4wLjAwMDAiLCJQIjoiV2luMzIiLCJBTiI6Ik1haWwiLCJXVCI6Mn0%3D%7C3000%7C%7C%7C&sdata=RsCwpdXMGLTMue3e1SLyQWUlkRUBd4JmRgwx15grXeM%3D&reserved=0 \nFirst time users of the Zoom registration system: Enter email address\, first and last name\, State of origin\, and your agency/organization. Fields marked with (*) are mandatory. \nThe FHWA is committed to providing equal access to this meeting for all participants. If you need alternative formats or services because of a disability\, please contact Phillip Bobitz at 717-221-4574 or via email ( mailto:Phillip.Bobitz@dot.gov Phillip.Bobitz@dot.gov mailto:Phillip.Bobitz@dot.gov ) with your request by close of business May 12\, 2023.
URL:https://njdottechtransfer.net/event/safety-nepa-case-studies-noteworthy-practices-webinar/
LOCATION:NJ
END:VEVENT
END:VCALENDAR