BEGIN:VCALENDAR
VERSION:2.0
PRODID:-//NJDOT Technology Transfer - ECPv6.15.17.1//NONSGML v1.0//EN
CALSCALE:GREGORIAN
METHOD:PUBLISH
X-ORIGINAL-URL:https://njdottechtransfer.net
X-WR-CALDESC:Events for NJDOT Technology Transfer
REFRESH-INTERVAL;VALUE=DURATION:PT1H
X-Robots-Tag:noindex
X-PUBLISHED-TTL:PT1H
BEGIN:VTIMEZONE
TZID:America/New_York
BEGIN:DAYLIGHT
TZOFFSETFROM:-0500
TZOFFSETTO:-0400
TZNAME:EDT
DTSTART:20220313T070000
END:DAYLIGHT
BEGIN:STANDARD
TZOFFSETFROM:-0400
TZOFFSETTO:-0500
TZNAME:EST
DTSTART:20221106T060000
END:STANDARD
BEGIN:DAYLIGHT
TZOFFSETFROM:-0500
TZOFFSETTO:-0400
TZNAME:EDT
DTSTART:20230312T070000
END:DAYLIGHT
BEGIN:STANDARD
TZOFFSETFROM:-0400
TZOFFSETTO:-0500
TZNAME:EST
DTSTART:20231105T060000
END:STANDARD
BEGIN:DAYLIGHT
TZOFFSETFROM:-0500
TZOFFSETTO:-0400
TZNAME:EDT
DTSTART:20240310T070000
END:DAYLIGHT
BEGIN:STANDARD
TZOFFSETFROM:-0400
TZOFFSETTO:-0500
TZNAME:EST
DTSTART:20241103T060000
END:STANDARD
END:VTIMEZONE
BEGIN:VEVENT
DTSTART;TZID=America/New_York:20230604T000000
DTEND;TZID=America/New_York:20230608T000000
DTSTAMP:20260424T072555
CREATED:20251205T200633Z
LAST-MODIFIED:20251205T200633Z
UID:21389-1685836800-1686182400@njdottechtransfer.net
SUMMARY:Third International Interactive Symposium on UHPC
DESCRIPTION:Ultra high performance concrete (UHPC) can be seen as one of the major breakthroughs in concrete technology in the last two centuries. The material has attracted the interest of many researchers\, designers\, practitioners\, agencies\, societies\, contractors and suppliers through its excellent mechanical performance and its resistance against environmental degradation. UHPC has been investigated in numerous aspects around the world and the research effort is increasing based on the number of published journal papers and conference articles. UHPC unites people\, disciplines and societies to achieve goals of high impact. Those goals are directed towards an enhancement of our safety\, health and living conditions by positively impacting our environment\, counteracting the degradation of the infrastructure\, and by providing inspiring\, sustainable and cost-efficient solutions to our current problems and to those to come.\nMore information on how to register here: https://www.regcytes.extension.iastate.edu/uhpc/register/
URL:https://njdottechtransfer.net/event/third-international-interactive-symposium-on-uhpc/
LOCATION:NJ
END:VEVENT
BEGIN:VEVENT
DTSTART;TZID=America/New_York:20230615T173000
DTEND;TZID=America/New_York:20230615T190000
DTSTAMP:20260424T072555
CREATED:20251205T200633Z
LAST-MODIFIED:20251205T200633Z
UID:21390-1686850200-1686855600@njdottechtransfer.net
SUMMARY:EDC-6 DABs Webinar: Engaging Stakeholders including Contractors and Consultants
DESCRIPTION:Webinar Series\nThe FHWA will present an eight-part webinar series on the EDC-6 Implementation Initiative for Digital As-Builts (DABs). The all-encompassing webinar series is design to increase overall understanding of DABs and how to advance their implementation\, demonstrate practical benefits\, address barriers to DABs implementation\, showcase practical solutions\, and establish DABs best practices. \n  * Building blocks of DABs\n  * Benefits and opportunities\n  * Processes for implementing and institutionalizing DABs\n  * Standard practices\, policies\, and best practices \nEngaging Stakeholders including Contractors and Consultants \nJun 15\, 2023 – 1:30 – 3:00 PM Eastern \nThis webinar will focus on educating participants on digital as-built implementation involving engaging stakeholders including contractors/consultants. The webinar will include user stories from DOT agencies and their Contractors/Consultants implementing DABs. The lead DOT agencies will share their experience on projects involved\, successful implementations\, methods used\, specifications\, challenges encountered and lessons learned. \nDetails » https://dabs-technologyinnovation.com/webinar-series/engage-digital-as-built-stakeholders-for-better-solutions/ | Register » https://dabs-technologyinnovation.com/webinar-7-registration/
URL:https://njdottechtransfer.net/event/edc-6-dabs-webinar-engaging-stakeholders-including-contractors-and-consultants/
LOCATION:NJ
END:VEVENT
BEGIN:VEVENT
DTSTART;TZID=America/New_York:20230620T170000
DTEND;TZID=America/New_York:20230620T183000
DTSTAMP:20260424T072555
CREATED:20251205T200633Z
LAST-MODIFIED:20251205T200633Z
UID:21391-1687280400-1687285800@njdottechtransfer.net
SUMMARY:Crowdsourcing Course Available as a Series of Webinars Continue June 20
DESCRIPTION:Is your local agency\, region\, or State interested in learning about the broad range of free or low-cost crowdsourced data to improve planning for operations or real-time operations?\nAre you ready to bring together key stakeholders to discuss your region’s operational challenges and how crowdsourced data might offer a viable solution? \nIf your response is yes\, attend or host the crowdsourcing course recently developed by the FHWA EDC-6 Crowdsourcing Innovation https://www.fhwa.dot.gov/innovation/everydaycounts/edc_6/crowdsourcing.cfm . \nThe Crowdsourcing Innovation Team in collaboration with the Intelligent Transportation Systems Joint Program Office (ITS JPO) Professional Capacity Building (PCB) Program is offering the crowdsourcing course through a series of five free webinars. https://www.pcb.its.dot.gov/t3/s230516_Crowdsourcing_for_Advancing_Operations-Introduction_and_Application_Highlights.aspx Webinars feature State and local practitioner perspectives to complement course content. Webinars will take place the third Tuesday of each month at 1:00 p.m. EST. The following highlights webinar dates and topics: \n  * May 16: Introduction and Application Highlights \n  * June 20: Data Sources and Data Management \n  * July 18: Traveler Information and Traffic Incident Management \n  * August 15: Road Weather and Arterial Management \n  * September 19: Emergency and Work Zone Management\, and Next Steps \nThe Crowdsourcing Course is intended for transportation operations managers\, transportation analysts\, consultants\, and university students focusing on transportation. Because it is an introductory course\, prior crowdsourcing experience is not required for participation. The course is intended to: \n  * Broaden participants’ understanding of how crowdsourced data from free navigation apps\, vehicle probes\, connected vehicles\, social media\, and other sources can improve transportation operations and safety. \n  * Help participants consider whether a specific application of crowdsourced data could meet their organization’s needs for improving transportation operations. \nClick here to register for the webinar. https://www.pcb.its.dot.gov/t3/s230516_Crowdsourcing_for_Advancing_Operations-Introduction_and_Application_Highlights.aspx To learn more about an in-person course delivery or for broader crowdsourcing questions\, please reach out to James Colyar mailto:james.colyar@dot.gov \, Ralph Volpe mailto:ralph.volpe@dot.gov \, and Greg Jones mailto:gregM.Jones@dot.gov \, the FHWA EDC-6 crowdsourcing coleads.
URL:https://njdottechtransfer.net/event/crowdsourcing-course-available-as-a-series-of-webinars-continue-june-20/
LOCATION:NJ
END:VEVENT
BEGIN:VEVENT
DTSTART;TZID=America/New_York:20230620T170000
DTEND;TZID=America/New_York:20230620T190000
DTSTAMP:20260424T072555
CREATED:20251205T200634Z
LAST-MODIFIED:20251205T200634Z
UID:21392-1687280400-1687287600@njdottechtransfer.net
SUMMARY:Focus on Reducing Rural Roadway Departures
DESCRIPTION:Focus on Reducing Rural Roadway Departures \nRegister Now for FoRRRwD Webinar: \nPutting the Proven Countermeasures to Work to Reduce Roadway Departures Part 2 \nJoin us for a Free Webinar on June 20\, 2023 \nJoin us for a free webinar on June 20\, 2023 from 1:00-3:00 pm ET/10:00am-12:00 pm PT\, hosted by FHWA in cooperation with the National Local Technical Assistance Program Association (NLTAPA) and the National Center for Rural Road Safety. Please see below for registration information and forward this announcement to anyone else who may be interested. \nThis webinar is free and open to anyone who is interested. \nRegistration: Participants must register in advance at: \nhttps://usdot.zoomgov.com/webinar/register/WN_-lkSJwrSRIui913yjHi6cQ https://nam02.safelinks.protection.outlook.com/?url=https:%2F%2Flnks.gd%2Fl%2FeyJhbGciOiJIUzI1NiJ9.eyJidWxsZXRpbl9saW5rX2lkIjoxMDIsInVyaSI6ImJwMjpjbGljayIsInVybCI6Imh0dHBzOi8vZ2NjMDIuc2FmZWxpbmtzLnByb3RlY3Rpb24ub3V0bG9vay5jb20vP3VybD1odHRwcyUzQSUyRiUyRnVzZG90Lnpvb21nb3YuY29tJTJGd2ViaW5hciUyRnJlZ2lzdGVyJTJGV05fLWxrU0p3clNSSXVpOTEzeWpIaTZjUSZkYXRhPTA1JTdDMDElN0NtaWNoYWVsLm1hdHprZSU0MGRvdC5nb3YlN0NlMDM1YzIyNjBjMmM0ZThkNzU5NTA4ZGI1MjM2MTJmMiU3Q2M0Y2QyNDViNDRmMDQzOTVhMWFhMzg0OGQyNThmNzhiJTdDMCU3QzAlN0M2MzgxOTQxNjQ0NDAzMDY4ODglN0NVbmtub3duJTdDVFdGcGJHWnNiM2Q4ZXlKV0lqb2lNQzR3TGpBd01EQWlMQ0pRSWpvaVYybHVNeklpTENKQlRpSTZJazFoYVd3aUxDSlhWQ0k2TW4wJTNEJTdDMzAwMCU3QyU3QyU3QyZzZGF0YT1GbnEyZEw2dkx5Uk5HaEV5TUlFZ2clMkZTdGc1N0RTOXhHdWJxYndrMXRjVzglM0QmcmVzZXJ2ZWQ9MCIsImJ1bGxldGluX2lkIjoiMjAyMzA1MjQuNzcyMjE1MjEifQ.ORJEuk0gdCNISgNiWDTCsvXYwc1aOgGEhhvKUnb0zfU%2Fs%2F1159082835%2Fbr%2F203652567021-l&data=05%7C01%7Cdavid.aimen%40ejb.rutgers.edu%7C450b09bf476b4a79390008db5c72a36c%7Cb92d2b234d35447093ff69aca6632ffe%7C1%7C0%7C638205419704644617%7CUnknown%7CTWFpbGZsb3d8eyJWIjoiMC4wLjAwMDAiLCJQIjoiV2luMzIiLCJBTiI6Ik1haWwiLCJXVCI6Mn0%3D%7C3000%7C%7C%7C&sdata=cd%2F28IkEA3%2B7%2FsAXOTXLXiD6%2BnUdFMAe08K5h4%2FyzMU%3D&reserved=0 \nAfter you register you will receive an email confirmation with the webinar link. Please note that this link is unique to you and should not be shared with others. However\, if multiple people will be attending in one room from one computer\, only one person needs to register. \nAccess: The Federal Highway Administration is committed to providing equal access to this webinar for all participants. Closed captioning will be provided. If you need alternative formats or services because of a disability\, please contact Jennifer Symoun at jennifer.symoun@toxcel.com mailto:jennifer.symoun@toxcel.com with your request one week prior to the webinar. \nCredit: Participation certificates that may be used for 2 professional development hour (PDH) credits (if accepted by your licensing agency) will be available to those who attend the live webinar. \nWebinar Recordings: If you are unable to attend but are interested in receiving a link to the recording\, please notify jennifer.symoun@toxcel.com mailto:jennifer.symoun@toxcel.com . All FoRRRwD webinars are recorded and available at https://highways.dot.gov/safety/rwd/forrrwd/forrrwd-resources https://nam02.safelinks.protection.outlook.com/?url=https:%2F%2Flnks.gd%2Fl%2FeyJhbGciOiJIUzI1NiJ9.eyJidWxsZXRpbl9saW5rX2lkIjoxMDMsInVyaSI6ImJwMjpjbGljayIsInVybCI6Imh0dHBzOi8vaGlnaHdheXMuZG90Lmdvdi9zYWZldHkvcndkL2ZvcnJyd2QvZm9ycnJ3ZC1yZXNvdXJjZXMiLCJidWxsZXRpbl9pZCI6IjIwMjMwNTI0Ljc3MjIxNTIxIn0.X__K03Dqwr0Hl9pJ6xYSr87zugOww6Qr1U2i-I27c_8%2Fs%2F1159082835%2Fbr%2F203652567021-l&data=05%7C01%7Cdavid.aimen%40ejb.rutgers.edu%7C450b09bf476b4a79390008db5c72a36c%7Cb92d2b234d35447093ff69aca6632ffe%7C1%7C0%7C638205419704644617%7CUnknown%7CTWFpbGZsb3d8eyJWIjoiMC4wLjAwMDAiLCJQIjoiV2luMzIiLCJBTiI6Ik1haWwiLCJXVCI6Mn0%3D%7C3000%7C%7C%7C&sdata=ffePoMa3zr7YWLES3XaOLcH%2FEKn51CuS2L5W0Dq0STc%3D&reserved=0 \nQuestions? Please do not hesitate to contact support contractor\, Jennifer Symoun\, toXcel\, jennifer.symoun@toxcel.com mailto:jennifer.symoun@toxcel.com
URL:https://njdottechtransfer.net/event/focus-on-reducing-rural-roadway-departures/
LOCATION:NJ
END:VEVENT
END:VCALENDAR