BEGIN:VCALENDAR
VERSION:2.0
PRODID:-//NJDOT Technology Transfer - ECPv6.15.17.1//NONSGML v1.0//EN
CALSCALE:GREGORIAN
METHOD:PUBLISH
X-WR-CALNAME:NJDOT Technology Transfer
X-ORIGINAL-URL:https://njdottechtransfer.net
X-WR-CALDESC:Events for NJDOT Technology Transfer
REFRESH-INTERVAL;VALUE=DURATION:PT1H
X-Robots-Tag:noindex
X-PUBLISHED-TTL:PT1H
BEGIN:VTIMEZONE
TZID:America/New_York
BEGIN:DAYLIGHT
TZOFFSETFROM:-0500
TZOFFSETTO:-0400
TZNAME:EDT
DTSTART:20220313T070000
END:DAYLIGHT
BEGIN:STANDARD
TZOFFSETFROM:-0400
TZOFFSETTO:-0500
TZNAME:EST
DTSTART:20221106T060000
END:STANDARD
BEGIN:DAYLIGHT
TZOFFSETFROM:-0500
TZOFFSETTO:-0400
TZNAME:EDT
DTSTART:20230312T070000
END:DAYLIGHT
BEGIN:STANDARD
TZOFFSETFROM:-0400
TZOFFSETTO:-0500
TZNAME:EST
DTSTART:20231105T060000
END:STANDARD
BEGIN:DAYLIGHT
TZOFFSETFROM:-0500
TZOFFSETTO:-0400
TZNAME:EDT
DTSTART:20240310T070000
END:DAYLIGHT
BEGIN:STANDARD
TZOFFSETFROM:-0400
TZOFFSETTO:-0500
TZNAME:EST
DTSTART:20241103T060000
END:STANDARD
END:VTIMEZONE
BEGIN:VEVENT
DTSTART;TZID=America/New_York:20230710T160000
DTEND;TZID=America/New_York:20230710T173000
DTSTAMP:20260424T055408
CREATED:20251205T200648Z
LAST-MODIFIED:20251205T200648Z
UID:21393-1689004800-1689010200@njdottechtransfer.net
SUMMARY:Lunchtime Tech Talk! Webinar: Advanced Reinforced Concrete Materials for Transportation Infrastructure
DESCRIPTION:Please join the NJDOT Bureau of Research and attend our next Lunchtime Tech Talk! Webinar\, Advanced Reinforced Concrete Materials for Transportation Infrastructure\, to learn more about this recently completed research study.\nNew Jersey’s transportation infrastructure systems must resist conditioning from the natural environment and physical demands from service loading to meet the needs of users statewide. Reinforced concrete\, which is widely used\, deteriorates under environmental conditioning\, contributing to durability and maintenance challenges. Notably\, new materials\, such as concrete materials with high ductility\, have been developed to improve the service life of reinforced concrete transportation infrastructure. \nIn this webinar\, Co-Directors of New Jersey Institute of Technology’s Materials and Structures Laboratory\, Dr. Matthew Bendelt\, and Dr. Matthew Adams\, both Associate Professors at the New Jersey Institute of Technology\, will speak about the team’s research conducted to assess the mechanical properties and long-term durability of these systems. Research results show benefits across a range of metrics suggesting the potential to substantially improve the in-service behavior of reinforced concrete transportation infrastructure. For example\, life-cycle cost analyses were performed that show that bridge decks made with ductile concrete materials have high economic potential with structural deterioration occurring at a significantly slower rate compared to that of reinforced normal strength concrete systems. \nThis Lunchtime Tech Talk! webinar is free\, but registration is required to receive the URL link to the webinar. PE credits are available\, but you must be registered for the event. Click through the link below to register: \nLunchtime Tech Talk! Webinar: Advanced Reinforced Concrete Materials for Transportation Infrastructure https://rutgers.zoom.us/webinar/register/WN_BJfKhLrATf2CAS0QDPNXjg\nDate: Monday\, July 10\, 2023\nTime: 12:00 – 1:15 PM
URL:https://njdottechtransfer.net/event/lunchtime-tech-talk-webinar-advanced-reinforced-concrete-materials-for-transportation-infrastructure/
LOCATION:NJ
END:VEVENT
BEGIN:VEVENT
DTSTART;TZID=America/New_York:20230713T160000
DTEND;TZID=America/New_York:20230713T170000
DTSTAMP:20260424T055408
CREATED:20251205T200648Z
LAST-MODIFIED:20251205T200648Z
UID:21394-1689264000-1689267600@njdottechtransfer.net
SUMMARY:Fleet EVs 101 Webinar
DESCRIPTION:Please join us on July 13th\, 2023 at 12:00 PM for Fleet EVs 101 Webinar\, the first in a series of Electric vehicle webinars hosted by the NJ ZIP Help Desk. This webinar is recommended for any vendor or purchaser participating in the NZ ZIP program or anyone who is interested in learning more about owning electric vehicles. The webinar will be an hour in length\, with a 30-minute presentation and a full 30-minutes of open Q&A. The presentation will be in English.\nThis webinar will: \n  * Assist you with deciding what type of charging station is best for your chosen EV\n  * Outline potential locations for charging stations that will work best for your business\n  * Give suggestions for establishing a charging schedule for your fleet\n  * Recommend strategies for determining your fleet’s usage schedule \nQuestions on additional topics relating to EV ownership can be asked during the open Q&A. \nTo register visit: https://rutgers.zoom.us/webinar/register/WN_EmukKUmjQGyhYSRq9r50Cg\nrutgers.zoom.us/webinar/register/WN_EmukKUmjQGyhYSRq9r50Cg https://rutgers.zoom.us/webinar/register/WN_EmukKUmjQGyhYSRq9r50Cg\nTo learn more about the NJ ZIP program\, visit: https://www.njeda.gov/njzip/ https://nam02.safelinks.protection.outlook.com/?url=https:%2F%2Fwww.njeda.gov%2Fnjzip%2F&data=05%7C01%7Cdavid.aimen%40ejb.rutgers.edu%7C31fe2f480cad4278a11908db83b13637%7Cb92d2b234d35447093ff69aca6632ffe%7C1%7C0%7C638248569367061343%7CUnknown%7CTWFpbGZsb3d8eyJWIjoiMC4wLjAwMDAiLCJQIjoiV2luMzIiLCJBTiI6Ik1haWwiLCJXVCI6Mn0%3D%7C3000%7C%7C%7C&sdata=GWDQ1%2BsIKip9GUVJO%2BgCFKgfHpvIgZQqtZGIgYN4ToU%3D&reserved=0 or contact the help desk at the email/phone number listed below.
URL:https://njdottechtransfer.net/event/fleet-evs-101-webinar/
LOCATION:NJ
END:VEVENT
BEGIN:VEVENT
DTSTART;TZID=America/New_York:20230718T170000
DTEND;TZID=America/New_York:20230718T170000
DTSTAMP:20260424T055408
CREATED:20251205T200648Z
LAST-MODIFIED:20251205T200648Z
UID:21395-1689699600-1689699600@njdottechtransfer.net
SUMMARY:Crowdsourcing Webinar - Traveler Information and Traffic Incident Management
DESCRIPTION:Register and Attend the Final Three Crowdsourcing Course Webinars https://nam02.safelinks.protection.outlook.com/?url=https:%2F%2Flnks.gd%2Fl%2FeyJhbGciOiJIUzI1NiJ9.eyJidWxsZXRpbl9saW5rX2lkIjoxMDAsInVyaSI6ImJwMjpjbGljayIsInVybCI6Imh0dHBzOi8vd3d3LnBjYi5pdHMuZG90Lmdvdi90My9zMjMwNzE4X0Nyb3dkc291cmNpbmdfQ291cnNlLVRyYXZlbGVyX0luZm9ybWF0aW9uX2FuZF9UcmFmZmljX0luY2lkZW50X01hbmFnZW1lbnQuYXNweCIsImJ1bGxldGluX2lkIjoiMjAyMzA3MTMuNzk1OTUwOTEifQ.qCSkIVNOlRsUwN0J66bMxFruQ8ZbIpetw6grENZ7XlM%2Fs%2F1159082835%2Fbr%2F222613707427-l&data=05%7C01%7Cdavid.aimen%40ejb.rutgers.edu%7C151f4eb950384956595508db83a77aed%7Cb92d2b234d35447093ff69aca6632ffe%7C1%7C0%7C638248527604274096%7CUnknown%7CTWFpbGZsb3d8eyJWIjoiMC4wLjAwMDAiLCJQIjoiV2luMzIiLCJBTiI6Ik1haWwiLCJXVCI6Mn0%3D%7C3000%7C%7C%7C&sdata=jPjgH3GGs6AOUFcQ4jucncSCwAp7l0ivQzm1UX47cEE%3D&reserved=0 https://nam02.safelinks.protection.outlook.com/?url=https:%2F%2Flnks.gd%2Fl%2FeyJhbGciOiJIUzI1NiJ9.eyJidWxsZXRpbl9saW5rX2lkIjoxMDEsInVyaSI6ImJwMjpjbGljayIsInVybCI6Imh0dHBzOi8vd3d3LnBjYi5pdHMuZG90Lmdvdi90My9zMjMwNTE2L3MyMzA1MTZfQ3Jvd2Rzb3VyY2luZ19mb3JfQWR2YW5jaW5nX09wZXJhdGlvbnNfSW50cm9kdWN0aW9uX2FuZF9BcHBsaWNhdGlvbl9IaWdobGlnaHRzX2ludHJvLmFzcHgiLCJidWxsZXRpbl9pZCI6IjIwMjMwNzEzLjc5NTk1MDkxIn0.9G2UPXRNEy8WJ-u0f5iA6MXCNNNIdNsiEjMfvM0sLrU%2Fs%2F1159082835%2Fbr%2F222613707427-l&data=05%7C01%7Cdavid.aimen%40ejb.rutgers.edu%7C151f4eb950384956595508db83a77aed%7Cb92d2b234d35447093ff69aca6632ffe%7C1%7C0%7C638248527604430355%7CUnknown%7CTWFpbGZsb3d8eyJWIjoiMC4wLjAwMDAiLCJQIjoiV2luMzIiLCJBTiI6Ik1haWwiLCJXVCI6Mn0%3D%7C3000%7C%7C%7C&sdata=skH4Qz349tOocZz3joSCPDfAIGpmen3VCgCljdKV7V8%3D&reserved=0 \nThe next Crowdsourcing Course webinar takes place Tuesday\, July 18\, at 1 p.m. ET. The webinar will deliver course modules on traffic incident management (TIM) and traveler information. The following practitioners will present their agencies’ efforts specific to these transportation systems management and operation strategies: \n  * Sal Cowan\, New Jersey Department of Transportation \n  * John Parker\, Pennsylvania Turnpike Commission. \nThe FHWA EDC-6 Crowdsourcing for Advancing Operations https://nam02.safelinks.protection.outlook.com/?url=https:%2F%2Flnks.gd%2Fl%2FeyJhbGciOiJIUzI1NiJ9.eyJidWxsZXRpbl9saW5rX2lkIjoxMDIsInVyaSI6ImJwMjpjbGljayIsInVybCI6Imh0dHBzOi8vd3d3LmZod2EuZG90Lmdvdi9pbm5vdmF0aW9uL2V2ZXJ5ZGF5Y291bnRzL2VkY182L2Nyb3dkc291cmNpbmcuY2ZtIiwiYnVsbGV0aW5faWQiOiIyMDIzMDcxMy43OTU5NTA5MSJ9.A6214ani6P9Nd9gPwo–Eso1SdCLECdKtL4Ndru5I00%2Fs%2F1159082835%2Fbr%2F222613707427-l&data=05%7C01%7Cdavid.aimen%40ejb.rutgers.edu%7C151f4eb950384956595508db83a77aed%7Cb92d2b234d35447093ff69aca6632ffe%7C1%7C0%7C638248527604430355%7CUnknown%7CTWFpbGZsb3d8eyJWIjoiMC4wLjAwMDAiLCJQIjoiV2luMzIiLCJBTiI6Ik1haWwiLCJXVCI6Mn0%3D%7C3000%7C%7C%7C&sdata=c0NEuyMVlJgFvBy9IrpsNg7SKYFj9Z0rnC7Q0Vk%2BjC4%3D&reserved=0 Program\, in collaboration with the Intelligent Transportation Systems Joint Program Office (ITS JPO) Professional Capacity Building (PCB) Program\, offers the crowdsourcing course through a series of five free webinars: \n  1. May 16: Introduction and Application Highlights. Recording now available. https://nam02.safelinks.protection.outlook.com/?url=https:%2F%2Flnks.gd%2Fl%2FeyJhbGciOiJIUzI1NiJ9.eyJidWxsZXRpbl9saW5rX2lkIjoxMDMsInVyaSI6ImJwMjpjbGljayIsInVybCI6Imh0dHBzOi8vd3d3LnBjYi5pdHMuZG90Lmdvdi90My9zMjMwNTE2L3MyMzA1MTZfQ3Jvd2Rzb3VyY2luZ19mb3JfQWR2YW5jaW5nX09wZXJhdGlvbnNfSW50cm9kdWN0aW9uX2FuZF9BcHBsaWNhdGlvbl9IaWdobGlnaHRzX2ludHJvLmFzcHgiLCJidWxsZXRpbl9pZCI6IjIwMjMwNzEzLjc5NTk1MDkxIn0.HcLf7BHrEYhyhE-mrfDV-ATVwYpRa7FQefy7B3UoorY%2Fs%2F1159082835%2Fbr%2F222613707427-l&data=05%7C01%7Cdavid.aimen%40ejb.rutgers.edu%7C151f4eb950384956595508db83a77aed%7Cb92d2b234d35447093ff69aca6632ffe%7C1%7C0%7C638248527604430355%7CUnknown%7CTWFpbGZsb3d8eyJWIjoiMC4wLjAwMDAiLCJQIjoiV2luMzIiLCJBTiI6Ik1haWwiLCJXVCI6Mn0%3D%7C3000%7C%7C%7C&sdata=8dYg2X3DhZllYcT6XV63i0eioGQ7%2FW%2BhdKZH1cOZyUo%3D&reserved=0 \n  2. June 20: Data Sources and Management. Recording available soon. \n  3. July 18: Traveler Information and Traffic Incident Management. Register to attend this webinar https://nam02.safelinks.protection.outlook.com/?url=https:%2F%2Flnks.gd%2Fl%2FeyJhbGciOiJIUzI1NiJ9.eyJidWxsZXRpbl9saW5rX2lkIjoxMDQsInVyaSI6ImJwMjpjbGljayIsInVybCI6Imh0dHBzOi8vd3d3LnBjYi5pdHMuZG90Lmdvdi90My9zMjMwNzE4X0Nyb3dkc291cmNpbmdfQ291cnNlLVRyYXZlbGVyX0luZm9ybWF0aW9uX2FuZF9UcmFmZmljX0luY2lkZW50X01hbmFnZW1lbnQuYXNweCIsImJ1bGxldGluX2lkIjoiMjAyMzA3MTMuNzk1OTUwOTEifQ.H307mmHBeETleWkdCNPzvHGnd6U07Z_oG0XVCKMSlf8%2Fs%2F1159082835%2Fbr%2F222613707427-l&data=05%7C01%7Cdavid.aimen%40ejb.rutgers.edu%7C151f4eb950384956595508db83a77aed%7Cb92d2b234d35447093ff69aca6632ffe%7C1%7C0%7C638248527604430355%7CUnknown%7CTWFpbGZsb3d8eyJWIjoiMC4wLjAwMDAiLCJQIjoiV2luMzIiLCJBTiI6Ik1haWwiLCJXVCI6Mn0%3D%7C3000%7C%7C%7C&sdata=OQTmhjXzO%2FXCMcOVO8UftwpRe2htb9NhoYLvY%2FqMt5w%3D&reserved=0 . \n  4. August 15: Road Weather and Arterial Management. Register to attend this webinar https://nam02.safelinks.protection.outlook.com/?url=https:%2F%2Flnks.gd%2Fl%2FeyJhbGciOiJIUzI1NiJ9.eyJidWxsZXRpbl9saW5rX2lkIjoxMDUsInVyaSI6ImJwMjpjbGljayIsInVybCI6Imh0dHBzOi8vdXNkb3Quem9vbWdvdi5jb20vd2ViaW5hci9yZWdpc3Rlci9XTl9RUmd1NzBtUlRZUzJCdF9QNmpPMVh3IiwiYnVsbGV0aW5faWQiOiIyMDIzMDcxMy43OTU5NTA5MSJ9.TTungYe_34hiIBnyNTBy2up5Xvy_oEG5NsRFevAmm1c%2Fs%2F1159082835%2Fbr%2F222613707427-l&data=05%7C01%7Cdavid.aimen%40ejb.rutgers.edu%7C151f4eb950384956595508db83a77aed%7Cb92d2b234d35447093ff69aca6632ffe%7C1%7C0%7C638248527604430355%7CUnknown%7CTWFpbGZsb3d8eyJWIjoiMC4wLjAwMDAiLCJQIjoiV2luMzIiLCJBTiI6Ik1haWwiLCJXVCI6Mn0%3D%7C3000%7C%7C%7C&sdata=DxxLEgeo%2FW4oRaeDpcnF73pFcixuodUMz%2FiQAD1MkiA%3D&reserved=0 . \n  5. September 19: Emergency and Work Zone Management\, and Next Steps. Register to attend this webinar https://nam02.safelinks.protection.outlook.com/?url=https:%2F%2Flnks.gd%2Fl%2FeyJhbGciOiJIUzI1NiJ9.eyJidWxsZXRpbl9saW5rX2lkIjoxMDYsInVyaSI6ImJwMjpjbGljayIsInVybCI6Imh0dHBzOi8vdXNkb3Quem9vbWdvdi5jb20vd2ViaW5hci9yZWdpc3Rlci9XTl9kODZPU2ljcFRQcVV6N1FWY2dYOHVRIiwiYnVsbGV0aW5faWQiOiIyMDIzMDcxMy43OTU5NTA5MSJ9.rreW35Hb3pfBaue9_iYXxAuxt2OO0tZkorieJsNEErs%2Fs%2F1159082835%2Fbr%2F222613707427-l&data=05%7C01%7Cdavid.aimen%40ejb.rutgers.edu%7C151f4eb950384956595508db83a77aed%7Cb92d2b234d35447093ff69aca6632ffe%7C1%7C0%7C638248527604430355%7CUnknown%7CTWFpbGZsb3d8eyJWIjoiMC4wLjAwMDAiLCJQIjoiV2luMzIiLCJBTiI6Ik1haWwiLCJXVCI6Mn0%3D%7C3000%7C%7C%7C&sdata=9U5y48lLSeXHbZ83a%2FUJgWp5qx9OuyBKB%2FCGqBSGeVA%3D&reserved=0 . \nParticipants are encouraged to review the first two webinar recordings to better understand the broader context for the information delivered in this webinar. \nTo learn more about an in-person course delivery or for broader crowdsourcing questions\, please reach out to James Colyar mailto:james.colyar@dot.gov \, Ralph Volpe mailto:ralph.volpe@dot.gov \, and Greg Jones mailto:gregM.Jones@dot.gov \, the FHWA EDC-6 crowdsourcing coleads.
URL:https://njdottechtransfer.net/event/crowdsourcing-webinar-traveler-information-and-traffic-incident-management/
LOCATION:NJ
END:VEVENT
BEGIN:VEVENT
DTSTART;TZID=America/New_York:20230726T170000
DTEND;TZID=America/New_York:20230726T180000
DTSTAMP:20260424T055408
CREATED:20251205T200648Z
LAST-MODIFIED:20251205T200648Z
UID:21396-1690390800-1690394400@njdottechtransfer.net
SUMMARY:USDOT Project Delivery Center of Excellence Kickoff: Delivering the Benefits of the Bipartisan Infrastructure Law.
DESCRIPTION:Join us https://nam02.safelinks.protection.outlook.com/?url=https:%2F%2Flnks.gd%2Fl%2FeyJhbGciOiJIUzI1NiJ9.eyJidWxsZXRpbl9saW5rX2lkIjoxMDEsInVyaSI6ImJwMjpjbGljayIsInVybCI6Imh0dHBzOi8vdXNkb3Quem9vbWdvdi5jb20vd2ViaW5hci9yZWdpc3Rlci9XTl9tQmRXTlIzQVQtNkRDWWpKVnZ0SlJ3IiwiYnVsbGV0aW5faWQiOiIyMDIzMDcxMi43OTU3Mzk4MSJ9.lOfKekSV0nL_1WjauZUOBOUp9DDwkxIiR9RME0UQdIw%2Fs%2F1802951441%2Fbr%2F222558421256-l&data=05%7C01%7Cdavid.aimen%40ejb.rutgers.edu%7Cd0c899e7e50d4f6309bc08db8321b019%7Cb92d2b234d35447093ff69aca6632ffe%7C1%7C0%7C638247952938009832%7CUnknown%7CTWFpbGZsb3d8eyJWIjoiMC4wLjAwMDAiLCJQIjoiV2luMzIiLCJBTiI6Ik1haWwiLCJXVCI6Mn0%3D%7C3000%7C%7C%7C&sdata=DFU%2F%2BJkGhatMSz3FTDr%2B6iW1lLjEjiNO67Q%2FY3E%2Fmog%3D&reserved=0 on Wednesday\, July 26\, 2023 at 1:00 p.m. ET for the launch of the USDOT Project Delivery Center of Excellence at the kickoff of its thought leadership event series: Delivering the Benefits of the Bipartisan Infrastructure Law.\nPlease join U.S. Transportation Secretary Pete Buttigieg and Professor Bent Flyvbjerg\, First BT Professor and Inaugural Chair of Major Programme Management\, University of Oxford’s Saïd Business School and Villum Kann Rasmussen Professor and Chair of Major Program Management\, IT University of Copenhagen\, for a conversation about the importance of transportation infrastructure project delivery. \nLearn more https://nam02.safelinks.protection.outlook.com/?url=https:%2F%2Flnks.gd%2Fl%2FeyJhbGciOiJIUzI1NiJ9.eyJidWxsZXRpbl9saW5rX2lkIjoxMDIsInVyaSI6ImJwMjpjbGljayIsInVybCI6Imh0dHBzOi8vd3d3LnZvbHBlLmRvdC5nb3YvZXZlbnRzL3Nlcmllcy1raWNrb2ZmLWFuZC1sYXVuY2gtdXNkb3QtcHJvamVjdC1kZWxpdmVyeS1jZW50ZXItZXhjZWxsZW5jZSIsImJ1bGxldGluX2lkIjoiMjAyMzA3MTIuNzk1NzM5ODEifQ.pIWlYsEQHtL6SD-z9u98UF-cKDeqLAdmrClCJnM-I7w%2Fs%2F1802951441%2Fbr%2F222558421256-l&data=05%7C01%7Cdavid.aimen%40ejb.rutgers.edu%7Cd0c899e7e50d4f6309bc08db8321b019%7Cb92d2b234d35447093ff69aca6632ffe%7C1%7C0%7C638247952938009832%7CUnknown%7CTWFpbGZsb3d8eyJWIjoiMC4wLjAwMDAiLCJQIjoiV2luMzIiLCJBTiI6Ik1haWwiLCJXVCI6Mn0%3D%7C3000%7C%7C%7C&sdata=enARwn9rU2E%2FUg6%2FwLAiXxF9k3mokEcc925H0I0lCko%3D&reserved=0 about this virtual event\, and register here https://nam02.safelinks.protection.outlook.com/?url=https:%2F%2Flnks.gd%2Fl%2FeyJhbGciOiJIUzI1NiJ9.eyJidWxsZXRpbl9saW5rX2lkIjoxMDMsInVyaSI6ImJwMjpjbGljayIsInVybCI6Imh0dHBzOi8vdXNkb3Quem9vbWdvdi5jb20vd2ViaW5hci9yZWdpc3Rlci9XTl9tQmRXTlIzQVQtNkRDWWpKVnZ0SlJ3IiwiYnVsbGV0aW5faWQiOiIyMDIzMDcxMi43OTU3Mzk4MSJ9.qYk2Uo2qPVhdfFKhuoWh2G9B7tK9c5CCHpNp1PrXyY8%2Fs%2F1802951441%2Fbr%2F222558421256-l&data=05%7C01%7Cdavid.aimen%40ejb.rutgers.edu%7Cd0c899e7e50d4f6309bc08db8321b019%7Cb92d2b234d35447093ff69aca6632ffe%7C1%7C0%7C638247952938009832%7CUnknown%7CTWFpbGZsb3d8eyJWIjoiMC4wLjAwMDAiLCJQIjoiV2luMzIiLCJBTiI6Ik1haWwiLCJXVCI6Mn0%3D%7C3000%7C%7C%7C&sdata=%2FdjrmdBRz77yVto6B4p2z5apPM86F3X3PyVnOSCfSrE%3D&reserved=0 . \nFind more https://nam02.safelinks.protection.outlook.com/?url=https:%2F%2Flnks.gd%2Fl%2FeyJhbGciOiJIUzI1NiJ9.eyJidWxsZXRpbl9saW5rX2lkIjoxMDQsInVyaSI6ImJwMjpjbGljayIsInVybCI6Imh0dHBzOi8vd3d3LnZvbHBlLmRvdC5nb3YvcHJvamVjdC1kZWxpdmVyeS1jZW50ZXItZXhjZWxsZW5jZS9kZWxpdmVyaW5nLWJlbmVmaXRzLWJpcGFydGlzYW4taW5mcmFzdHJ1Y3R1cmUtbGF3IiwiYnVsbGV0aW5faWQiOiIyMDIzMDcxMi43OTU3Mzk4MSJ9.nf5zdCHw5b-PvyABSAOxCnfTMsO-d2b-SiIleR-QDJQ%2Fs%2F1802951441%2Fbr%2F222558421256-l&data=05%7C01%7Cdavid.aimen%40ejb.rutgers.edu%7Cd0c899e7e50d4f6309bc08db8321b019%7Cb92d2b234d35447093ff69aca6632ffe%7C1%7C0%7C638247952938009832%7CUnknown%7CTWFpbGZsb3d8eyJWIjoiMC4wLjAwMDAiLCJQIjoiV2luMzIiLCJBTiI6Ik1haWwiLCJXVCI6Mn0%3D%7C3000%7C%7C%7C&sdata=tda%2B21%2BxC7gRxl2A2bzt7eB1CUHqEM4kcruXO2aRVPE%3D&reserved=0 about the full event series line-up—and register https://nam02.safelinks.protection.outlook.com/?url=https:%2F%2Flnks.gd%2Fl%2FeyJhbGciOiJIUzI1NiJ9.eyJidWxsZXRpbl9saW5rX2lkIjoxMDUsInVyaSI6ImJwMjpjbGljayIsInVybCI6Imh0dHBzOi8vdXNkb3Quem9vbWdvdi5jb20vd2ViaW5hci9yZWdpc3Rlci9XTl9tQmRXTlIzQVQtNkRDWWpKVnZ0SlJ3IiwiYnVsbGV0aW5faWQiOiIyMDIzMDcxMi43OTU3Mzk4MSJ9.TncP5hG5bcyuDIyAaV97NXW8dmWmyhTI31fRPIPjT4Q%2Fs%2F1802951441%2Fbr%2F222558421256-l&data=05%7C01%7Cdavid.aimen%40ejb.rutgers.edu%7Cd0c899e7e50d4f6309bc08db8321b019%7Cb92d2b234d35447093ff69aca6632ffe%7C1%7C0%7C638247952938009832%7CUnknown%7CTWFpbGZsb3d8eyJWIjoiMC4wLjAwMDAiLCJQIjoiV2luMzIiLCJBTiI6Ik1haWwiLCJXVCI6Mn0%3D%7C3000%7C%7C%7C&sdata=3iH5MnZqE8BMVkczgP5wHH9V3WL%2B8DSq8yYusqDjTDk%3D&reserved=0 for the full series\, taking place through fall 2023.
URL:https://njdottechtransfer.net/event/usdot-project-delivery-center-of-excellence-kickoff-delivering-the-benefits-of-the-bipartisan-infrastructure-law/
LOCATION:NJ
END:VEVENT
BEGIN:VEVENT
DTSTART;TZID=America/New_York:20230726T170000
DTEND;TZID=America/New_York:20230726T183000
DTSTAMP:20260424T055408
CREATED:20251205T200649Z
LAST-MODIFIED:20251205T200649Z
UID:21397-1690390800-1690396200@njdottechtransfer.net
SUMMARY:TRB Webinar: Transportation Resilience Addressing Climate Change Challenges
DESCRIPTION:State agencies and businesses have been improving the resilience of transportation systems to climate change and extreme weather impacts. TRB will host a webinar on Wednesday\, July 26\, 2023 from 1:00 PM to 2:30 PM Eastern that will highlight emerging evidence-based best practices on resilience planning and projects\, resilient recovery\, and resilience processes and programs. Presenters will focus on understanding vulnerability and improving resilience to climate change and extreme weather events impacting all modes of transportation. Presenters will also share efforts to integrate resilience in other aspects of the transportation sector\, including design\, engineering\, planning\, asset management\, operations\, maintenance\, emergency management\, and communications.Click to: REGISTER https://webinar.mytrb.org/Webinars/Details/1692\nThis webinar will support TRB’s Transportation Resilience 2023 https://www.nationalacademies.org/event/11-13-2023/trbs-transportation-resilience-2023#:~:text=Convened%20by%20TRB\,%20Transportation%20Resilience\,extreme%20weather%20events\,%20and%20disasters. conference that will be held November 13-15\, 2023 in Washington\, D.C. This webinar is sponsored by TRB’s Standing Technical Committee on Extreme Weather and Climate Adaptation.\nRegistration is free for employees of TRB sponsors as well as Titanium and Cobalt Global Affiliates. The registration rate for all other attendees is $100. Sign into MyTRB.org https://www.mytrb.org/ to view registration information. Contact Patrice Davenport mailto:pdavenport@nas.edu?subject=Becoming%20a%20TRB%20sponsor%20or%20affiliate%20-%20webinars to inquire about becoming a TRB sponsor or global affiliate organization.\nA recording will be sent to all registrants after the webinar.\nWebinar agenda and presenters\n  1. Port Authority of New York and New Jersey’s (PANYNJ) resilience program and projects reducing climate change and extreme weather impacts – Joshua DeFlorio\, PANYNJ\n  2. U.S. Department of Transportation (U.S. DOT) resilience and climate change programs\, new risk and resilience coalition – Heather Holsinger\, U.S. DOT\n  3. TRB’s Transportation Resilience 2023 https://www.nationalacademies.org/event/11-13-2023/trbs-transportation-resilience-2023 conference – Mark Abkowitz\, Vanderbilt University\n  4. Question and answer session moderated by Steve Olmsted\, Arizona Department of Transportation\nThe first 60 minutes of the webinar will be for presentations and the final 30 minutes will be reserved for audience questions.\nLearning Objectives\nAt the end of this webinar\, participants will be able to:\n  1. Prioritize and evaluate new methods and their performance on resilience investments\n  2. Share approaches for integrating climate resilience into agency processes\, design standards\, and standards of practice\n  3. Develop common understanding of transportation resilience concepts and state of practice
URL:https://njdottechtransfer.net/event/trb-webinar-transportation-resilience-addressing-climate-change-challenges/
LOCATION:NJ
END:VEVENT
BEGIN:VEVENT
DTSTART;TZID=America/New_York:20230726T173000
DTEND;TZID=America/New_York:20230726T190000
DTSTAMP:20260424T055408
CREATED:20251205T200703Z
LAST-MODIFIED:20251205T200703Z
UID:21398-1690392600-1690398000@njdottechtransfer.net
SUMMARY:Talking TIM Webinar: Emergency Vehicle Preemption Technologies and Benefits
DESCRIPTION:Register for the July 26\, 2023\, Talking TIM webinar https://nam02.safelinks.protection.outlook.com/?url=https:%2F%2Flnks.gd%2Fl%2FeyJhbGciOiJIUzI1NiJ9.eyJidWxsZXRpbl9saW5rX2lkIjoxMDAsInVyaSI6ImJwMjpjbGljayIsInVybCI6Imh0dHBzOi8vdXMwMndlYi56b29tLnVzL3dlYmluYXIvcmVnaXN0ZXIvV05fZGhudWxQME1RN1dyMFA5WFB1ODZGUSMvcmVnaXN0cmF0aW9uIiwiYnVsbGV0aW5faWQiOiIyMDIzMDcyNS44MDE1ODEyMSJ9.-spWBzlaLOvnEmhFWl0v7ma2DMVq3wdX2FM1U4PyY4M%2Fs%2F1159082835%2Fbr%2F223164916605-l&data=05%7C01%7Cdavid.aimen%40ejb.rutgers.edu%7Ccb27d5000f014c5e4e0a08db8d2a08e0%7Cb92d2b234d35447093ff69aca6632ffe%7C1%7C0%7C638258983896693391%7CUnknown%7CTWFpbGZsb3d8eyJWIjoiMC4wLjAwMDAiLCJQIjoiV2luMzIiLCJBTiI6Ik1haWwiLCJXVCI6Mn0%3D%7C3000%7C%7C%7C&sdata=iY8VIc47ubzPOQs9H01WxSAG2gt0vQJnho3xA783SNw%3D&reserved=0 \, taking place 1:30 – 3:00 p.m. EDT. This month will feature the following presentations from members of our TIM community:\n  * Emergency Vehicle Preemption in the Phoenix\, AZ Region – Jeff Jenq\, Transportation System Management and Operations Program Manager\, Maricopa Association of Governments.\n  * Traffic Incident Management for Managed Lanes in Florida – Mike Hudson\, TIM Program Manager\, Florida DOT District 5 Traffic Operations. \nThe Talking TIM webinar series seeks to provide a forum where TIM practitioners can exchange information about current practices\, programs\, and technologies. Each month\, Talking TIM will highlight successful programs\, identify best practices\, and showcase technology that advances the profession. Paul Jodoin\, mailto:paul.jodoin@dot.gov Jim Austrich mailto:james.austrich@dot.gov and Joseph Tebo mailto:joseph.tebo@dot.gov \, FHWA Office of Operations\, organize and moderate this webinar series hosted by the National Operations Center of Excellence (NOCoE). \nThe FHWA is committed to providing equal access to this online event for all participants. If you need alternative formats or other reasonable accommodations\, please reply to Paul Jodoin mailto:paul.jodoin@dot.gov with your request as soon as possible. To view previous topics in this webinar series\, please visit the FHWA-sponsored Talking TIM webinar site https://nam02.safelinks.protection.outlook.com/?url=https:%2F%2Flnks.gd%2Fl%2FeyJhbGciOiJIUzI1NiJ9.eyJidWxsZXRpbl9saW5rX2lkIjoxMDEsInVyaSI6ImJwMjpjbGljayIsInVybCI6Imh0dHBzOi8vbmFtMTAuc2FmZWxpbmtzLnByb3RlY3Rpb24ub3V0bG9vay5jb20vP3VybD1odHRwcyUzQSUyRiUyRnRyYW5zcG9ydGF0aW9ub3BzLm9yZyUyRnRpbSUyRnRhbGtpbmd0aW0mZGF0YT0wNSU3QzAxJTdDdmFpc2hhbGkuc2hhaCU0MGFlbWNvcnAuY29tJTdDMGFjM2M4ODE5OThkNDgzOTJkNjEwOGRiNzM1ZWIxNjMlN0M3YTQxOTI1ZWY2OTc0ZjdjYmVjMzA0NzA4ODdhYzc1MiU3QzAlN0MwJTdDNjM4MjMwNjIyNzg1NTc0MzM4JTdDVW5rbm93biU3Q1RXRnBiR1pzYjNkOGV5SldJam9pTUM0d0xqQXdNREFpTENKUUlqb2lWMmx1TXpJaUxDSkJUaUk2SWsxaGFXd2lMQ0pYVkNJNk1uMCUzRCU3QzMwMDAlN0MlN0MlN0Mmc2RhdGE9blRIY2lyNm9WcEF0cVpPOXMlMkIlMkJXSFRUOFhTbVFCb2RzU0ZYWW96UCUyRlJ6OCUzRCZyZXNlcnZlZD0wIiwiYnVsbGV0aW5faWQiOiIyMDIzMDcyNS44MDE1ODEyMSJ9._lmEgtZwuQU6P7i91ycZ55JVzL9M15ALWdmqY65p_dg%2Fs%2F1159082835%2Fbr%2F223164916605-l&data=05%7C01%7Cdavid.aimen%40ejb.rutgers.edu%7Ccb27d5000f014c5e4e0a08db8d2a08e0%7Cb92d2b234d35447093ff69aca6632ffe%7C1%7C0%7C638258983896693391%7CUnknown%7CTWFpbGZsb3d8eyJWIjoiMC4wLjAwMDAiLCJQIjoiV2luMzIiLCJBTiI6Ik1haWwiLCJXVCI6Mn0%3D%7C3000%7C%7C%7C&sdata=sbZcmb5atAwL2t7CIAnVNB97EBpfpnuefQOx3hYxMGw%3D&reserved=0 .
URL:https://njdottechtransfer.net/event/talking-tim-webinar-emergency-vehicle-preemption-technologies-and-benefits/
LOCATION:NJ
END:VEVENT
BEGIN:VEVENT
DTSTART;TZID=America/New_York:20230727T160000
DTEND;TZID=America/New_York:20230727T173000
DTSTAMP:20260424T055408
CREATED:20251205T200703Z
LAST-MODIFIED:20251205T200703Z
UID:21399-1690473600-1690479000@njdottechtransfer.net
SUMMARY:WEBINAR: The SAFE Network: 1...2...3..Action!
DESCRIPTION:Join us on Thursday July 27th at noon for a webinar on developing and implementing Vision Zero Action Plans across New Jersey! Following the successes of Hoboken and Jersey City\, there is now a new wave of counties and municipalities looking to develop or implement Vision Zero Action Plans. These action plans are an important milestone to reaching zero traffic deaths and serious injuries in the state.With different counties and municipalities developing Vision Zero Action Plans\, it’s important for us to figure out another plan: how to work together\, advocates\, local government leaders\, and transportation experts\, to develop and implement the most effective plans!\nThis webinar will feature three speakers who will share their perspectives on developing Vision Zero Action Plans and discuss ways counties and municipalities can work together.\n  * Byron Nichols – Chief of Planning\, Hudson County\n  * Alan Huff – Program Manager\, SJTPO\n  * Michael Dannemiller – Supervising Engineer\, Middlesex County \nJoin us and bring your ideas on how we can best work together to create effective Vision Zero Action Plans! \nRegister here:\nhttps://us02web.zoom.us/meeting/register/tZItdOCvrz8rEtPjY7_Tkmd7Qg3VhIweus_6 https://r20.rs6.net/tn.jsp?f=001Q0qhmkdvrq0sn4Gp084XJpB9iFxAUNxuN830_8n-R169tJYxggCkqvnBMqBtW0QHfwfcW9bB4ZfqnzGRQlxXYjpjH9HgMq7r9ud5MY5AYGPLu4Ii184lEeOZsKFdutxfwAl-WEFQ5rX8cmo63WDsx_MmtGIgVsxMYUPVnOyzTamt3X9RCRMxamZpAXbhuPe6_q5zD_hwbqejA8aanLW1dVzAqLcPNrWK&c=tMFhemMqeeR9M0JmCjI753q23EXQEgOAt4Q2x1MLEBmbmVnpdZh-Fw==&ch=pNVLDVS4iQWsxsMNHLsxzDPppymdLy-cLDz9etyPTQZjHED5E3aYDg==\nFor more information contact Paul.Mick@NJBWC.org mailto:Paul.Mick@NJBWC.org
URL:https://njdottechtransfer.net/event/webinar-the-safe-network-1-2-3-action/
LOCATION:NJ
END:VEVENT
END:VCALENDAR