BEGIN:VCALENDAR
VERSION:2.0
PRODID:-//NJDOT Technology Transfer - ECPv6.15.17.1//NONSGML v1.0//EN
CALSCALE:GREGORIAN
METHOD:PUBLISH
X-ORIGINAL-URL:https://njdottechtransfer.net
X-WR-CALDESC:Events for NJDOT Technology Transfer
REFRESH-INTERVAL;VALUE=DURATION:PT1H
X-Robots-Tag:noindex
X-PUBLISHED-TTL:PT1H
BEGIN:VTIMEZONE
TZID:America/New_York
BEGIN:DAYLIGHT
TZOFFSETFROM:-0500
TZOFFSETTO:-0400
TZNAME:EDT
DTSTART:20220313T070000
END:DAYLIGHT
BEGIN:STANDARD
TZOFFSETFROM:-0400
TZOFFSETTO:-0500
TZNAME:EST
DTSTART:20221106T060000
END:STANDARD
BEGIN:DAYLIGHT
TZOFFSETFROM:-0500
TZOFFSETTO:-0400
TZNAME:EDT
DTSTART:20230312T070000
END:DAYLIGHT
BEGIN:STANDARD
TZOFFSETFROM:-0400
TZOFFSETTO:-0500
TZNAME:EST
DTSTART:20231105T060000
END:STANDARD
BEGIN:DAYLIGHT
TZOFFSETFROM:-0500
TZOFFSETTO:-0400
TZNAME:EDT
DTSTART:20240310T070000
END:DAYLIGHT
BEGIN:STANDARD
TZOFFSETFROM:-0400
TZOFFSETTO:-0500
TZNAME:EST
DTSTART:20241103T060000
END:STANDARD
END:VTIMEZONE
BEGIN:VEVENT
DTSTART;TZID=America/New_York:20230803T170000
DTEND;TZID=America/New_York:20230803T180000
DTSTAMP:20260424T040648
CREATED:20251205T200703Z
LAST-MODIFIED:20251205T200703Z
UID:21400-1691082000-1691085600@njdottechtransfer.net
SUMMARY:USDOT Project Delivery Center of Excellence thought leadership series: “Thinking Outside the Box: Innovating for Better Project Delivery.”
DESCRIPTION:Join us https://nam02.safelinks.protection.outlook.com/?url=https:%2F%2Flnks.gd%2Fl%2FeyJhbGciOiJIUzI1NiJ9.eyJidWxsZXRpbl9saW5rX2lkIjoxMDIsInVyaSI6ImJwMjpjbGljayIsInVybCI6Imh0dHBzOi8vdXNkb3Quem9vbWdvdi5jb20vd2ViaW5hci9yZWdpc3Rlci9XTl9tQmRXTlIzQVQtNkRDWWpKVnZ0SlJ3IiwiYnVsbGV0aW5faWQiOiIyMDIzMDcyMS44MDAwODMzMSJ9.FrH6K_iXOjDL5s5iBGjCHcCf2JDqNJhs8of8tv6MMqQ%2Fs%2F1802951441%2Fbr%2F223034401019-l&data=05%7C01%7Cdavid.aimen%40ejb.rutgers.edu%7Ccf11b03fd88b413dc02108db8a0b3d08%7Cb92d2b234d35447093ff69aca6632ffe%7C1%7C0%7C638255553121707888%7CUnknown%7CTWFpbGZsb3d8eyJWIjoiMC4wLjAwMDAiLCJQIjoiV2luMzIiLCJBTiI6Ik1haWwiLCJXVCI6Mn0%3D%7C3000%7C%7C%7C&sdata=hFRA25GakOSA0CKPueTOJlSbaR%2FbzIbV4UaM5z8J4Zs%3D&reserved=0 on Wednesday\, August 3\, 2023 at 1:00 p.m. ET for the next virtual event in the USDOT Project Delivery Center of Excellence thought leadership series: “Thinking Outside the Box: Innovating for Better Project Delivery.”\nThe event will bring together Paula Hammond\, Chair of the American Road and Transport Builders Association (ARTBA) and Senior Vice President of WSP USA\, and Carlos M. Braceras\, Executive Director of the Utah Department of Transportation\, for a discussion about innovative approaches for better transportation infrastructure project delivery. \nLearn more https://nam02.safelinks.protection.outlook.com/?url=https:%2F%2Flnks.gd%2Fl%2FeyJhbGciOiJIUzI1NiJ9.eyJidWxsZXRpbl9saW5rX2lkIjoxMDMsInVyaSI6ImJwMjpjbGljayIsInVybCI6Imh0dHBzOi8vd3d3LnZvbHBlLmRvdC5nb3YvZXZlbnRzL3RoaW5raW5nLW91dHNpZGUtYm94LWlubm92YXRpbmctYmV0dGVyLXByb2plY3QtZGVsaXZlcnkiLCJidWxsZXRpbl9pZCI6IjIwMjMwNzIxLjgwMDA4MzMxIn0.71tGE_1WGBoZ2oEjR8mIeoj7VqjmGkViIn3ZFUy1rXs%2Fs%2F1802951441%2Fbr%2F223034401019-l&data=05%7C01%7Cdavid.aimen%40ejb.rutgers.edu%7Ccf11b03fd88b413dc02108db8a0b3d08%7Cb92d2b234d35447093ff69aca6632ffe%7C1%7C0%7C638255553121707888%7CUnknown%7CTWFpbGZsb3d8eyJWIjoiMC4wLjAwMDAiLCJQIjoiV2luMzIiLCJBTiI6Ik1haWwiLCJXVCI6Mn0%3D%7C3000%7C%7C%7C&sdata=S8V8Rca%2B2T%2B6nHhaa3q%2BjO7mbC3MESQJ59iDTNgsBFA%3D&reserved=0 about this virtual event\, and register here https://nam02.safelinks.protection.outlook.com/?url=https:%2F%2Flnks.gd%2Fl%2FeyJhbGciOiJIUzI1NiJ9.eyJidWxsZXRpbl9saW5rX2lkIjoxMDQsInVyaSI6ImJwMjpjbGljayIsInVybCI6Imh0dHBzOi8vdXNkb3Quem9vbWdvdi5jb20vd2ViaW5hci9yZWdpc3Rlci9XTl9tQmRXTlIzQVQtNkRDWWpKVnZ0SlJ3IiwiYnVsbGV0aW5faWQiOiIyMDIzMDcyMS44MDAwODMzMSJ9.zpC17MAC_M9lIVPq-9kAKahoXJg83_4hYHajJJNa2z8%2Fs%2F1802951441%2Fbr%2F223034401019-l&data=05%7C01%7Cdavid.aimen%40ejb.rutgers.edu%7Ccf11b03fd88b413dc02108db8a0b3d08%7Cb92d2b234d35447093ff69aca6632ffe%7C1%7C0%7C638255553121707888%7CUnknown%7CTWFpbGZsb3d8eyJWIjoiMC4wLjAwMDAiLCJQIjoiV2luMzIiLCJBTiI6Ik1haWwiLCJXVCI6Mn0%3D%7C3000%7C%7C%7C&sdata=llr%2BeurfnDLStbL5yD4%2BxI%2BgGSrQn3Tgl%2FUkMNfduIc%3D&reserved=0 .
URL:https://njdottechtransfer.net/event/usdot-project-delivery-center-of-excellence-thought-leadership-series-thinking-outside-the-box-innovating-for-better-project-delivery/
LOCATION:NJ
END:VEVENT
BEGIN:VEVENT
DTSTART;TZID=America/New_York:20230803T170000
DTEND;TZID=America/New_York:20230803T183000
DTSTAMP:20260424T040648
CREATED:20251205T200703Z
LAST-MODIFIED:20251205T200703Z
UID:21401-1691082000-1691087400@njdottechtransfer.net
SUMMARY:Strategic Workforce Development - Supportive Services Webinar
DESCRIPTION:Supportive Services Webinar on August 3!\nThe Federal Highway Administration is showcasing Supportive Services in EDC-7 Strategic Workforce Development programs with insights into proven strategies that lead to providing beneficial supportive services. Learn about the power of collaboration in construction workforce development and the impactful partnerships between states and partner organizations.  \nJoin our live webinar on Thursday\, August 3\, 1:00-2:30 p.m. ET\, and hear how State departments of transportation and their partners support the future highway construction workforce through essential supportive services. You will hear about how their strategies for providing supportive services in their training empower aspiring professionals in the early stages of their careers. \nYou can expect to hear from partner organizations\, including the Building Futures of Rhode Island\, the Illinois Department of Transportation\, and the Ohio Department of Transportation. \nThere is limited space\, so register https://usdot.zoomgov.com/meeting/register/vJIsc-GsrDkrGcdY9oPCGMLBkWO0KIxEHa4. now to stay up to date on speakers and webinar updates.
URL:https://njdottechtransfer.net/event/strategic-workforce-development-supportive-services-webinar/
LOCATION:NJ
END:VEVENT
BEGIN:VEVENT
DTSTART;TZID=America/New_York:20230809T190000
DTEND;TZID=America/New_York:20230809T203000
DTSTAMP:20260424T040648
CREATED:20251205T200704Z
LAST-MODIFIED:20251205T200704Z
UID:21402-1691607600-1691613000@njdottechtransfer.net
SUMMARY:Crash Responder Safety Week - All State Planning Webinar
DESCRIPTION:Crash Responder Safety Week (CRSW)\, taking place November 13 to 17\, 2023\, affords a unique opportunity for every Traffic Incident Management (TIM) professional to make a difference individually and jointly for roadway safety. To facilitate the sharing of CRSW ideas and strategies among State transportation\, law enforcement\, towing and recovery\, fire and rescue\, public works\, and emergency medical services representatives as well as agency public information or communications officers\, the Federal Highway Administration TIM program hosts monthly webinars from June through October of 2023.\nRegister for the All-State CRSW 2023 webinar\, https://nam02.safelinks.protection.outlook.com/?url=https:%2F%2Flnks.gd%2Fl%2FeyJhbGciOiJIUzI1NiJ9.eyJidWxsZXRpbl9saW5rX2lkIjoxMDAsInVyaSI6ImJwMjpjbGljayIsInVybCI6Imh0dHBzOi8vdXMwMndlYi56b29tLnVzL3dlYmluYXIvcmVnaXN0ZXIvV05fdU1wYVI3TDhRSEs2Q2JXOGJLZFJmdyMvcmVnaXN0cmF0aW9uIiwiYnVsbGV0aW5faWQiOiIyMDIzMDgwMi44MDU0OTk4MSJ9.KfOrJeRiuCQOkGZDhsZliNtWki-bl2F3a5fd_HEdsjw%2Fs%2F1159082835%2Fbr%2F223589844132-l&data=05%7C01%7Cdavid.aimen%40ejb.rutgers.edu%7Cba14ec9bfdd04915f58608db9367660a%7Cb92d2b234d35447093ff69aca6632ffe%7C1%7C0%7C638265844527337359%7CUnknown%7CTWFpbGZsb3d8eyJWIjoiMC4wLjAwMDAiLCJQIjoiV2luMzIiLCJBTiI6Ik1haWwiLCJXVCI6Mn0%3D%7C3000%7C%7C%7C&sdata=vbGt7Ia%2BkLxANRsxLqyaBwIAavF%2Fz%2FvPonAjC0kJJYE%3D&reserved=0 taking place August 9\, from 3-4:30 p.m. ET. The following practitioners from Nevada\, Virginia\, and Wisconsin will discuss their CRSW strategy for changeable message signs (CMS) and other activities: \n  * David Strawn\, Nevada Department of Transportation (DOT) Towing and Recovery Incentive Program (TRIP) Operations Manager and Incident Management Specialist\, Parsons. \n  * Robert Rabe\, State Traffic Operations Manager\, Virginia Department of Transportation (DOT). \n  * Rachel Womack\, Communications Manager\, Wisconsin DOT. \nWill your State or regional agency use CMS to promote responder safety through Move Over or Driver Removal messaging? If yes\, please share your CMS strategy using this link https://nam02.safelinks.protection.outlook.com/?url=https:%2F%2Flnks.gd%2Fl%2FeyJhbGciOiJIUzI1NiJ9.eyJidWxsZXRpbl9saW5rX2lkIjoxMDEsInVyaSI6ImJwMjpjbGljayIsInVybCI6Imh0dHBzOi8vYWVtZGF0YXNjaS53dWZvby5jb20vZm9ybXMvcjEzbnBwMXkwbmJ1M3k4LyIsImJ1bGxldGluX2lkIjoiMjAyMzA4MDIuODA1NDk5ODEifQ.xmEiXghEE3C27nvMXAysuB6smTgAoV9S-yE4N385WN8%2Fs%2F1159082835%2Fbr%2F223589844132-l&data=05%7C01%7Cdavid.aimen%40ejb.rutgers.edu%7Cba14ec9bfdd04915f58608db9367660a%7Cb92d2b234d35447093ff69aca6632ffe%7C1%7C0%7C638265844527337359%7CUnknown%7CTWFpbGZsb3d8eyJWIjoiMC4wLjAwMDAiLCJQIjoiV2luMzIiLCJBTiI6Ik1haWwiLCJXVCI6Mn0%3D%7C3000%7C%7C%7C&sdata=UvUD4cEsXuOwG4LXVYRT30SLAaA8YPgLf0gcWwHJ%2Fxk%3D&reserved=0 . The National Operations Center of Excellence (NOCoE) CRSW page https://nam02.safelinks.protection.outlook.com/?url=https:%2F%2Flnks.gd%2Fl%2FeyJhbGciOiJIUzI1NiJ9.eyJidWxsZXRpbl9saW5rX2lkIjoxMDIsInVyaSI6ImJwMjpjbGljayIsInVybCI6Imh0dHBzOi8vdHJhbnNwb3J0YXRpb25vcHMub3JnL1RJTS9DUlNXIiwiYnVsbGV0aW5faWQiOiIyMDIzMDgwMi44MDU0OTk4MSJ9.wRXbxpVSeSs-ZPii9abSufZuj2oHgw34zzDpSb5yKG0%2Fs%2F1159082835%2Fbr%2F223589844132-l&data=05%7C01%7Cdavid.aimen%40ejb.rutgers.edu%7Cba14ec9bfdd04915f58608db9367660a%7Cb92d2b234d35447093ff69aca6632ffe%7C1%7C0%7C638265844527337359%7CUnknown%7CTWFpbGZsb3d8eyJWIjoiMC4wLjAwMDAiLCJQIjoiV2luMzIiLCJBTiI6Ik1haWwiLCJXVCI6Mn0%3D%7C3000%7C%7C%7C&sdata=YhfXT8DN4XmjT2cHPu3iQBQMPiZa2TsVgSdbZFaa1rY%3D&reserved=0 will make available this information to help peers develop their CRSW CMS messaging strategy. \nDuring each webinar\, the FHWA TIM Team will also conduct an abbreviated “Roll Call” for agencies to share their evolving plans for CRSW 2023. The FHWA TIM team welcomes every State to use CRSW this year to advance incident responder and road user safety. If you are not able to share your agency’s CRSW plans during the Roll Call\, we welcome you to share them using this brief form https://nam02.safelinks.protection.outlook.com/?url=https:%2F%2Flnks.gd%2Fl%2FeyJhbGciOiJIUzI1NiJ9.eyJidWxsZXRpbl9saW5rX2lkIjoxMDMsInVyaSI6ImJwMjpjbGljayIsInVybCI6Imh0dHBzOi8vYWVtZGF0YXNjaS53dWZvby5jb20vZm9ybXMvczFuY3dzcm8waDdrc3phLyIsImJ1bGxldGluX2lkIjoiMjAyMzA4MDIuODA1NDk5ODEifQ.h_p2rDVyuSgQJR3uH0hsAP8F-VpXSloyUOahFWqgbbQ%2Fs%2F1159082835%2Fbr%2F223589844132-l&data=05%7C01%7Cdavid.aimen%40ejb.rutgers.edu%7Cba14ec9bfdd04915f58608db9367660a%7Cb92d2b234d35447093ff69aca6632ffe%7C1%7C0%7C638265844527337359%7CUnknown%7CTWFpbGZsb3d8eyJWIjoiMC4wLjAwMDAiLCJQIjoiV2luMzIiLCJBTiI6Ik1haWwiLCJXVCI6Mn0%3D%7C3000%7C%7C%7C&sdata=ptIwIlZxEw5f53j14QqIJDfes%2F1ce7X%2FfB94HfpNpJY%3D&reserved=0 .
URL:https://njdottechtransfer.net/event/crash-responder-safety-week-all-state-planning-webinar/
LOCATION:NJ
END:VEVENT
BEGIN:VEVENT
DTSTART;TZID=America/New_York:20230810T173000
DTEND;TZID=America/New_York:20230810T190000
DTSTAMP:20260424T040648
CREATED:20251205T200718Z
LAST-MODIFIED:20251205T200718Z
UID:21403-1691688600-1691694000@njdottechtransfer.net
SUMMARY:EDC-6 DABs Webinar: Mainstreaming DABs: Statewide and Programmatic
DESCRIPTION:Webinar Series\nThe FHWA will present an eight-part webinar series on the EDC-6 Implementation Initiative for Digital As-Builts (DABs). The all-encompassing webinar series is design to increase overall understanding of DABs and how to advance their implementation\, demonstrate practical benefits\, address barriers to DABs implementation\, showcase practical solutions\, and establish DABs best practices. \n  * Building blocks of DABs\n  * Benefits and opportunities\n  * Processes for implementing and institutionalizing DABs\n  * Standard practices\, policies\, and best practices \nMainstreaming DABs: Statewide and Programmatic \nAug 10\, 2023 – 1:30 – 3:00 PM Eastern \nThe webinar will explore the institutional\, programmatic\, organizational and technological aspects\, such as advancing DAB statewide\, essential/secondary uses\, specifications/requirements\, data integrations/exchanges\, common data environment /information and communication technology (ICT) systems\, standards/policies\, data management /governance\, quality management and overcoming challenges/gaps to facilitate the expansion\, standardization and full implementation of DABs. The speakers will highlight various issues and potential strategies to address them. \nDetails » https://dabs-technologyinnovation.com/webinar-series/mainstream-digital-as-builts-statewide-and-programmatic/ | Register » https://dabs-technologyinnovation.com/webinar-8-registration/
URL:https://njdottechtransfer.net/event/edc-6-dabs-webinar-mainstreaming-dabs-statewide-and-programmatic/
LOCATION:NJ
END:VEVENT
BEGIN:VEVENT
DTSTART;TZID=America/New_York:20230815T170000
DTEND;TZID=America/New_York:20230815T180000
DTSTAMP:20260424T040648
CREATED:20251205T200718Z
LAST-MODIFIED:20251205T200718Z
UID:21404-1692118800-1692122400@njdottechtransfer.net
SUMMARY:Crowdsourcing Couse Webinars: Road Weather and Arterial Management
DESCRIPTION:Register and Attend the August 15 Crowdsourcing Course Webinars https://nam02.safelinks.protection.outlook.com/?url=https:%2F%2Flnks.gd%2Fl%2FeyJhbGciOiJIUzI1NiJ9.eyJidWxsZXRpbl9saW5rX2lkIjoxMDAsInVyaSI6ImJwMjpjbGljayIsInVybCI6Imh0dHBzOi8vdXNkb3Quem9vbWdvdi5jb20vd2ViaW5hci9yZWdpc3Rlci9XTl9RUmd1NzBtUlRZUzJCdF9QNmpPMVh3IiwiYnVsbGV0aW5faWQiOiIyMDIzMDgwMS44MDQ4NzkwMSJ9.tKj0ptvpIxmE3gBgI_SGSTKiOXum-ZpY3uZNS-Gil-4%2Fs%2F1159082835%2Fbr%2F223517174474-l&data=05%7C01%7Cdavid.aimen%40ejb.rutgers.edu%7C9383c46b752d4d42935808db9298bef8%7Cb92d2b234d35447093ff69aca6632ffe%7C1%7C0%7C638264956974312191%7CUnknown%7CTWFpbGZsb3d8eyJWIjoiMC4wLjAwMDAiLCJQIjoiV2luMzIiLCJBTiI6Ik1haWwiLCJXVCI6Mn0%3D%7C3000%7C%7C%7C&sdata=5FLTRuN%2BNDO0Qb417XB7SGXClu6Qol6VmGi3kIeX0H8%3D&reserved=0\nThe next Crowdsourcing Course webinar takes place August 15 at 1 p.m. ET. The webinar will deliver course modules on road weather management and arterial management. The following practitioners will present their agencies’ efforts specific to these Transportation Systems Management and Operations strategies: \n  * Stephanie Marik\, Ohio Department of Transportation (DOT)\n  * Wang Zhang\, Maricopa Association of Governments\n  * Jeremy Dilmore\, Florida DOT District Five \nThe FHWA EDC-6 Crowdsourcing for Advancing Operations https://nam02.safelinks.protection.outlook.com/?url=https:%2F%2Flnks.gd%2Fl%2FeyJhbGciOiJIUzI1NiJ9.eyJidWxsZXRpbl9saW5rX2lkIjoxMDEsInVyaSI6ImJwMjpjbGljayIsInVybCI6Imh0dHBzOi8vd3d3LmZod2EuZG90Lmdvdi9pbm5vdmF0aW9uL2V2ZXJ5ZGF5Y291bnRzL2VkY182L2Nyb3dkc291cmNpbmcuY2ZtIiwiYnVsbGV0aW5faWQiOiIyMDIzMDgwMS44MDQ4NzkwMSJ9.Xm635LZTifQrq5OSVaYi_DEBOzH5fBbSgao9BAzeEgc%2Fs%2F1159082835%2Fbr%2F223517174474-l&data=05%7C01%7Cdavid.aimen%40ejb.rutgers.edu%7C9383c46b752d4d42935808db9298bef8%7Cb92d2b234d35447093ff69aca6632ffe%7C1%7C0%7C638264956974312191%7CUnknown%7CTWFpbGZsb3d8eyJWIjoiMC4wLjAwMDAiLCJQIjoiV2luMzIiLCJBTiI6Ik1haWwiLCJXVCI6Mn0%3D%7C3000%7C%7C%7C&sdata=5%2F45t3D3yJUSLpTdC8zpJJeEAEroT37cXziMP2QflSk%3D&reserved=0 program\, in collaboration with the Intelligent Transportation Systems Joint Program Office (ITS JPO) Professional Capacity Building (PCB) Program\, offers the crowdsourcing course through a series of five free webinars: \n  1. May 16: Introduction and Application Highlights. View recording here. https://nam02.safelinks.protection.outlook.com/?url=https:%2F%2Flnks.gd%2Fl%2FeyJhbGciOiJIUzI1NiJ9.eyJidWxsZXRpbl9saW5rX2lkIjoxMDIsInVyaSI6ImJwMjpjbGljayIsInVybCI6Imh0dHBzOi8vd3d3LnBjYi5pdHMuZG90Lmdvdi90My9zMjMwNTE2X0Nyb3dkc291cmNpbmdfZm9yX0FkdmFuY2luZ19PcGVyYXRpb25zLUludHJvZHVjdGlvbl9hbmRfQXBwbGljYXRpb25fSGlnaGxpZ2h0cy5hc3B4IiwiYnVsbGV0aW5faWQiOiIyMDIzMDgwMS44MDQ4NzkwMSJ9.1sCUzSNe-HToa2gvVgWUo3BYpx3R7Ewf8IiRfSCVtbo%2Fs%2F1159082835%2Fbr%2F223517174474-l&data=05%7C01%7Cdavid.aimen%40ejb.rutgers.edu%7C9383c46b752d4d42935808db9298bef8%7Cb92d2b234d35447093ff69aca6632ffe%7C1%7C0%7C638264956974312191%7CUnknown%7CTWFpbGZsb3d8eyJWIjoiMC4wLjAwMDAiLCJQIjoiV2luMzIiLCJBTiI6Ik1haWwiLCJXVCI6Mn0%3D%7C3000%7C%7C%7C&sdata=8C15Pgrk8Alc0KNTgZJ80RBc17EYhdp9wU4ogH3J43I%3D&reserved=0\n  2. June 20: Data Sources and Management. View recording here. https://nam02.safelinks.protection.outlook.com/?url=https:%2F%2Flnks.gd%2Fl%2FeyJhbGciOiJIUzI1NiJ9.eyJidWxsZXRpbl9saW5rX2lkIjoxMDMsInVyaSI6ImJwMjpjbGljayIsInVybCI6Imh0dHBzOi8vd3d3LnBjYi5pdHMuZG90Lmdvdi90My9zMjMwNjIwX0Nyb3dkc291cmNpbmdfUGFydDJfRGF0YV9Tb3VyY2VzX2FuZF9NYW5hZ2VtZW50LmFzcHgiLCJidWxsZXRpbl9pZCI6IjIwMjMwODAxLjgwNDg3OTAxIn0.sS3iKEmbnpPZ_mQTVKqXN-qqdPvG1XO6NzXMO8OfcK8%2Fs%2F1159082835%2Fbr%2F223517174474-l&data=05%7C01%7Cdavid.aimen%40ejb.rutgers.edu%7C9383c46b752d4d42935808db9298bef8%7Cb92d2b234d35447093ff69aca6632ffe%7C1%7C0%7C638264956974312191%7CUnknown%7CTWFpbGZsb3d8eyJWIjoiMC4wLjAwMDAiLCJQIjoiV2luMzIiLCJBTiI6Ik1haWwiLCJXVCI6Mn0%3D%7C3000%7C%7C%7C&sdata=gS8WAjaoLR9EoF%2BgosU%2BaP%2F5gzX%2FaBwDoDQ0jRkiGVQ%3D&reserved=0\n  3. July 18: Traveler Information and Traffic Incident Management. Recording available soon.\n  4. August 15: Road Weather and Arterial Management. Register to attend this webinar https://nam02.safelinks.protection.outlook.com/?url=https:%2F%2Flnks.gd%2Fl%2FeyJhbGciOiJIUzI1NiJ9.eyJidWxsZXRpbl9saW5rX2lkIjoxMDQsInVyaSI6ImJwMjpjbGljayIsInVybCI6Imh0dHBzOi8vdXNkb3Quem9vbWdvdi5jb20vd2ViaW5hci9yZWdpc3Rlci9XTl9RUmd1NzBtUlRZUzJCdF9QNmpPMVh3IiwiYnVsbGV0aW5faWQiOiIyMDIzMDgwMS44MDQ4NzkwMSJ9.0-jFOwKYph0BPGWJFv8XqIWrdvTLr7eZduARv7VRbho%2Fs%2F1159082835%2Fbr%2F223517174474-l&data=05%7C01%7Cdavid.aimen%40ejb.rutgers.edu%7C9383c46b752d4d42935808db9298bef8%7Cb92d2b234d35447093ff69aca6632ffe%7C1%7C0%7C638264956974312191%7CUnknown%7CTWFpbGZsb3d8eyJWIjoiMC4wLjAwMDAiLCJQIjoiV2luMzIiLCJBTiI6Ik1haWwiLCJXVCI6Mn0%3D%7C3000%7C%7C%7C&sdata=yqJ2CU2MppoRESrOitDvpUi697d%2B04DuAGfm0rFwme4%3D&reserved=0 .\n  5. September 19: Emergency and Work Zone Management\, and Next Steps. Register to attend this webinar https://nam02.safelinks.protection.outlook.com/?url=https:%2F%2Flnks.gd%2Fl%2FeyJhbGciOiJIUzI1NiJ9.eyJidWxsZXRpbl9saW5rX2lkIjoxMDUsInVyaSI6ImJwMjpjbGljayIsInVybCI6Imh0dHBzOi8vdXNkb3Quem9vbWdvdi5jb20vd2ViaW5hci9yZWdpc3Rlci9XTl9kODZPU2ljcFRQcVV6N1FWY2dYOHVRIiwiYnVsbGV0aW5faWQiOiIyMDIzMDgwMS44MDQ4NzkwMSJ9.Lh9-bxsOYplRhD5Dp3jk5iWDRhTIGYZEAFubwOLm5JE%2Fs%2F1159082835%2Fbr%2F223517174474-l&data=05%7C01%7Cdavid.aimen%40ejb.rutgers.edu%7C9383c46b752d4d42935808db9298bef8%7Cb92d2b234d35447093ff69aca6632ffe%7C1%7C0%7C638264956974468455%7CUnknown%7CTWFpbGZsb3d8eyJWIjoiMC4wLjAwMDAiLCJQIjoiV2luMzIiLCJBTiI6Ik1haWwiLCJXVCI6Mn0%3D%7C3000%7C%7C%7C&sdata=HUh4wE65VMf0%2Fi8xKz3ndKdtyQPtUWl3bcsq8ou2fM4%3D&reserved=0 .
URL:https://njdottechtransfer.net/event/crowdsourcing-couse-webinars-road-weather-and-arterial-management/
LOCATION:NJ
END:VEVENT
BEGIN:VEVENT
DTSTART;TZID=America/New_York:20230816T170000
DTEND;TZID=America/New_York:20230816T190000
DTSTAMP:20260424T040648
CREATED:20251205T200718Z
LAST-MODIFIED:20251205T200718Z
UID:21405-1692205200-1692212400@njdottechtransfer.net
SUMMARY:Understanding Value Capture Risks – The Primer
DESCRIPTION:Understanding Value Capture Risks – The PrimerWednesday\, August 16\, 2023 1:00:00 PM EDT – 3:00:00 PM EDT\nState and local (city\, county\, township\, and tribal government) transportation professionals are invited to a Value Capture Strategies: Understanding Value Capture Risks—A Primer national webinar on August 16th\, 2023\, from 1:00 PM to 3:00 PM ET.\nThe program will feature experts from leading State and local authorities sharing their approaches to Value Capture Risks including the processes\, requirements\, accounting and administration\, and much more. Participants have an opportunity interact with peer experts to gain an in-depth understanding the Value Capture Risks.\nRegister to reserve your space! https://connectdotcqpub1.connectsolutions.com/content/connect/c1/7/en/events/event/shared/1112389207/event_landing.html?connect-session=breezbreezbg5berev3cru67nd&sco-id=1342050337\nValue capture is a set of powerful funding tools that is gaining in popularity to supplement traditional funding sources. Transportation systems are essential in enhancing the productivity and quality of life in the United States. Funding for streets\, highways\, and transit is provided by the joint efforts of Federal\, State\, and local governments; taxation and user fees are the primary revenue sources\, along with supplemental methods including loans\, bonds\, public-private partnerships\, and concessions. All the Value Capture strategies involve some degree of financial risks since they rely on large enough increments in property value being created to provide adequate revenue. Implementing agencies should take the time to understand and assess national and regional trends in the real estate market\, including the unique characteristics of the market at and around the transportation facility. To learn the characteristics of the broader real estate market as well as the unique project characteristics that may impact property values. Register Today! Featured experts share their experiences in assessing risks in their Value Capture program.\nParticipants have an opportunity interact with experts to gain an in-depth understanding the Value Capture Risk. There is no cost to participate but space is limited. You must register to reserve your space!\nTARGET AUDIENCE: This webinar series is intended for States\, cities\, counties\, tribes\, and metropolitan and rural transportation professionals looking for innovative funding and financial strategies to pay for transportation projects. Anyone involved in development or administration of the Value Capture Program Elements is welcomed.
URL:https://njdottechtransfer.net/event/understanding-value-capture-risks-the-primer/
LOCATION:NJ
END:VEVENT
BEGIN:VEVENT
DTSTART;TZID=America/New_York:20230823T173000
DTEND;TZID=America/New_York:20230823T190000
DTSTAMP:20260424T040648
CREATED:20251205T200718Z
LAST-MODIFIED:20251205T200718Z
UID:21406-1692811800-1692817200@njdottechtransfer.net
SUMMARY:Talking TIM Webnar: Medical Helicopter Landing Zone Conisderations for Roadway Crashers
DESCRIPTION:Register for the August 23\, 2023\, Talking TIM webinar https://nam02.safelinks.protection.outlook.com/?url=https:%2F%2Flnks.gd%2Fl%2FeyJhbGciOiJIUzI1NiJ9.eyJidWxsZXRpbl9saW5rX2lkIjoxMDAsInVyaSI6ImJwMjpjbGljayIsInVybCI6Imh0dHBzOi8vdXMwMndlYi56b29tLnVzL3dlYmluYXIvcmVnaXN0ZXIvV05fZGhudWxQME1RN1dyMFA5WFB1ODZGUSMvcmVnaXN0cmF0aW9uIiwiYnVsbGV0aW5faWQiOiIyMDIzMDgwOS44MDg2NzQxMSJ9.CaKSNdrLeZwpj-Zkxeq75fFiOS3Pq8vo4DEGjBXL_j0%2Fs%2F1159082835%2Fbr%2F223924845708-l&data=05%7C01%7Cdavid.aimen%40ejb.rutgers.edu%7C8ded78b6be9d44082be608db98d06a1e%7Cb92d2b234d35447093ff69aca6632ffe%7C1%7C0%7C638271793126498817%7CUnknown%7CTWFpbGZsb3d8eyJWIjoiMC4wLjAwMDAiLCJQIjoiV2luMzIiLCJBTiI6Ik1haWwiLCJXVCI6Mn0%3D%7C3000%7C%7C%7C&sdata=wEKRJqYLmh96DXwGELZXphzd8a32xow%2Bb6tXtVKaecE%3D&reserved=0 \, taking place 1:30 – 3:00 p.m. EDT. This webinar will feature the following presentations from members of our TIM community:\nMedical Helicopter Landing Zone Considerations for Roadway Crashes – Thomas Judge\, Executive Director\, LifeFlight of Maine. \nWearable 360° lighting: Real Roadside Safety and Visibility in a Distracted World – Dan Keller with Guardian Angel Devices and Patrick Chavez\, Colorado Department of Transportation (DOT) Statewide Emergency Manager. \nThe Talking TIM webinar series seeks to provide a forum where TIM practitioners can exchange information about current practices\, programs\, and technologies. Each month\, Talking TIM will highlight successful programs\, identify best practices\, and showcase technology that advances the profession. Paul Jodoin\, mailto:paul.jodoin@dot.gov Jim Austrich mailto:james.austrich@dot.gov and Joseph Tebo mailto:joseph.tebo@dot.gov \, FHWA Office of Operations\, organize and moderate this webinar series hosted by the National Operations Center of Excellence (NOCoE).
URL:https://njdottechtransfer.net/event/talking-tim-webnar-medical-helicopter-landing-zone-conisderations-for-roadway-crashers/
LOCATION:NJ
END:VEVENT
END:VCALENDAR