BEGIN:VCALENDAR
VERSION:2.0
PRODID:-//NJDOT Technology Transfer - ECPv6.15.17.1//NONSGML v1.0//EN
CALSCALE:GREGORIAN
METHOD:PUBLISH
X-WR-CALNAME:NJDOT Technology Transfer
X-ORIGINAL-URL:https://njdottechtransfer.net
X-WR-CALDESC:Events for NJDOT Technology Transfer
REFRESH-INTERVAL;VALUE=DURATION:PT1H
X-Robots-Tag:noindex
X-PUBLISHED-TTL:PT1H
BEGIN:VTIMEZONE
TZID:America/New_York
BEGIN:DAYLIGHT
TZOFFSETFROM:-0500
TZOFFSETTO:-0400
TZNAME:EDT
DTSTART:20220313T070000
END:DAYLIGHT
BEGIN:STANDARD
TZOFFSETFROM:-0400
TZOFFSETTO:-0500
TZNAME:EST
DTSTART:20221106T060000
END:STANDARD
BEGIN:DAYLIGHT
TZOFFSETFROM:-0500
TZOFFSETTO:-0400
TZNAME:EDT
DTSTART:20230312T070000
END:DAYLIGHT
BEGIN:STANDARD
TZOFFSETFROM:-0400
TZOFFSETTO:-0500
TZNAME:EST
DTSTART:20231105T060000
END:STANDARD
BEGIN:DAYLIGHT
TZOFFSETFROM:-0500
TZOFFSETTO:-0400
TZNAME:EDT
DTSTART:20240310T070000
END:DAYLIGHT
BEGIN:STANDARD
TZOFFSETFROM:-0400
TZOFFSETTO:-0500
TZNAME:EST
DTSTART:20241103T060000
END:STANDARD
END:VTIMEZONE
BEGIN:VEVENT
DTSTART;TZID=America/New_York:20230907T160000
DTEND;TZID=America/New_York:20230907T173000
DTSTAMP:20260424T021951
CREATED:20251205T200719Z
LAST-MODIFIED:20251205T200719Z
UID:21407-1694102400-1694107800@njdottechtransfer.net
SUMMARY:NJ Safe Routes Academy: Funding Your Bike/Ped Project
DESCRIPTION:Funding Your Bicycle & Pedestrian Project: NJ SRTS Infrastructure Grant Training\nLEARN MORE ABOUT THE SAFE ROUTES ACADEMY EVENTS AND HOW TO REGISTER. https://www.saferoutesnj.org/safe-routes-academy/ \nThis online session will provide participants with information about applying for Safe Routes to School grants\, admini https://www.saferoutesnj.org/safe-routes-academy/ stered by the New Jersey Department of Transportation (NJDOT) in partnership with the State’s Metropolitan Planning Organizations. Topics that will be covered include: \n  * Overview of Federal Aid programs and the Safe Routes to School Program\n  * Detailed Review of the Safe Routes to School Grant Application\n  * Grant Application Process\n  * Grant Resources\, Tips & Strategies\n  * Q&A with NJDOT Local Aid Staff \nThe session is designed to assist you with making your grant application stronger to turn your project into a reality.
URL:https://njdottechtransfer.net/event/nj-safe-routes-academy-funding-your-bike-ped-project/
LOCATION:NJ
END:VEVENT
BEGIN:VEVENT
DTSTART;TZID=America/New_York:20230907T170000
DTEND;TZID=America/New_York:20230907T180000
DTSTAMP:20260424T021951
CREATED:20251205T200733Z
LAST-MODIFIED:20251205T200733Z
UID:21408-1694106000-1694109600@njdottechtransfer.net
SUMMARY:Delivering the Benefits of BiL: Embedding Equity in Project Delivery
DESCRIPTION:https://www.volpe.dot.gov/events/embedding-equity-project-delivery \nEmbedding Equity in Project Delivery \nThursday\, September 7\, 2023 01:00pm \nStephanie Wiggins\nChief Executive Officer\, Los Angeles County Metropolitan Transportation Authority (LA Metro) \nEmmanuella Myrthil\nChief Equity and Inclusion Officer\, Southeastern Pennsylvania Transportation Authority (SEPTA) \nREGISTER HERE https://usdot.zoomgov.com/webinar/register/WN_mBdWNR3AT-6DCYjJVvtJRw
URL:https://njdottechtransfer.net/event/delivering-the-benefits-of-bil-embedding-equity-in-project-delivery/
LOCATION:NJ
END:VEVENT
BEGIN:VEVENT
DTSTART;TZID=America/New_York:20230914T160000
DTEND;TZID=America/New_York:20230914T173000
DTSTAMP:20260424T021951
CREATED:20251205T200733Z
LAST-MODIFIED:20251205T200733Z
UID:21409-1694707200-1694712600@njdottechtransfer.net
SUMMARY:NJ Safe Routes Academy: School Zone Safety Strategies
DESCRIPTION:School Zone Safety Strategies\nLEARN MORE ABOUT THE SAFE ROUTES ACADEMY EVENTS AND HOW TO REGISTER. https://www.saferoutesnj.org/safe-routes-academy/ \nAre you looking for ways to reduce the number of motor vehicles in school zones\, slow driving speeds\, and minimize potential conflicts and crashes in your community? Join us to discover cost-effective and adaptable strategies to create safer school zones and prioritize the well-being of pedestrians\, cyclists\, children\, seniors\, and people traveling on foot or bike. The session will focus on real examples of how these strategies have been designed and successfully employed in school zones throughout New Jersey.
URL:https://njdottechtransfer.net/event/nj-safe-routes-academy-school-zone-safety-strategies/
LOCATION:NJ
END:VEVENT
BEGIN:VEVENT
DTSTART;TZID=America/New_York:20230919T170000
DTEND;TZID=America/New_York:20230919T180000
DTSTAMP:20260424T021951
CREATED:20251205T200733Z
LAST-MODIFIED:20251205T200733Z
UID:21410-1695142800-1695146400@njdottechtransfer.net
SUMMARY:Crowdsourcing Couse Webinars: Emergency and Work Zone Management\, and Next Steps
DESCRIPTION:Register and Attend the September 19 Crowdsourcing Course Webinars https://nam02.safelinks.protection.outlook.com/?url=https:%2F%2Flnks.gd%2Fl%2FeyJhbGciOiJIUzI1NiJ9.eyJidWxsZXRpbl9saW5rX2lkIjoxMDAsInVyaSI6ImJwMjpjbGljayIsInVybCI6Imh0dHBzOi8vdXNkb3Quem9vbWdvdi5jb20vd2ViaW5hci9yZWdpc3Rlci9XTl9RUmd1NzBtUlRZUzJCdF9QNmpPMVh3IiwiYnVsbGV0aW5faWQiOiIyMDIzMDgwMS44MDQ4NzkwMSJ9.tKj0ptvpIxmE3gBgI_SGSTKiOXum-ZpY3uZNS-Gil-4%2Fs%2F1159082835%2Fbr%2F223517174474-l&data=05%7C01%7Cdavid.aimen%40ejb.rutgers.edu%7C9383c46b752d4d42935808db9298bef8%7Cb92d2b234d35447093ff69aca6632ffe%7C1%7C0%7C638264956974312191%7CUnknown%7CTWFpbGZsb3d8eyJWIjoiMC4wLjAwMDAiLCJQIjoiV2luMzIiLCJBTiI6Ik1haWwiLCJXVCI6Mn0%3D%7C3000%7C%7C%7C&sdata=5FLTRuN%2BNDO0Qb417XB7SGXClu6Qol6VmGi3kIeX0H8%3D&reserved=0\nThe Emergency and Work Zone Management\, and Next Steps webinar takes place September 19 at 1 p.m. ET. The webinar will deliver course modules on road weather management and arterial management. The following practitioners will present their agencies’ efforts specific to these Transportation Systems Management and Operations strategies: \n  * Stephanie Marik\, Ohio Department of Transportation (DOT)\n  * Wang Zhang\, Maricopa Association of Governments\n  * Jeremy Dilmore\, Florida DOT District Five \nThe FHWA EDC-6 Crowdsourcing for Advancing Operations https://nam02.safelinks.protection.outlook.com/?url=https:%2F%2Flnks.gd%2Fl%2FeyJhbGciOiJIUzI1NiJ9.eyJidWxsZXRpbl9saW5rX2lkIjoxMDEsInVyaSI6ImJwMjpjbGljayIsInVybCI6Imh0dHBzOi8vd3d3LmZod2EuZG90Lmdvdi9pbm5vdmF0aW9uL2V2ZXJ5ZGF5Y291bnRzL2VkY182L2Nyb3dkc291cmNpbmcuY2ZtIiwiYnVsbGV0aW5faWQiOiIyMDIzMDgwMS44MDQ4NzkwMSJ9.Xm635LZTifQrq5OSVaYi_DEBOzH5fBbSgao9BAzeEgc%2Fs%2F1159082835%2Fbr%2F223517174474-l&data=05%7C01%7Cdavid.aimen%40ejb.rutgers.edu%7C9383c46b752d4d42935808db9298bef8%7Cb92d2b234d35447093ff69aca6632ffe%7C1%7C0%7C638264956974312191%7CUnknown%7CTWFpbGZsb3d8eyJWIjoiMC4wLjAwMDAiLCJQIjoiV2luMzIiLCJBTiI6Ik1haWwiLCJXVCI6Mn0%3D%7C3000%7C%7C%7C&sdata=5%2F45t3D3yJUSLpTdC8zpJJeEAEroT37cXziMP2QflSk%3D&reserved=0 program\, in collaboration with the Intelligent Transportation Systems Joint Program Office (ITS JPO) Professional Capacity Building (PCB) Program\, offers the crowdsourcing course through a series of five free webinars: \n  1. May 16: Introduction and Application Highlights. View recording here. https://nam02.safelinks.protection.outlook.com/?url=https:%2F%2Flnks.gd%2Fl%2FeyJhbGciOiJIUzI1NiJ9.eyJidWxsZXRpbl9saW5rX2lkIjoxMDIsInVyaSI6ImJwMjpjbGljayIsInVybCI6Imh0dHBzOi8vd3d3LnBjYi5pdHMuZG90Lmdvdi90My9zMjMwNTE2X0Nyb3dkc291cmNpbmdfZm9yX0FkdmFuY2luZ19PcGVyYXRpb25zLUludHJvZHVjdGlvbl9hbmRfQXBwbGljYXRpb25fSGlnaGxpZ2h0cy5hc3B4IiwiYnVsbGV0aW5faWQiOiIyMDIzMDgwMS44MDQ4NzkwMSJ9.1sCUzSNe-HToa2gvVgWUo3BYpx3R7Ewf8IiRfSCVtbo%2Fs%2F1159082835%2Fbr%2F223517174474-l&data=05%7C01%7Cdavid.aimen%40ejb.rutgers.edu%7C9383c46b752d4d42935808db9298bef8%7Cb92d2b234d35447093ff69aca6632ffe%7C1%7C0%7C638264956974312191%7CUnknown%7CTWFpbGZsb3d8eyJWIjoiMC4wLjAwMDAiLCJQIjoiV2luMzIiLCJBTiI6Ik1haWwiLCJXVCI6Mn0%3D%7C3000%7C%7C%7C&sdata=8C15Pgrk8Alc0KNTgZJ80RBc17EYhdp9wU4ogH3J43I%3D&reserved=0\n  2. June 20: Data Sources and Management. View recording here. https://nam02.safelinks.protection.outlook.com/?url=https:%2F%2Flnks.gd%2Fl%2FeyJhbGciOiJIUzI1NiJ9.eyJidWxsZXRpbl9saW5rX2lkIjoxMDMsInVyaSI6ImJwMjpjbGljayIsInVybCI6Imh0dHBzOi8vd3d3LnBjYi5pdHMuZG90Lmdvdi90My9zMjMwNjIwX0Nyb3dkc291cmNpbmdfUGFydDJfRGF0YV9Tb3VyY2VzX2FuZF9NYW5hZ2VtZW50LmFzcHgiLCJidWxsZXRpbl9pZCI6IjIwMjMwODAxLjgwNDg3OTAxIn0.sS3iKEmbnpPZ_mQTVKqXN-qqdPvG1XO6NzXMO8OfcK8%2Fs%2F1159082835%2Fbr%2F223517174474-l&data=05%7C01%7Cdavid.aimen%40ejb.rutgers.edu%7C9383c46b752d4d42935808db9298bef8%7Cb92d2b234d35447093ff69aca6632ffe%7C1%7C0%7C638264956974312191%7CUnknown%7CTWFpbGZsb3d8eyJWIjoiMC4wLjAwMDAiLCJQIjoiV2luMzIiLCJBTiI6Ik1haWwiLCJXVCI6Mn0%3D%7C3000%7C%7C%7C&sdata=gS8WAjaoLR9EoF%2BgosU%2BaP%2F5gzX%2FaBwDoDQ0jRkiGVQ%3D&reserved=0\n  3. July 18: Traveler Information and Traffic Incident Management. Recording available soon.\n  4. August 15: Road Weather and Arterial Management. Register to attend this webinar https://nam02.safelinks.protection.outlook.com/?url=https:%2F%2Flnks.gd%2Fl%2FeyJhbGciOiJIUzI1NiJ9.eyJidWxsZXRpbl9saW5rX2lkIjoxMDQsInVyaSI6ImJwMjpjbGljayIsInVybCI6Imh0dHBzOi8vdXNkb3Quem9vbWdvdi5jb20vd2ViaW5hci9yZWdpc3Rlci9XTl9RUmd1NzBtUlRZUzJCdF9QNmpPMVh3IiwiYnVsbGV0aW5faWQiOiIyMDIzMDgwMS44MDQ4NzkwMSJ9.0-jFOwKYph0BPGWJFv8XqIWrdvTLr7eZduARv7VRbho%2Fs%2F1159082835%2Fbr%2F223517174474-l&data=05%7C01%7Cdavid.aimen%40ejb.rutgers.edu%7C9383c46b752d4d42935808db9298bef8%7Cb92d2b234d35447093ff69aca6632ffe%7C1%7C0%7C638264956974312191%7CUnknown%7CTWFpbGZsb3d8eyJWIjoiMC4wLjAwMDAiLCJQIjoiV2luMzIiLCJBTiI6Ik1haWwiLCJXVCI6Mn0%3D%7C3000%7C%7C%7C&sdata=yqJ2CU2MppoRESrOitDvpUi697d%2B04DuAGfm0rFwme4%3D&reserved=0 .\n  5. September 19: Emergency and Work Zone Management\, and Next Steps. Register to attend this webinar https://nam02.safelinks.protection.outlook.com/?url=https:%2F%2Flnks.gd%2Fl%2FeyJhbGciOiJIUzI1NiJ9.eyJidWxsZXRpbl9saW5rX2lkIjoxMDUsInVyaSI6ImJwMjpjbGljayIsInVybCI6Imh0dHBzOi8vdXNkb3Quem9vbWdvdi5jb20vd2ViaW5hci9yZWdpc3Rlci9XTl9kODZPU2ljcFRQcVV6N1FWY2dYOHVRIiwiYnVsbGV0aW5faWQiOiIyMDIzMDgwMS44MDQ4NzkwMSJ9.Lh9-bxsOYplRhD5Dp3jk5iWDRhTIGYZEAFubwOLm5JE%2Fs%2F1159082835%2Fbr%2F223517174474-l&data=05%7C01%7Cdavid.aimen%40ejb.rutgers.edu%7C9383c46b752d4d42935808db9298bef8%7Cb92d2b234d35447093ff69aca6632ffe%7C1%7C0%7C638264956974468455%7CUnknown%7CTWFpbGZsb3d8eyJWIjoiMC4wLjAwMDAiLCJQIjoiV2luMzIiLCJBTiI6Ik1haWwiLCJXVCI6Mn0%3D%7C3000%7C%7C%7C&sdata=HUh4wE65VMf0%2Fi8xKz3ndKdtyQPtUWl3bcsq8ou2fM4%3D&reserved=0 .
URL:https://njdottechtransfer.net/event/crowdsourcing-couse-webinars-emergency-and-work-zone-management-and-next-steps/
LOCATION:NJ
END:VEVENT
BEGIN:VEVENT
DTSTART;TZID=America/New_York:20230920T160000
DTEND;TZID=America/New_York:20230920T170000
DTSTAMP:20260424T021951
CREATED:20251205T200734Z
LAST-MODIFIED:20251205T200734Z
UID:21411-1695225600-1695229200@njdottechtransfer.net
SUMMARY:NJDOT Safety Resource Center - Updated FHWA Manual on Uniform Traffic Control Devices for Streets and Highways
DESCRIPTION:NJDOT Safety Resource Center is initiating a series of Lunch & Learn sessions.The Safety Resource Center is hosting an upcoming webinar. Join us on September 20 from 12 to 1 PM EST to learn about the FHWA’s Manual on Uniform Traffic Control Devices (MUTCD)\, why it is valuable\, how it serves the public\, considerations for using treatments not-supported by the MUTCD and when and how changes are made to the MUTCD. This webinar is available for PDH credit. Register Here https://nam02.safelinks.protection.outlook.com/?url=https:%2F%2Fbit.ly%2FLunchLearn-MUTCD&data=05%7C01%7Cdavid.aimen%40ejb.rutgers.edu%7C58dfe25763b94be259a908dbb3a9920f%7Cb92d2b234d35447093ff69aca6632ffe%7C1%7C0%7C638301313439216051%7CUnknown%7CTWFpbGZsb3d8eyJWIjoiMC4wLjAwMDAiLCJQIjoiV2luMzIiLCJBTiI6Ik1haWwiLCJXVCI6Mn0%3D%7C3000%7C%7C%7C&sdata=vrkQuc9KhFHFMyR0kQuGsrj47DUW1HqZ2mXou2WdRi8%3D&reserved=0
URL:https://njdottechtransfer.net/event/njdot-safety-resource-center-updated-fhwa-manual-on-uniform-traffic-control-devices-for-streets-and-highways/
LOCATION:NJ
END:VEVENT
BEGIN:VEVENT
DTSTART;TZID=America/New_York:20230920T170000
DTEND;TZID=America/New_York:20230920T190000
DTSTAMP:20260424T021951
CREATED:20251205T200734Z
LAST-MODIFIED:20251205T200734Z
UID:21412-1695229200-1695236400@njdottechtransfer.net
SUMMARY:Equity in Roadway Safety Webinar Series - Promising Practices for Meaningful Involvement in Transportation Decision Making
DESCRIPTION:FHWA invites you to the second technical session of the Equity in Roadway Safety Webinar Series. Join us https://nam02.safelinks.protection.outlook.com/?url=https:%2F%2Flnks.gd%2Fl%2FeyJhbGciOiJIUzI1NiJ9.eyJidWxsZXRpbl9saW5rX2lkIjoxMDEsInVyaSI6ImJwMjpjbGljayIsInVybCI6Imh0dHBzOi8vdXNkb3Quem9vbWdvdi5jb20vd2ViaW5hci9yZWdpc3Rlci9XTl9icHNKZ0RxWVJ3U2xLRFRaSFpZUVJRIiwiYnVsbGV0aW5faWQiOiIyMDIzMDgzMS44MTkzMzI1MSJ9.U0DTko2ZJRtTj47tRRdO5ga5p49Fn88uP-4k2r7Ynz0%2Fs%2F1159082835%2Fbr%2F225123730852-l&data=05%7C01%7Cdavid.aimen%40ejb.rutgers.edu%7Ca7cdbb3c914b48e3f19508dbaa4a11e0%7Cb92d2b234d35447093ff69aca6632ffe%7C1%7C0%7C638291008505357469%7CUnknown%7CTWFpbGZsb3d8eyJWIjoiMC4wLjAwMDAiLCJQIjoiV2luMzIiLCJBTiI6Ik1haWwiLCJXVCI6Mn0%3D%7C3000%7C%7C%7C&sdata=oqVfQnDX4fGCBy1XL4adVTLO04tk%2FkjKDjgmQfwccbg%3D&reserved=0 on September 20 at 1 pm to learn about innovative strategies and tools to conduct meaningful public involvement with members of underserved communities throughout the safety planning and project development cycle. Register now https://nam02.safelinks.protection.outlook.com/?url=https:%2F%2Flnks.gd%2Fl%2FeyJhbGciOiJIUzI1NiJ9.eyJidWxsZXRpbl9saW5rX2lkIjoxMDIsInVyaSI6ImJwMjpjbGljayIsInVybCI6Imh0dHBzOi8vdXNkb3Quem9vbWdvdi5jb20vd2ViaW5hci9yZWdpc3Rlci9XTl9icHNKZ0RxWVJ3U2xLRFRaSFpZUVJRIiwiYnVsbGV0aW5faWQiOiIyMDIzMDgzMS44MTkzMzI1MSJ9.SX3F97mPWjwVv0SY3Uherx-2WShG3-RC75Mk1siRawk%2Fs%2F1159082835%2Fbr%2F225123730852-l&data=05%7C01%7Cdavid.aimen%40ejb.rutgers.edu%7Ca7cdbb3c914b48e3f19508dbaa4a11e0%7Cb92d2b234d35447093ff69aca6632ffe%7C1%7C0%7C638291008505357469%7CUnknown%7CTWFpbGZsb3d8eyJWIjoiMC4wLjAwMDAiLCJQIjoiV2luMzIiLCJBTiI6Ik1haWwiLCJXVCI6Mn0%3D%7C3000%7C%7C%7C&sdata=lUe8NHOJWDYZVpGLykuDozNzoaDTZ%2F2ATJnh%2BmmH6cE%3D&reserved=0 .\nThis session will feature presentations on USDOT’s Promising Practices for Meaningful Public Involvement in Transportation Decision Making https://nam02.safelinks.protection.outlook.com/?url=https:%2F%2Flnks.gd%2Fl%2FeyJhbGciOiJIUzI1NiJ9.eyJidWxsZXRpbl9saW5rX2lkIjoxMDMsInVyaSI6ImJwMjpjbGljayIsInVybCI6Imh0dHBzOi8vd3d3LnRyYW5zcG9ydGF0aW9uLmdvdi9zaXRlcy9kb3QuZ292L2ZpbGVzLzIwMjItMTAvUHJvbWlzaW5nJTIwUHJhY3RpY2VzJTIwZm9yJTIwTWVhbmluZ2Z1bCUyMFB1YmxpYyUyMEludm9sdmVtZW50JTIwaW4lMjBUcmFuc3BvcnRhdGlvbiUyMERlY2lzaW9uLW1ha2luZy5wZGYiLCJidWxsZXRpbl9pZCI6IjIwMjMwODMxLjgxOTMzMjUxIn0.GHcPOBcDrggyoz8qAFjyRFVHESkHeY7YLMVeO97iPV4%2Fs%2F1159082835%2Fbr%2F225123730852-l&data=05%7C01%7Cdavid.aimen%40ejb.rutgers.edu%7Ca7cdbb3c914b48e3f19508dbaa4a11e0%7Cb92d2b234d35447093ff69aca6632ffe%7C1%7C0%7C638291008505357469%7CUnknown%7CTWFpbGZsb3d8eyJWIjoiMC4wLjAwMDAiLCJQIjoiV2luMzIiLCJBTiI6Ik1haWwiLCJXVCI6Mn0%3D%7C3000%7C%7C%7C&sdata=WYuq9z8z9Z62O7NGoRmZ2HkRNkMTypRw0xxzAOX9GPE%3D&reserved=0 \, tools from the Vision Zero Network\, and noteworthy strategies from State\, Regional and Local agencies. Featured agencies include: \n  * State – Massachusetts DOT and Minnesota DOT\n  * Regional – Burlington-Graham Metropolitan Planning Organization (BGMPO)\n  * Local – City of Detroit\, Alameda County Transportation Commission (CTC)\, City of Lancaster\, and City of Charlotte \nRegistration Link: https://usdot.zoomgov.com/webinar/register/WN_bpsJgDqYRwSlKDTZHZYQRQ https://nam02.safelinks.protection.outlook.com/?url=https:%2F%2Flnks.gd%2Fl%2FeyJhbGciOiJIUzI1NiJ9.eyJidWxsZXRpbl9saW5rX2lkIjoxMDQsInVyaSI6ImJwMjpjbGljayIsInVybCI6Imh0dHBzOi8vdXNkb3Quem9vbWdvdi5jb20vd2ViaW5hci9yZWdpc3Rlci9XTl9icHNKZ0RxWVJ3U2xLRFRaSFpZUVJRIiwiYnVsbGV0aW5faWQiOiIyMDIzMDgzMS44MTkzMzI1MSJ9.Gfwv-sz4bTQO3Y-3hhdp0n4YqiEEhajhs7WpADieplY%2Fs%2F1159082835%2Fbr%2F225123730852-l&data=05%7C01%7Cdavid.aimen%40ejb.rutgers.edu%7Ca7cdbb3c914b48e3f19508dbaa4a11e0%7Cb92d2b234d35447093ff69aca6632ffe%7C1%7C0%7C638291008505357469%7CUnknown%7CTWFpbGZsb3d8eyJWIjoiMC4wLjAwMDAiLCJQIjoiV2luMzIiLCJBTiI6Ik1haWwiLCJXVCI6Mn0%3D%7C3000%7C%7C%7C&sdata=S8MhVorXrU7gFEf78N6r%2Bmuocw%2FkWzCrqQtAS%2FTxWaY%3D&reserved=0 \n** \nWhat is Meaningful Public Involvement? \nUSDOT defines Meaningful Public Involvement as a process that proactively seeks full representation from the community\, considers public comments and feedback\, and incorporates that feedback into a project\, program\, or plan when possible. This session will highlight the benefits of meaningful public involvement\, including: \n  * Increasing trust between the organization and the community\n  * Increasing the likelihood that projects\, programs\, or plans will be accepted\n  * Creating more effective solutions\n  * Improving a community’s knowledge of the project\, program\, or plan\n  * Empowering people from different backgrounds to become involved in transportation decision-making\n  * Delivering a better project\, program\, or service with diverse ideas that promote equity and inclusion\n  * Ensuring against compliance concerns with authorities such as Title VI and NEPA that require public input and nondiscrimination \nYou can learn more about meaningful public involvement in roadway safety on the Equity in Roadway Safety website: https://highways.dot.gov/safety/zero-deaths/engage-community-representatives https://nam02.safelinks.protection.outlook.com/?url=https:%2F%2Flnks.gd%2Fl%2FeyJhbGciOiJIUzI1NiJ9.eyJidWxsZXRpbl9saW5rX2lkIjoxMDUsInVyaSI6ImJwMjpjbGljayIsInVybCI6Imh0dHBzOi8vaGlnaHdheXMuZG90Lmdvdi9zYWZldHkvemVyby1kZWF0aHMvZW5nYWdlLWNvbW11bml0eS1yZXByZXNlbnRhdGl2ZXMiLCJidWxsZXRpbl9pZCI6IjIwMjMwODMxLjgxOTMzMjUxIn0.kFNAtKjsbgAuFP9ji0hhraaQeXpdrj1Y_p1tLrw1m1s%2Fs%2F1159082835%2Fbr%2F225123730852-l&data=05%7C01%7Cdavid.aimen%40ejb.rutgers.edu%7Ca7cdbb3c914b48e3f19508dbaa4a11e0%7Cb92d2b234d35447093ff69aca6632ffe%7C1%7C0%7C638291008505357469%7CUnknown%7CTWFpbGZsb3d8eyJWIjoiMC4wLjAwMDAiLCJQIjoiV2luMzIiLCJBTiI6Ik1haWwiLCJXVCI6Mn0%3D%7C3000%7C%7C%7C&sdata=FsWEf72fvOaYDaCAqAUsITVDZwxV3QgqhvnJV9S%2BjQM%3D&reserved=0 \nAICP Credits – The American Planning Association (APA) Certification Maintenance (CM) credits are available to persons with AICP certification for this session. Please attend the entire session and log your credit on the APA Website https://nam02.safelinks.protection.outlook.com/?url=https:%2F%2Flnks.gd%2Fl%2FeyJhbGciOiJIUzI1NiJ9.eyJidWxsZXRpbl9saW5rX2lkIjoxMDYsInVyaSI6ImJwMjpjbGljayIsInVybCI6Imh0dHBzOi8vd3d3LnBsYW5uaW5nLm9yZy9sZWFybmluZy8iLCJidWxsZXRpbl9pZCI6IjIwMjMwODMxLjgxOTMzMjUxIn0.-1PAYYshIVbzN-E_csUxBnoeycYFTQcr2cLyXtzqQtY%2Fs%2F1159082835%2Fbr%2F225123730852-l&data=05%7C01%7Cdavid.aimen%40ejb.rutgers.edu%7Ca7cdbb3c914b48e3f19508dbaa4a11e0%7Cb92d2b234d35447093ff69aca6632ffe%7C1%7C0%7C638291008505357469%7CUnknown%7CTWFpbGZsb3d8eyJWIjoiMC4wLjAwMDAiLCJQIjoiV2luMzIiLCJBTiI6Ik1haWwiLCJXVCI6Mn0%3D%7C3000%7C%7C%7C&sdata=AqGgCDJiCu0EkD5bJ6aHJhM6OnslIRetcyNnjBbU0%2FI%3D&reserved=0 . Questions may be addressed to Jennifer Crobak (FHWA) (jennifer.crobak@dot.gov mailto:jennifer.crobak@dot.gov ) or via phone at 717-221-3440. \nRegistration Link: https://usdot.zoomgov.com/webinar/register/WN_bpsJgDqYRwSlKDTZHZYQRQ https://nam02.safelinks.protection.outlook.com/?url=https:%2F%2Flnks.gd%2Fl%2FeyJhbGciOiJIUzI1NiJ9.eyJidWxsZXRpbl9saW5rX2lkIjoxMDcsInVyaSI6ImJwMjpjbGljayIsInVybCI6Imh0dHBzOi8vdXNkb3Quem9vbWdvdi5jb20vd2ViaW5hci9yZWdpc3Rlci9XTl9icHNKZ0RxWVJ3U2xLRFRaSFpZUVJRIiwiYnVsbGV0aW5faWQiOiIyMDIzMDgzMS44MTkzMzI1MSJ9.oByZ8EHhFT_fDrAG5HMgdffN88sa37pwjLddkEZkfP0%2Fs%2F1159082835%2Fbr%2F225123730852-l&data=05%7C01%7Cdavid.aimen%40ejb.rutgers.edu%7Ca7cdbb3c914b48e3f19508dbaa4a11e0%7Cb92d2b234d35447093ff69aca6632ffe%7C1%7C0%7C638291008505357469%7CUnknown%7CTWFpbGZsb3d8eyJWIjoiMC4wLjAwMDAiLCJQIjoiV2luMzIiLCJBTiI6Ik1haWwiLCJXVCI6Mn0%3D%7C3000%7C%7C%7C&sdata=YwJmIVWQb2PMHVtpUoSDF8ZqamXrq8aN2NHcG9sS978%3D&reserved=0 \nBe on the lookout for the upcoming technical sessions of the Equity in Roadway Safety webinar series\, which will feature noteworthy tools and practices to elevate equity in roadway safety. You can find the most up to date information and watch previous sessions on our website: https://highways.dot.gov/safety/zero-deaths/equity-roadway-safety-webinar-series https://nam02.safelinks.protection.outlook.com/?url=https:%2F%2Flnks.gd%2Fl%2FeyJhbGciOiJIUzI1NiJ9.eyJidWxsZXRpbl9saW5rX2lkIjoxMDgsInVyaSI6ImJwMjpjbGljayIsInVybCI6Imh0dHBzOi8vaGlnaHdheXMuZG90Lmdvdi9zYWZldHkvemVyby1kZWF0aHMvZXF1aXR5LXJvYWR3YXktc2FmZXR5LXdlYmluYXItc2VyaWVzIiwiYnVsbGV0aW5faWQiOiIyMDIzMDgzMS44MTkzMzI1MSJ9.ghBLNyn69egQ3mrqZRwteM8kvb4w5sSxf6z6O97b-Zo%2Fs%2F1159082835%2Fbr%2F225123730852-l&data=05%7C01%7Cdavid.aimen%40ejb.rutgers.edu%7Ca7cdbb3c914b48e3f19508dbaa4a11e0%7Cb92d2b234d35447093ff69aca6632ffe%7C1%7C0%7C638291008505513766%7CUnknown%7CTWFpbGZsb3d8eyJWIjoiMC4wLjAwMDAiLCJQIjoiV2luMzIiLCJBTiI6Ik1haWwiLCJXVCI6Mn0%3D%7C3000%7C%7C%7C&sdata=%2F8fyR1ddHnTskNmygzCxJzS%2Bbm1zKq9hxLIphDeP4Gc%3D&reserved=0 https://nam02.safelinks.protection.outlook.com/?url=https:%2F%2Flnks.gd%2Fl%2FeyJhbGciOiJIUzI1NiJ9.eyJidWxsZXRpbl9saW5rX2lkIjoxMDksInVyaSI6ImJwMjpjbGljayIsInVybCI6Imh0dHBzOi8vdXNkb3Quem9vbWdvdi5jb20vd2ViaW5hci9yZWdpc3Rlci9XTl9icHNKZ0RxWVJ3U2xLRFRaSFpZUVJRIiwiYnVsbGV0aW5faWQiOiIyMDIzMDgzMS44MTkzMzI1MSJ9.ISKRUCnzMUi8kylnF1VBRIb-sHk5i7ovLcXanR1zLvA%2Fs%2F1159082835%2Fbr%2F225123730852-l&data=05%7C01%7Cdavid.aimen%40ejb.rutgers.edu%7Ca7cdbb3c914b48e3f19508dbaa4a11e0%7Cb92d2b234d35447093ff69aca6632ffe%7C1%7C0%7C638291008505513766%7CUnknown%7CTWFpbGZsb3d8eyJWIjoiMC4wLjAwMDAiLCJQIjoiV2luMzIiLCJBTiI6Ik1haWwiLCJXVCI6Mn0%3D%7C3000%7C%7C%7C&sdata=avohB33Hz%2BcF%2F1UnJ3xf8v90yl0xVAQEZ22BiOulMaQ%3D&reserved=0
URL:https://njdottechtransfer.net/event/equity-in-roadway-safety-webinar-series-promising-practices-for-meaningful-involvement-in-transportation-decision-making/
LOCATION:NJ
END:VEVENT
BEGIN:VEVENT
DTSTART;TZID=America/New_York:20230921T160000
DTEND;TZID=America/New_York:20230921T173000
DTSTAMP:20260424T021951
CREATED:20251205T200748Z
LAST-MODIFIED:20251205T200748Z
UID:21413-1695312000-1695317400@njdottechtransfer.net
SUMMARY:Safe Routes Academy: Safe Routes\, Safe Roads\, Safe Systems
DESCRIPTION:Safe Routes\, Safe Roads\, Safe Systems\nLEARN MORE ABOUT SAFE ROUTES ACADEMY AND HOW TO REGISTER https://www.saferoutesnj.org/safe-routes-academy/ \nTogether\, Complete Streets\, Safe Routes to School\, and Zero Deaths Initiatives create a roadmap for safe and sustainable transportation. This session will explore the intersection between Safe Routes to School\, Zero Deaths Initiatives\, and the Safe Systems Approach and how they are increasingly informing safety plans and street designs to improve conditions for walking and bicycling and ensuring safer streets for all. The session will highlight Complete and Green Streets Policies\, focusing on how to adopt and implement a policy.
URL:https://njdottechtransfer.net/event/safe-routes-academy-safe-routes-safe-roads-safe-systems/
LOCATION:NJ
END:VEVENT
BEGIN:VEVENT
DTSTART;TZID=America/New_York:20230927T170000
DTEND;TZID=America/New_York:20230927T183000
DTSTAMP:20260424T021951
CREATED:20251205T200748Z
LAST-MODIFIED:20251205T200748Z
UID:21414-1695834000-1695839400@njdottechtransfer.net
SUMMARY:Using NEPA Review to Define and Shape Better Projects
DESCRIPTION:https://www.volpe.dot.gov/events/using-nepa-review-define-and-shape-better-projects \nUsing NEPA Review to Define and Shape Better Projects \nWednesday\, September 27\, 2023 01:00pm \nNancy Daubenberger\nTransportation Commissioner\, Minnesota \nKammy Horne\nSenior Vice President of Development and Planning\, VIA Metropolitan Transit\, San Antonio\, TX \nMegan Blum\nHead of the Office of Environmental Protection\, Federal Transit Administration (FTA) \nEmily Biondi\nAssociate Administrator for Planning\, Environment\, and Realty\, Federal Highway Administration (FHWA) \nSpeaker Info: HERE https://www.volpe.dot.gov/events/using-nepa-review-define-and-shape-better-projects \nREGISTER HERE https://usdot.zoomgov.com/webinar/register/WN_mBdWNR3AT-6DCYjJVvtJRw
URL:https://njdottechtransfer.net/event/using-nepa-review-to-define-and-shape-better-projects/
LOCATION:NJ
END:VEVENT
BEGIN:VEVENT
DTSTART;TZID=America/New_York:20230928T160000
DTEND;TZID=America/New_York:20230928T173000
DTSTAMP:20260424T021951
CREATED:20251205T200748Z
LAST-MODIFIED:20251205T200748Z
UID:21415-1695916800-1695922200@njdottechtransfer.net
SUMMARY:Safe Routes Academy: Safe Routes to High Schools
DESCRIPTION:Safe Routes to High Schools\nLEARN MORE ABOUT THE SAFE ROUTES ACADEMY AND HOW TO REGISTER https://www.saferoutesnj.org/safe-routes-academy/ \nWith the passing of the federal Infrastructure Investment and Jobs Act law https://www.saferoutesnj.org/safe-routes-academy/ (IIJA)\, for the first time the needs of high schools and high school students are being explicitly considered in safe Routes to School projects\, programs\, and infrastructure funding. With this broadened mission in mind\, this session will explore issues\, opportunities\, and best practices for expanding SRTS program to include and meet the needs of high schools and high school students and providing new opportunities to promote healthy and sustainable transportation for all. This session will focus on best practices for interacting with and involving high school students in Safe Routes to School programs.
URL:https://njdottechtransfer.net/event/safe-routes-academy-safe-routes-to-high-schools/
LOCATION:NJ
END:VEVENT
END:VCALENDAR