BEGIN:VCALENDAR
VERSION:2.0
PRODID:-//NJDOT Technology Transfer - ECPv6.15.17.1//NONSGML v1.0//EN
CALSCALE:GREGORIAN
METHOD:PUBLISH
X-WR-CALNAME:NJDOT Technology Transfer
X-ORIGINAL-URL:https://njdottechtransfer.net
X-WR-CALDESC:Events for NJDOT Technology Transfer
REFRESH-INTERVAL;VALUE=DURATION:PT1H
X-Robots-Tag:noindex
X-PUBLISHED-TTL:PT1H
BEGIN:VTIMEZONE
TZID:America/New_York
BEGIN:DAYLIGHT
TZOFFSETFROM:-0500
TZOFFSETTO:-0400
TZNAME:EDT
DTSTART:20220313T070000
END:DAYLIGHT
BEGIN:STANDARD
TZOFFSETFROM:-0400
TZOFFSETTO:-0500
TZNAME:EST
DTSTART:20221106T060000
END:STANDARD
BEGIN:DAYLIGHT
TZOFFSETFROM:-0500
TZOFFSETTO:-0400
TZNAME:EDT
DTSTART:20230312T070000
END:DAYLIGHT
BEGIN:STANDARD
TZOFFSETFROM:-0400
TZOFFSETTO:-0500
TZNAME:EST
DTSTART:20231105T060000
END:STANDARD
BEGIN:DAYLIGHT
TZOFFSETFROM:-0500
TZOFFSETTO:-0400
TZNAME:EDT
DTSTART:20240310T070000
END:DAYLIGHT
BEGIN:STANDARD
TZOFFSETFROM:-0400
TZOFFSETTO:-0500
TZNAME:EST
DTSTART:20241103T060000
END:STANDARD
END:VTIMEZONE
BEGIN:VEVENT
DTSTART;TZID=America/New_York:20231101T000000
DTEND;TZID=America/New_York:20231102T000000
DTSTAMP:20260423T222038
CREATED:20251205T200804Z
LAST-MODIFIED:20251205T200804Z
UID:21420-1698796800-1698883200@njdottechtransfer.net
SUMMARY:2023 New Jersey Complete Streets Summit
DESCRIPTION:The 2023 Complete Streets Summit\, sponsored by the New Jersey Department of Transportation\, will be held on Wednesday\, November 1\, 2023. The full-day event will be held in-person at the College Avenue Campus Student Center at Rutgers University in New Brunswick\, and is free to attend. Registration is open and will be required due to capacity constraints.\nMORE INFORMATION & HOW TO REGISTER https://njbikeped.org/2023-nj-complete-streets-summit/ \nComplete Streets are streets designed for all road users based on the specific context and needs of your community. This biennial Summit brings together planners\, engineers\, public officials\, health professionals\, advocates\, and others involved with shaping communities throughout New Jersey. Summit session topics will include institutionalizing Complete and Green Streets policies\, lessons learned from implementation\, and what is in store for the Complete Streets movement. \nAs part of the Summit\, we will be presenting Complete Streets Champion and Complete Streets Excellence Awards to recognize individuals\, groups\, or communities who have worked to further Complete Streets policies or implementation in New Jersey.
URL:https://njdottechtransfer.net/event/2023-new-jersey-complete-streets-summit/
LOCATION:NJ
END:VEVENT
BEGIN:VEVENT
DTSTART;TZID=America/New_York:20231120T200000
DTEND;TZID=America/New_York:20231120T213000
DTSTAMP:20260423T222038
CREATED:20251205T200804Z
LAST-MODIFIED:20251205T200804Z
UID:21421-1700510400-1700515800@njdottechtransfer.net
SUMMARY:FHWA-AID Demonstration Program - New Notice of Funding Opportunity - External Information Session Webinar
DESCRIPTION:The FHWA has issued a new Notice of Funding Opportunity (NOFO) for the AID Demonstration Program (Opportunity No. 693JJ324NF-AIDDP) that has been posted to www.grants.gov https://www.grants.gov .\nThis is a multi-year NOFO\, and the first solicitation period (for “FY 23”) is now open from October 24\, 2023 to January 23\, 2024. \nThe “FY 24” solicitation period will quickly follow—from February 27\, 2024 to May 28\, 2024. The NOFO will also cover FY 25 and FY 26. \nFHWA will be hosting a webinar to overview the program: \nEXTERNAL INFORMATION SESSION (Introduce funding opportunity to potential applicants and 2023 application cycle) \nRegister Here https://nam02.safelinks.protection.outlook.com/?url=https:%2F%2Furldefense.com%2Fv3%2F__https:%2Fevents.gcc.teams.microsoft.com%2Fevent%2F8ef5041e-98fd-4935-9059-da51457af215%40c4cd245b-44f0-4395-a1aa-3848d258f78b__;!!J30X0ZrnC1oQtbA!PTOjjS5Z2lOR6zS6BRCQaaBCJJJ7BrrDGZYYbpVvMiNxW5WUVFFo4M2tQuWAh2lLUUDIXMbm_9Y_rOemRGsVWj5oRYJaiYMSMeo%24&data=05%7C01%7Cdavid.aimen%40ejb.rutgers.edu%7Cf01f295d760d45fbfffd08dbe0672255%7Cb92d2b234d35447093ff69aca6632ffe%7C1%7C0%7C638350505793101064%7CUnknown%7CTWFpbGZsb3d8eyJWIjoiMC4wLjAwMDAiLCJQIjoiV2luMzIiLCJBTiI6Ik1haWwiLCJXVCI6Mn0%3D%7C3000%7C%7C%7C&sdata=VUhd5dmVfv9KuUGuJsUUGN6TX15njHpJNGqicljnPdE%3D&reserved=0 \nNovember 20\, 2023\n3:00 PM ET – 4:30 PM ET
URL:https://njdottechtransfer.net/event/fhwa-aid-demonstration-program-new-notice-of-funding-opportunity-external-information-session-webinar/
LOCATION:NJ
END:VEVENT
BEGIN:VEVENT
DTSTART;TZID=America/New_York:20231129T190000
DTEND;TZID=America/New_York:20231129T200000
DTSTAMP:20260423T222038
CREATED:20251205T200804Z
LAST-MODIFIED:20251205T200804Z
UID:21422-1701284400-1701288000@njdottechtransfer.net
SUMMARY:Power Up: Working with Electric Utilities in Public Transportation’s Zero-Emission Transition
DESCRIPTION:Coordination with local electric utilities is a critical and essential step as many transit operations transition to electric powered fleets. Panelists will review the physical infrastructure and power-supply required to charge multiple battery electric buses at a time\, and ways to work out the most favorable rates.\nModerator \n  * Lisa Jerram\, Senior Director\, Bus Operations and New Vehicle Technologies\, American Public Transportation Association\, Washington\, DC \nRemarks \n  * Megan Blum\, Acting Deputy Associate Administrator\, Planning and Environment\, Federal Transit Administration\, Washington\, DC \nPanelists \n  * Michael Wygant\, Chief Operating Officer\, Transit Services\, San Diego Metropolitan Transit System\, San Diego\, CA\n  * Darian Nagle-Gamm\, Director of Transportation Services\, Iowa City\, IA\n  * Abhishek Dayal\, Director of Project Management Office\, Pinellas Suncoast Transit Authority\, St Petersburg\, FL\n  * Laura Whitted\, Account Executive\, Duke Energy\, St Petersburg\, FL
URL:https://njdottechtransfer.net/event/power-up-working-with-electric-utilities-in-public-transportations-zero-emission-transition/
LOCATION:NJ
END:VEVENT
BEGIN:VEVENT
DTSTART;TZID=America/New_York:20231130T180000
DTEND;TZID=America/New_York:20231130T193000
DTSTAMP:20260423T222038
CREATED:20251205T200819Z
LAST-MODIFIED:20251205T200819Z
UID:21423-1701367200-1701372600@njdottechtransfer.net
SUMMARY:Strategic Workforce Development (SWD) Fireside Chat
DESCRIPTION:SWD Fireside Chat on November 30!\nWe are excited to invite you to participate in a virtual fireside chat hosted by the Federal Highway Administration EDC-7 Strategic Workforce Development team. The session will cover proven funding strategies from workforce development programs and how their impactful partnerships have resulted in access to invaluable resources.\nJoin our live fireside chat on Thursday\, November 30\, 1:00-2:30 PM ET\, and ask your burning questions to our speakers from the Missouri Department of Transportation (MoDOT) and Michigan Department of Transportation (MDOT). Learn about how the workforce development program at MoDOT partners with a local organization with access to funding opportunities\, training\, and placement capabilities. You will also engage with MDOT and learn how they successfully used 504e funding and lean-on partnerships to benefit their Transportation Diversity and Recruitment Program.\nThis is your opportunity to ask questions and fuel the conversation with our SWD program leaders experienced in building workforce development programs. You can submit your questions now before the fireside chat here: https://www.menti.com/al24qnqi5v16 https://nam02.safelinks.protection.outlook.com/?url=https:%2F%2Flnks.gd%2Fl%2FeyJhbGciOiJIUzI1NiJ9.eyJidWxsZXRpbl9saW5rX2lkIjoxMDEsInVyaSI6ImJwMjpjbGljayIsInVybCI6Imh0dHBzOi8vd3d3Lm1lbnRpLmNvbS9hbDI0cW5xaTV2MTYiLCJidWxsZXRpbl9pZCI6IjIwMjMxMTA2Ljg1MjQwNTUxIn0.XGdyKqJQKyV1qn-755XssGMkkfmkZB61XO_5cob_520%2Fs%2F1159082835%2Fbr%2F230113135020-l&data=05%7C01%7Cdavid.aimen%40ejb.rutgers.edu%7C017b82c4e8d34c558b8108dbdf03dc33%7Cb92d2b234d35447093ff69aca6632ffe%7C1%7C0%7C638348979898561637%7CUnknown%7CTWFpbGZsb3d8eyJWIjoiMC4wLjAwMDAiLCJQIjoiV2luMzIiLCJBTiI6Ik1haWwiLCJXVCI6Mn0%3D%7C3000%7C%7C%7C&sdata=XI%2BYHvm0LsuHDzMERmeG6ofRE5ovCZuuNm0Lp6A%2B%2B3E%3D&reserved=0\nTo secure your spot\, register here: https://usdot.zoomgov.com/meeting/register/vJIscuyvqjotE8-B7pgMrtArNo9pRI8dnMg https://nam02.safelinks.protection.outlook.com/?url=https:%2F%2Flnks.gd%2Fl%2FeyJhbGciOiJIUzI1NiJ9.eyJidWxsZXRpbl9saW5rX2lkIjoxMDIsInVyaSI6ImJwMjpjbGljayIsInVybCI6Imh0dHBzOi8vdXNkb3Quem9vbWdvdi5jb20vbWVldGluZy9yZWdpc3Rlci92SklzY3V5dnFqb3RFOC1CN3BnTXJ0QXJObzlwUkk4ZG5NZyIsImJ1bGxldGluX2lkIjoiMjAyMzExMDYuODUyNDA1NTEifQ.BYorldOu4J5hmhfJ4p8w12QH3lFD8a7tuQ0f5LriPAo%2Fs%2F1159082835%2Fbr%2F230113135020-l&data=05%7C01%7Cdavid.aimen%40ejb.rutgers.edu%7C017b82c4e8d34c558b8108dbdf03dc33%7Cb92d2b234d35447093ff69aca6632ffe%7C1%7C0%7C638348979898561637%7CUnknown%7CTWFpbGZsb3d8eyJWIjoiMC4wLjAwMDAiLCJQIjoiV2luMzIiLCJBTiI6Ik1haWwiLCJXVCI6Mn0%3D%7C3000%7C%7C%7C&sdata=5sScfBNjo37Dq0FNP9LvbKW8Ycv%2BOXIqSpq43pkDHmw%3D&reserved=0\nDon’t miss the opportunity to engage with these leaders in workforce development and ask about their proven strategies.
URL:https://njdottechtransfer.net/event/strategic-workforce-development-swd-fireside-chat/
LOCATION:NJ
END:VEVENT
END:VCALENDAR