BEGIN:VCALENDAR
VERSION:2.0
PRODID:-//NJDOT Technology Transfer - ECPv6.15.17.1//NONSGML v1.0//EN
CALSCALE:GREGORIAN
METHOD:PUBLISH
X-ORIGINAL-URL:https://njdottechtransfer.net
X-WR-CALDESC:Events for NJDOT Technology Transfer
REFRESH-INTERVAL;VALUE=DURATION:PT1H
X-Robots-Tag:noindex
X-PUBLISHED-TTL:PT1H
BEGIN:VTIMEZONE
TZID:America/New_York
BEGIN:DAYLIGHT
TZOFFSETFROM:-0500
TZOFFSETTO:-0400
TZNAME:EDT
DTSTART:20230312T070000
END:DAYLIGHT
BEGIN:STANDARD
TZOFFSETFROM:-0400
TZOFFSETTO:-0500
TZNAME:EST
DTSTART:20231105T060000
END:STANDARD
BEGIN:DAYLIGHT
TZOFFSETFROM:-0500
TZOFFSETTO:-0400
TZNAME:EDT
DTSTART:20240310T070000
END:DAYLIGHT
BEGIN:STANDARD
TZOFFSETFROM:-0400
TZOFFSETTO:-0500
TZNAME:EST
DTSTART:20241103T060000
END:STANDARD
BEGIN:DAYLIGHT
TZOFFSETFROM:-0500
TZOFFSETTO:-0400
TZNAME:EDT
DTSTART:20250309T070000
END:DAYLIGHT
BEGIN:STANDARD
TZOFFSETFROM:-0400
TZOFFSETTO:-0500
TZNAME:EST
DTSTART:20251102T060000
END:STANDARD
END:VTIMEZONE
BEGIN:VEVENT
DTSTART;TZID=America/New_York:20240405T163000
DTEND;TZID=America/New_York:20240405T173000
DTSTAMP:20260423T135902
CREATED:20251205T200904Z
LAST-MODIFIED:20251205T200904Z
UID:21441-1712334600-1712338200@njdottechtransfer.net
SUMMARY:Optimize Transit Route Planning
DESCRIPTION:Mobility patterns and demand are constantly changing. To keep pace\, transit agencies need nimble workflows to transform and provide the best services to riders. To better meet the needs of riders\, the organization created a workflow to help transit professionals plan routes and estimate costs for trips. By pairing GIS\, powerful socioeconomic data\, and visualization tools\, this solution is easily configurable with ArcGIS—on premises or via web-based ecosystem.
URL:https://njdottechtransfer.net/event/optimize-transit-route-planning/
LOCATION:NJ
END:VEVENT
BEGIN:VEVENT
DTSTART;TZID=America/New_York:20240411T140000
DTEND;TZID=America/New_York:20240411T180000
DTSTAMP:20260423T135903
CREATED:20251205T200904Z
LAST-MODIFIED:20251205T200904Z
UID:21442-1712844000-1712858400@njdottechtransfer.net
SUMMARY:Central Jersey E-Micromobility Conference
DESCRIPTION:Keep Middlesex Moving presents the Central Jersey E-Micromobility Conference https://l4tkzxhab.cc.rs6.net/tn.jsp?f=001SIoml_ICiBXOISw1keKzn6-Pn63QYTtL9pMyoca8LPv7HfTZYgUrCUHxTmeEtbBWULCh4dy1ig3vumD8cpQ7BqutbeoqaZiI9M8d9E-ZRE6_PRFgAy4axVs6kkLnZ7tuxGOUIiiPvX5DBM6STGXs3kkPRzqGVfhb-Sz53lgAs45wSmP2SEFIR1MVFCylSosUMTluhi1-wHbD3jKWRUupUQ==&c=Gk1rno83I8a_gm3YKiZCGqBJNt2TPC8p7lN38DH5wL85U2bqm07ikg==&ch=R875-YjyONWnrvlXz8S_qzRK03wFkz-d2-R1Z5a6HuEUUE7wnQXAIw== on April 11 at St. Peter’s Hospital Conference Center. Hear from leading New Jersey experts on best practices\, municipal policy\, and safety and equity impacts.\nThis event is free. \nThis conference qualifies for 3.25 NJ AICP Certification Maintenance credits. For information visit NJ APA Chapter. https://www.planning.org/events/eventsingle/9287914/ \nSponsored by Keep Middlesex Moving\, this half day event will cover: \n1 – Trends in e-mobility and successful programs throughout the state of New Jersey\,\n2 – First and last mile impact for commuters and residents\, and creating more equitable transportation for all users.\n3 – NJ state and municipal ordinances\, enforcement\, and Vision Zero initiatives.\n4 – Complete Streets Technical Assistance\, Safe Streets for All grants\, and demonstration projects. \nPLUS\, participate in e-bicycle demonstrations courtesy of Trek Bicycle Stirling. \nSaint Peter’s University Hospital\,\nSister Marie de Pazzi Conference Center\, Room 1.\n254 Easton Ave.\, New Brunswick\, NJ \nRegister Here https://lp.constantcontactpages.com/ev/reg/c76aa2q/lp/097101a6-fe45-453a-bfea-57e22b90aa3a \nSpecial thanks to St. Peter’s University Hospital\, Middlesex County Regional Chamber of Commerce\, the City of New Brunswick\, and the Middlesex County Office of Planning.
URL:https://njdottechtransfer.net/event/central-jersey-e-micromobility-conference/
LOCATION:NJ
END:VEVENT
BEGIN:VEVENT
DTSTART;TZID=America/New_York:20240411T180000
DTEND;TZID=America/New_York:20240411T193000
DTSTAMP:20260423T135903
CREATED:20251205T200918Z
LAST-MODIFIED:20251205T200918Z
UID:21443-1712858400-1712863800@njdottechtransfer.net
SUMMARY:TRB Webinar: When Our Technology Solutions Do Not Work for Everyone
DESCRIPTION:When technology solutions are not accessible to people with disabilities\, the solutions are exclusionary. Public and private industries must work with people with disabilities when planning\, designing\, and implementing smart mobility solutions to make the products and services as accessible as possible. TRB will host a webinar on Thursday\, April 11\, 2024 from 2:00 PM to 3:30 PM Eastern that will present lived experiences highlighting accessibility issues with modern transportation technology\, along with examples of how policies can address these issues. Presenters will explore the barriers and opportunities created by transportation technologies and their effect on various communities.\nThis webinar is sponsored by TRB’s Standing Technical Committees on Information Systems and Technology and Accessible Transportation and Mobility. \nRegistration is free for employees of TRB sponsors as well as Titanium and Cobalt Global Affiliates. The registration rate for all other attendees is $100. \nSign into MyTRB.org https://www.mytrb.org/ to view registration information. Contact Patrice Davenport mailto:pdavenport@nas.edu?subject=Becoming%20a%20TRB%20sponsor%20or%20affiliate%20-%20webinars to inquire about becoming a TRB sponsor or global affiliate organization. \nA recording will be sent to all registrants after the webinar. \nWebinar agenda and presenters \n  1. Incorporating equity and accessibility considerations into the design of transportation technology – Kelly Buckland\, U.S. Department of Transportation \n  2. Avoiding digital exclusion: Web accessibility and other concerns in transportation technologies – James Mitchell\, Louisiana Department of Transportation and Development and John Schweitzer\, The Stairmaster Wheelchair\, LLC and Southern University\, Baton Rouge \n  3. Implementing accessibility policies in a transportation agency – David Shaffer\, David Shaffer Law \n  4. Question and answer session moderated by Preeti Choudhary\, DriveOhio \nThe first 60 minutes of the webinar will be for presentations and the final 30 minutes will be reserved for audience questions. \nLearning Objectives \nAt the end of this webinar\, participants will be able to: \n  1. Identify how technology can solve and create challenges for people with disabilities \n  2. Consider accessibility issues to reduce gaps in transportation planning\, design\, and implementation processes \n  3. Share about policies that seek to advance equity and accessibility in public and private industries \nProfessional Development Hours \nProfessional engineers (PEs) who register and attend the entire webinar as an individual will be awarded 1.5 Professional Development Hours (PDHs). TRB’s webinar program awards PDH credits only to the registered individual\, and not to other members of a group that view the webinar together. To be eligible for the credits\, individuals must remain signed in for the entire webinar\, including for any question and answer session following the presentations. \nThis webinar will be delivered as a scheduled – e-learning live event and is categorized within RCEP as Technical\, Health and Safety. \nPlease check with your licensing board to ensure that TRB webinar PDHs are approved by your board. \nTRB will report credits earned to the Registered Continuing Education Program https://www.rcep.net/ (RCEP). Complaints about registered providers may be sent to RCEP\, 1015 15th Street\, NW\, 8th Floor\, Washington\, D.C.\, 20005. \nAmerican Institute of Certified Planners Certification Maintenance Credits \nThis webinar is approved by the American Planning Association (APA) for 1.5 Certification Maintenance (CM) Credits. CM credits provide continuing education opportunities for AICP Certified Planners to continue their professional skills and knowledge. To receive CM credits\, Certified Planners should visit the TRB event webpage on American Planning Association https://www.planning.org/ and register their participation. \nPlease make sure that you register for this session and log in using the link that TRB provides to your email account. We use this as your record that you attended this session. TRB only maintains the records of attendees who use their email address to log into the webinar and cannot verify attendance of individuals who view the webinar without personally logging into the session. \nIf you have problems reporting your CM credits or have general questions about the CM program\, please contact AICPCM@planning.org mailto:AICPCM@planning.org?subject=Question%20about%20reporting%20CM%20credits . \nPre-registration is required. Once the webinar starts\, you will be unable to register. Individuals that are registered for a webinar but do not receive their confirmation emails due to their organization’s internal firewalls should contact TRB Helpdesk mailto:mytrb@nas.edu?subject=Help%20registering%20for%20TRB%20webinar for assistance in signing in. \nView our FAQ page http://www.trb.org/main/blurbs/182114.aspx for more information. \nContact: Beth Ewoldsen\nEmail: trbwebinar@nas.edu mailto:trbwebinar@nas.edu
URL:https://njdottechtransfer.net/event/trb-webinar-when-our-technology-solutions-do-not-work-for-everyone/
LOCATION:NJ
END:VEVENT
BEGIN:VEVENT
DTSTART;TZID=America/New_York:20240422T190000
DTEND;TZID=America/New_York:20240422T200000
DTSTAMP:20260423T135903
CREATED:20251205T200918Z
LAST-MODIFIED:20251205T200918Z
UID:21444-1713812400-1713816000@njdottechtransfer.net
SUMMARY:Programmatic Mitigation Planning Webinar(s) - #2
DESCRIPTION:The FHWA Office of Project Development & Environmental Review has scheduled two upcoming webinars to share the best practices\, benefits\, case studies\, and resources available for Programmatic Mitigation Planning. The upcoming webinars will feature Richard L. Darden\, PhD\, Ecologist\, FHWA Office of Planning\, Environment & Realty and Mike Ruth\, PG\, Ecologist\, FHWA Resource Center.\nProgrammatic Mitigation Planning Webinar \n  * Tuesday April 16 from 3:00-4:00 pm ET \n  Registration is open https://nam02.safelinks.protection.outlook.com/?url=https:%2F%2Flnks.gd%2Fl%2FeyJhbGciOiJIUzI1NiJ9.eyJidWxsZXRpbl9saW5rX2lkIjoxMDAsInVyaSI6ImJwMjpjbGljayIsInVybCI6Imh0dHBzOi8vdXNkb3Quem9vbWdvdi5jb20vd2ViaW5hci9yZWdpc3Rlci9XTl9mRWFKTlBzeVFMaXI1Rkw5QS1HdFN3IiwiYnVsbGV0aW5faWQiOiIyMDI0MDQxNi45MzQwODAwMSJ9.1UR8w3_RrWSNudQXok-YtZbI5r3Tqk4hvvwIEz21JHg%2Fs%2F1159082835%2Fbr%2F240804589505-l&data=05%7C02%7Cdavid.aimen%40ejb.rutgers.edu%7Cc4db6b15844a4379826208dc5e139cc4%7Cb92d2b234d35447093ff69aca6632ffe%7C1%7C0%7C638488687968063982%7CUnknown%7CTWFpbGZsb3d8eyJWIjoiMC4wLjAwMDAiLCJQIjoiV2luMzIiLCJBTiI6Ik1haWwiLCJXVCI6Mn0%3D%7C0%7C%7C%7C&sdata=%2BHMdtXZ%2FwUPA98oVqKy0Pg7dFXI%2FuCJU8RLdtosfN3c%3D&reserved=0 \n  * Monday April 22 from 3:00-4:00 pm ET \n  Registration is open https://nam02.safelinks.protection.outlook.com/?url=https:%2F%2Flnks.gd%2Fl%2FeyJhbGciOiJIUzI1NiJ9.eyJidWxsZXRpbl9saW5rX2lkIjoxMDEsInVyaSI6ImJwMjpjbGljayIsInVybCI6Imh0dHBzOi8vdXNkb3Quem9vbWdvdi5jb20vd2ViaW5hci9yZWdpc3Rlci9XTl9aZUI4Vml0SFFXaUM4QWFWRy1QU3dnIy9yZWdpc3RyYXRpb24iLCJidWxsZXRpbl9pZCI6IjIwMjQwNDE2LjkzNDA4MDAxIn0.q8LdGJIUTb2mfkuacXLHsySgw9QGPwxIsKc6Kcsia5c%2Fs%2F1159082835%2Fbr%2F240804589505-l&data=05%7C02%7Cdavid.aimen%40ejb.rutgers.edu%7Cc4db6b15844a4379826208dc5e139cc4%7Cb92d2b234d35447093ff69aca6632ffe%7C1%7C0%7C638488687968077171%7CUnknown%7CTWFpbGZsb3d8eyJWIjoiMC4wLjAwMDAiLCJQIjoiV2luMzIiLCJBTiI6Ik1haWwiLCJXVCI6Mn0%3D%7C0%7C%7C%7C&sdata=cL6CwboISYvP6WI%2FBdWVo5Rr5UYr9TDsb%2B73Y5qTLss%3D&reserved=0 \n*Register for either session for the PMP Webinar \nWebinar participants will learn more about the Programmatic Mitigation Planning Guidebook https://nam02.safelinks.protection.outlook.com/?url=https:%2F%2Flnks.gd%2Fl%2FeyJhbGciOiJIUzI1NiJ9.eyJidWxsZXRpbl9saW5rX2lkIjoxMDIsInVyaSI6ImJwMjpjbGljayIsInVybCI6Imh0dHBzOi8vd3d3LmVudmlyb25tZW50LmZod2EuZG90Lmdvdi9wdWJzX3Jlc291cmNlc190b29scy9wdWJsaWNhdGlvbnMvY2FzZV9zdHVkaWVzL1Byb2dNaXRQbGFubmluZ0d1aWRlYm9va18xMC00LTIwMjMucGRmIiwiYnVsbGV0aW5faWQiOiIyMDI0MDQxNi45MzQwODAwMSJ9.TV4ZXOyMNf84UBtC2vcRxYhep5prlBSMYR8VDyBFhls%2Fs%2F1159082835%2Fbr%2F240804589505-l&data=05%7C02%7Cdavid.aimen%40ejb.rutgers.edu%7Cc4db6b15844a4379826208dc5e139cc4%7Cb92d2b234d35447093ff69aca6632ffe%7C1%7C0%7C638488687968083546%7CUnknown%7CTWFpbGZsb3d8eyJWIjoiMC4wLjAwMDAiLCJQIjoiV2luMzIiLCJBTiI6Ik1haWwiLCJXVCI6Mn0%3D%7C0%7C%7C%7C&sdata=ReVKn9bF4TQeZLQV5VYjeKD78IcsM%2Bi07hOF688cShE%3D&reserved=0 that has been developed to improve environmental outcomes and transportation project delivery. As a proactive planning tool\, it serves as a resource for transportation and environmental practitioners at State Departments of Transportation\, Metropolitan Planning Organizations\, and other transportation entities to assist in the development and implementation of programmatic mitigation plans (PMPs) for impacts of future transportation projects to environmental\, cultural\, historic\, and other resources. \nUnder applicable Federal law\, transportation agencies and project proponents have the responsibility to mitigate unavoidable impacts to ensure the preservation of environmental and cultural resources. The webinar will explore how State DOTs and MPOs can develop a PMP in coordination with resource agencies and other stakeholders\, that not only meets the statutory requirements\, but also builds upon best practices in mitigation\, resource science\, and transportation planning. \nFor more information on resources related to programmatic mitigation planning visit FHWA’s Environmental Review https://nam02.safelinks.protection.outlook.com/?url=https:%2F%2Flnks.gd%2Fl%2FeyJhbGciOiJIUzI1NiJ9.eyJidWxsZXRpbl9saW5rX2lkIjoxMDMsInVyaSI6ImJwMjpjbGljayIsInVybCI6Imh0dHBzOi8vd3d3LmVudmlyb25tZW50LmZod2EuZG90Lmdvdi8iLCJidWxsZXRpbl9pZCI6IjIwMjQwNDE2LjkzNDA4MDAxIn0.JvkbJne3Josycyy0tJn_iv1x1BlhqLGWaH5oPFZ8ZyQ%2Fs%2F1159082835%2Fbr%2F240804589505-l&data=05%7C02%7Cdavid.aimen%40ejb.rutgers.edu%7Cc4db6b15844a4379826208dc5e139cc4%7Cb92d2b234d35447093ff69aca6632ffe%7C1%7C0%7C638488687968089864%7CUnknown%7CTWFpbGZsb3d8eyJWIjoiMC4wLjAwMDAiLCJQIjoiV2luMzIiLCJBTiI6Ik1haWwiLCJXVCI6Mn0%3D%7C0%7C%7C%7C&sdata=wRAXZC%2F67p6qclOZOvCEP%2F4D5tzKdMhBwsF0FKjRzsM%3D&reserved=0 Toolkit or contact Richard Darden mailto:richard.darden@dot.gov at (202) 366-9509.
URL:https://njdottechtransfer.net/event/programmatic-mitigation-planning-webinars-2/
LOCATION:NJ
END:VEVENT
BEGIN:VEVENT
DTSTART;TZID=America/New_York:20240426T130000
DTEND;TZID=America/New_York:20240426T203000
DTSTAMP:20260423T135903
CREATED:20251205T200918Z
LAST-MODIFIED:20251205T200918Z
UID:21445-1714136400-1714163400@njdottechtransfer.net
SUMMARY:Equitable Growth in the City: Problems\, Approaches\, and Public Scholarship
DESCRIPTION:A challenge for 21st century cities is how to foster economic growth that benefits all stakeholders—present and future residents\, businesses and non-profit institutions—without gentrification or worsening entrenched inequality. Few cities have taken on this project like Newark\, NJ. Equitable Growth in the City will bring together elected officials\, community-based actors\, scholars and members of the private sector in conversation about how to equitably address the problems and approaches to growing cities like Newark. We will examine topics such as the creation of equitable growth advisory commissions\, interdisciplinary perspectives on affordable housing development\, and the unseen connections between housing and health outcomes. Along the way\, we will present recent public scholarship on the many points of law and policy involved in equitable growth. No person has been a greater champion for these collaborations between universities and their cities than outgoing Newark Chancellor Nancy Cantor. We will celebrate her during the luncheon at which the Honorable Mayor Ras Baraka will deliver the keynote. Please join us!\nIn-Person RSVP: https://forms.gle/dEDj75tpezwmBdyw7\nOnline (Zoom) RSVP: https://rutgers.zoom.us/webinar/register/WN_ieGOsDosTV6he1f3ABUNFw
URL:https://njdottechtransfer.net/event/equitable-growth-in-the-city-problems-approaches-and-public-scholarship/
LOCATION:NJ
END:VEVENT
BEGIN:VEVENT
DTSTART;TZID=America/New_York:20240430T000000
DTEND;TZID=America/New_York:20240503T000000
DTSTAMP:20260423T135903
CREATED:20251205T200918Z
LAST-MODIFIED:20251205T200918Z
UID:21446-1714435200-1714694400@njdottechtransfer.net
SUMMARY:2024 NJ TransAction Conference
DESCRIPTION:The 2024 NJ TransAction will feature over 120 exhibitors including vehicles and other larger equipment. There will be at least 90+ workshop sessions (7-9 concurrent throughout each day) specializing in bus\, rail\, roads\, bridges\, goods movement\, engineering\, planning\, pedestrian/bicycle\, paratransit\, community transportation\, ports\, NJ TRANSIT\, NJ DOT\, PATH\, AMTRAK and much more.\nMany workshops will be approved for Planning AICP and Engineering PDH credits. \nApril 30\, May 1 & 2\, 2024 (Tuesday\, Wednesday & Thursday)\nHarrah’s Resort & Casino\, Atlantic City\, NJ \nWho Should Attend… Transportation Management Directors\, Planners\, Engineers\, Grant Writers\, Operators\, Elected Officials\, Municipal\, County\, and State Representatives\, Consultants\, Administrators\, and local\, county\, state\, and national stakeholders from all levels of public and private sectors\, and anyone interested in any mode of transportation. \nWho Should Exhibit… Those who supply & provide transportation-related information and supplies\, consultants\, engineering & planning firms\, vehicle & bus manufacturers and dealers\, attorneys\, and COVID-19 cleaning products & services. This is a great opportunity to connect with your customers and potential customers. Let’s get back to meeting customers at the 2024 NJ TransAction Conference. \nContinuing Education Credits… Many workshops will be designated with NJ Planning AICP Credits AND NJ Engineering PDH Credits. \nInformation on conference registration\, sponsorship opportunities\, and exhibitor information can be found on the NJ TransAction website at www.njtransaction.com https://www.njtransaction.com/
URL:https://njdottechtransfer.net/event/2024-nj-transaction-conference/
LOCATION:NJ
END:VEVENT
BEGIN:VEVENT
DTSTART;TZID=America/New_York:20240430T180000
DTEND;TZID=America/New_York:20240430T193000
DTSTAMP:20260423T135903
CREATED:20251205T200919Z
LAST-MODIFIED:20251205T200919Z
UID:21447-1714500000-1714505400@njdottechtransfer.net
SUMMARY:Integrating GHG Emissions into Planning Webinar #2 - Goals\, Objectives\, Performance Measures and Targets
DESCRIPTION:Integrating GHG Emissions into Planning Webinar #2 – Goals\, Objectives\, Performance Measures and Targets\nJoin us on April 30th from 2:00 – 3:30 pm ET for the second webinar in our Every Day Counts GHG webinar series. This webinar will focus on how transportation agencies can incorporate goals\, objectives\, performance measures and targets into their planning processes and will feature presentations from the Vermont Agency of Transportation and the Columbus\, OH metropolitan planning organization (MORPC). To register\, please follow the link below. \nRegister for the Integrating GHG Emissions into Planning Webinar #2 https://nam02.safelinks.protection.outlook.com/?url=https:%2F%2Flnks.gd%2Fl%2FeyJhbGciOiJIUzI1NiJ9.eyJidWxsZXRpbl9saW5rX2lkIjoxMDIsInVyaSI6ImJwMjpjbGljayIsInVybCI6Imh0dHBzOi8vdXNkb3Quem9vbWdvdi5jb20vd2ViaW5hci9yZWdpc3Rlci9XTl9UNm5HSVpBN1N2NnJBYTVSUmVXS3lBIy9yZWdpc3RyYXRpb24iLCJidWxsZXRpbl9pZCI6IjIwMjQwNDE1LjkzMzYzMzgxIn0.4APxNpSxSjPbF070HC764k0Yj2l5IimHOLYD9-P93KY%2Fs%2F1159082835%2Fbr%2F240751541107-l&data=05%7C02%7Cdavid.aimen%40ejb.rutgers.edu%7Cc1a6b9336bfe4478c99d08dc5d5f7716%7Cb92d2b234d35447093ff69aca6632ffe%7C1%7C0%7C638487911817816681%7CUnknown%7CTWFpbGZsb3d8eyJWIjoiMC4wLjAwMDAiLCJQIjoiV2luMzIiLCJBTiI6Ik1haWwiLCJXVCI6Mn0%3D%7C0%7C%7C%7C&sdata=EoE2y8v8alf7QdUSuKrp5aaRg0idx4WwRf7MCq2peTQ%3D&reserved=0
URL:https://njdottechtransfer.net/event/integrating-ghg-emissions-into-planning-webinar-2-goals-objectives-performance-measures-and-targets/
LOCATION:NJ
END:VEVENT
END:VCALENDAR