BEGIN:VCALENDAR
VERSION:2.0
PRODID:-//NJDOT Technology Transfer - ECPv6.15.17.1//NONSGML v1.0//EN
CALSCALE:GREGORIAN
METHOD:PUBLISH
X-WR-CALNAME:NJDOT Technology Transfer
X-ORIGINAL-URL:https://njdottechtransfer.net
X-WR-CALDESC:Events for NJDOT Technology Transfer
REFRESH-INTERVAL;VALUE=DURATION:PT1H
X-Robots-Tag:noindex
X-PUBLISHED-TTL:PT1H
BEGIN:VTIMEZONE
TZID:America/New_York
BEGIN:DAYLIGHT
TZOFFSETFROM:-0500
TZOFFSETTO:-0400
TZNAME:EDT
DTSTART:20230312T070000
END:DAYLIGHT
BEGIN:STANDARD
TZOFFSETFROM:-0400
TZOFFSETTO:-0500
TZNAME:EST
DTSTART:20231105T060000
END:STANDARD
BEGIN:DAYLIGHT
TZOFFSETFROM:-0500
TZOFFSETTO:-0400
TZNAME:EDT
DTSTART:20240310T070000
END:DAYLIGHT
BEGIN:STANDARD
TZOFFSETFROM:-0400
TZOFFSETTO:-0500
TZNAME:EST
DTSTART:20241103T060000
END:STANDARD
BEGIN:DAYLIGHT
TZOFFSETFROM:-0500
TZOFFSETTO:-0400
TZNAME:EDT
DTSTART:20250309T070000
END:DAYLIGHT
BEGIN:STANDARD
TZOFFSETFROM:-0400
TZOFFSETTO:-0500
TZNAME:EST
DTSTART:20251102T060000
END:STANDARD
END:VTIMEZONE
BEGIN:VEVENT
DTSTART;TZID=America/New_York:20241008T170000
DTEND;TZID=America/New_York:20241008T180000
DTSTAMP:20260423T053900
CREATED:20251205T201118Z
LAST-MODIFIED:20251205T201118Z
UID:21483-1728406800-1728410400@njdottechtransfer.net
SUMMARY:Making Good on the Potential of the Bipartisan Infrastructure Law
DESCRIPTION:Since the passage of the Bipartisan Infrastructure Law (BIL)\, a once-in-a-generation opportunity to rebuild our nation’s infrastructure\, every state and region of this country has seen historic federal investments announced in roads and bridges\, ports and airports\, and trains and transit. The Biden-Harris Administration has announced nearly $454 billion in BIL funding since its passage in 2021\, including over 56\,000 specific projects and awards across over 4\,500 communities in all 50 states\, D.C.\, and the territories and for Tribes.\nWhile many of the economic benefits of the legislation will play out over the coming years and decades\, job gains in construction industries suggest that some benefits have already begun to emerge. In addition\, because of strong investment in transportation and infrastructure and the construction and manufacturing that goes with it\, we are in the midst of an extraordinary and\, by many measures\, unprecedented period of economic growth. \nU.S. Secretary of Transportation Pete Buttigieg launched the U.S. DOT Project Delivery Center of Excellence in the summer of 2023. At the kickoff of a U.S. DOT thought leadership series on Delivering the Benefits of the BIL https://www.volpe.dot.gov/project-delivery-center-excellence/delivering-benefits-bipartisan-infrastructure-law \, Secretary Buttigieg stated that many of the 800 participants linking in from across the transportation enterprise were a part of the story of the passage of the monumental BIL. “And now\, it’s time to be part of the story of how we make good on its potential\,” he said. \nU.S. DOT is committed to partnering with federal\, Tribal governments\, state\, and local project sponsors to speed up project delivery and thereby maximize and accelerate the benefits of BIL. The Project Delivery Center of Excellence is one of the critical tools U.S. DOT is using to achieve such success. \nREGISTER https://usdot.zoomgov.com/webinar/register/WN_YW5SUmdIS8ibnRPbxFoAow \nSeries Panels \nThis virtual\, three-part thought leadership series will include three panels of transportation thought leaders focusing on: \n  * Project Delivery Lessons Learned from Emergency Response Following an Infrastructure Catastrophe (9/18)\n  * Best Practices to Get Big Infrastructure Projects off the Ground (10/8)\n  * Project Acceleration for the Public Good (10/22) \nPanel 2: Best Practices to Get Big Infrastructure Projects off the Ground https://www.volpe.dot.gov/events/panel-2-best-practices-get-big-infrastructure-projects-ground https://www.volpe.dot.gov/events/project-delivery-lessons-learned-emergency-response-following-infrastructure-catastrophe \n  * Christopher Coes\, Acting Under Secretary of Transportation Policy\, U.S. DOT\n  * Stephen Sigmund\, Chief of Public Outreach\, Gateway Development Commission\n  * Jessica Mefford-Miller\, Chief Executive Officer\, Valley Metro
URL:https://njdottechtransfer.net/event/making-good-on-the-potential-of-the-bipartisan-infrastructure-law/
LOCATION:NJ
END:VEVENT
BEGIN:VEVENT
DTSTART;TZID=America/New_York:20241009T180000
DTEND;TZID=America/New_York:20241009T193000
DTSTAMP:20260423T053900
CREATED:20251205T201118Z
LAST-MODIFIED:20251205T201118Z
UID:21484-1728496800-1728502200@njdottechtransfer.net
SUMMARY:FHWA Carbon Reduction Strategies from Planning to Implementation Webinars
DESCRIPTION:FHWA CARBON REDUCTION STRATEGIES: FROM PLANNING TO IMPLEMENTATION WEBINARS\nFHWA is offering two sessions via Zoom. Different States will be highlighted in each session. To register for a webinar please follow the links below: \n  * October 9\, 2024 from 2:00 to 3:30 pm Eastern. This webinar will feature staff from the Minnesota\, Alabama\, and Pennsylvania DOTs. Register at https://usdot.zoomgov.com/webinar/register/WN_vvOcq5vfSEmgcTd5G2GmwA https://nam02.safelinks.protection.outlook.com/?url=https:%2F%2Flinks-2.govdelivery.com%2FCL0%2Fhttps:%252F%252Fgcc02.safelinks.protection.outlook.com%252F%253Furl%3Dhttps%25253A%25252F%25252Fusdot.zoomgov.com%25252Fwebinar%25252Fregister%25252FWN_vvOcq5vfSEmgcTd5G2GmwA%2526data%3D05%25257C02%25257CSheliza.Bhanjee%252540dot.gov%25257Cf3dfa8197848478c8b9008dce3b44aa0%25257Cc4cd245b44f04395a1aa3848d258f78b%25257C0%25257C0%25257C638635610679156898%25257CUnknown%25257CTWFpbGZsb3d8eyJWIjoiMC4wLjAwMDAiLCJQIjoiV2luMzIiLCJBTiI6Ik1haWwiLCJXVCI6Mn0%25253D%25257C0%25257C%25257C%25257C%2526sdata%3D863HcIX5hpJBz04uUk%25252FdWoBmjJxl7iaGS2SK%25252BrKFiDM%25253D%2526reserved%3D0%2F1%2F0101019253f9c4dd-eaa4b5bb-5a39-43a1-aebd-3cf923b2c5a1-000000%2FmKXB7_NAIaw_Ckx9E7Wd6OeGUHh9uXTv7KqSqkhdtBk%3D373&data=05%7C02%7Cdavid.aimen%40ejb.rutgers.edu%7C2458aeee487f47d34f5908dce3e644fd%7Cb92d2b234d35447093ff69aca6632ffe%7C1%7C0%7C638635825352489304%7CUnknown%7CTWFpbGZsb3d8eyJWIjoiMC4wLjAwMDAiLCJQIjoiV2luMzIiLCJBTiI6Ik1haWwiLCJXVCI6Mn0%3D%7C0%7C%7C%7C&sdata=%2BLZFexDIerhSEId1dissfI1agfwgyknun9GM%2FRu3X64%3D&reserved=0 .\n  * October 17\, 2024 from 2:00 to 3:30 pm Eastern. This webinar will feature staff from the Indiana\, Oregon\, and North Carolina DOTs. Register at https://usdot.zoomgov.com/webinar/register/WN_cd3bKEn5Tomn7_OCNXO2xA https://nam02.safelinks.protection.outlook.com/?url=https:%2F%2Flinks-2.govdelivery.com%2FCL0%2Fhttps:%252F%252Fgcc02.safelinks.protection.outlook.com%252F%253Furl%3Dhttps%25253A%25252F%25252Fusdot.zoomgov.com%25252Fwebinar%25252Fregister%25252FWN_cd3bKEn5Tomn7_OCNXO2xA%2526data%3D05%25257C02%25257CSheliza.Bhanjee%252540dot.gov%25257Cf3dfa8197848478c8b9008dce3b44aa0%25257Cc4cd245b44f04395a1aa3848d258f78b%25257C0%25257C0%25257C638635610679175867%25257CUnknown%25257CTWFpbGZsb3d8eyJWIjoiMC4wLjAwMDAiLCJQIjoiV2luMzIiLCJBTiI6Ik1haWwiLCJXVCI6Mn0%25253D%25257C0%25257C%25257C%25257C%2526sdata%3DMvS0Y2jWhIzh3iKoRSsNXJ4uFh6y2i%25252B6J2Ku3tDoyIY%25253D%2526reserved%3D0%2F1%2F0101019253f9c4dd-eaa4b5bb-5a39-43a1-aebd-3cf923b2c5a1-000000%2FPBc39KifpNK3zaLT8gWXu9k1D_73aiow4V0zShSPEtY%3D373&data=05%7C02%7Cdavid.aimen%40ejb.rutgers.edu%7C2458aeee487f47d34f5908dce3e644fd%7Cb92d2b234d35447093ff69aca6632ffe%7C1%7C0%7C638635825352500228%7CUnknown%7CTWFpbGZsb3d8eyJWIjoiMC4wLjAwMDAiLCJQIjoiV2luMzIiLCJBTiI6Ik1haWwiLCJXVCI6Mn0%3D%7C0%7C%7C%7C&sdata=63MEexuxYXLyITSg6XCGv3PuenRpgZ8v90h146zswdI%3D&reserved=0 .
URL:https://njdottechtransfer.net/event/fhwa-carbon-reduction-strategies-from-planning-to-implementation-webinars/
LOCATION:NJ
END:VEVENT
BEGIN:VEVENT
DTSTART;TZID=America/New_York:20241009T180000
DTEND;TZID=America/New_York:20241009T193000
DTSTAMP:20260423T053900
CREATED:20251205T201118Z
LAST-MODIFIED:20251205T201118Z
UID:21485-1728496800-1728502200@njdottechtransfer.net
SUMMARY:USDOT Climate Change Center - Advancing Low Carbon Materials
DESCRIPTION:The USDOT Climate Change Center is hosting the Fall/Winter 2024 webinar series on climate change and transportation topics\, ranging from greenhouse gas reduction strategies to climate resilience activities to research and technology advancements.\nRegister for all webinars HERE https://usdot.zoomgov.com/webinar/register/WN_LbmU7tzrRKGUKAPRL2q2lg#/registration . \nLearn more about the USDOT Climate Change Center here: www.transportation.gov/priorities/climate-and-sustainability/dot-climate-change-center https://www.transportation.gov/priorities/climate-and-sustainability/dot-climate-change-center \nUpcoming Webinars: \nSept 24\, 2:00 PM ET – Climate Equity and Environmental Justice: Leveraging Data and Evidence \nOct 9\, 2:00 PM ET- Advancing Low Carbon Materials \nNov 14\, 2:00 PM ET – Resilient Transportation Infrastructure: DOT Climate Adaptation Plan 2024-2027 \nDec 11\, 2:00 PM ET – Parking Reform as a Climate Strategy \nJan 15\, 2:00 PM ET – Navigating Climate Challenges: Enhancing Transportation Resilience
URL:https://njdottechtransfer.net/event/usdot-climate-change-center-advancing-low-carbon-materials/
LOCATION:NJ
END:VEVENT
BEGIN:VEVENT
DTSTART;TZID=America/New_York:20241016T170000
DTEND;TZID=America/New_York:20241016T183000
DTSTAMP:20260423T053900
CREATED:20251205T201119Z
LAST-MODIFIED:20251205T201119Z
UID:21486-1729098000-1729103400@njdottechtransfer.net
SUMMARY:WEBINAR: Oregon DOT’s Strategy to Implement Internal Curing for Bridge Decks
DESCRIPTION:Oregon DOT’s Strategy to Implement Internal Curing\nPlease join us to learn about the strategy adopted by the Oregon Department of Transportation (ODOT) to implement internal curing (IC) for bridge deck construction. \nThis webinar will offer participants insights on why ODOT explored internally cured concrete. The development of draft specifications\, trial projects\, and preliminary challenges will be discussed. The advantages of internal curing will be presented in field crack surveys and cost-benefit studies. ODOT will present its approach to bridge deck service life before and after IC and share their final specification revisions. By showcasing one State agency’s path to successful deployment\, this webinar will provide other agencies with useful information to help navigate their own implementation. \n** \nWebinar Details https://nam02.safelinks.protection.outlook.com/?url=https:%2F%2Flinks-2.govdelivery.com%2FCL0%2Fhttps:%252F%252Fgcc02.safelinks.protection.outlook.com%252F%253Furl%3Dhttps%25253A%25252F%25252Fusdot.zoomgov.com%25252Fj%25252F1617738326%25253Fpwd%25253DyBUb4HP6krFnv0iF2P67RoECuaAcOX.1%2526data%3D05%25257C02%25257Ctimothy.barrett%252540dot.gov%25257Cc39730f5d18a468acab108dcd42c6469%25257Cc4cd245b44f04395a1aa3848d258f78b%25257C0%25257C0%25257C638618535411926754%25257CUnknown%25257CTWFpbGZsb3d8eyJWIjoiMC4wLjAwMDAiLCJQIjoiV2luMzIiLCJBTiI6Ik1haWwiLCJXVCI6Mn0%25253D%25257C0%25257C%25257C%25257C%2526sdata%3DIHvUMEVMuvAn6266sC1MvYDhgtKTKatKnVnqgrg75FY%25253D%2526reserved%3D0%2F1%2F0101019276a03ab5-5ffbb370-c83e-4588-97dc-a49da8ac6c68-000000%2F4GQOhWD6XhPKPrcGwH_ZbVb5zFZI1g9EPCzq31nf94U%3D374&data=05%7C02%7Cdavid.aimen%40ejb.rutgers.edu%7C2795a9c6ac314e4f9a1508dce92fcb77%7Cb92d2b234d35447093ff69aca6632ffe%7C1%7C0%7C638641638723517924%7CUnknown%7CTWFpbGZsb3d8eyJWIjoiMC4wLjAwMDAiLCJQIjoiV2luMzIiLCJBTiI6Ik1haWwiLCJXVCI6Mn0%3D%7C0%7C%7C%7C&sdata=5DDjUNkbsBUH7Pe4R7oQou7%2FIxEacS6ACHSETMGBfmM%3D&reserved=0 https://nam02.safelinks.protection.outlook.com/?url=https:%2F%2Flinks-2.govdelivery.com%2FCL0%2Fhttps:%252F%252Fgcc02.safelinks.protection.outlook.com%252F%253Furl%3Dhttps%25253A%25252F%25252Fusdot.zoomgov.com%25252Fj%25252F1617738326%25253Fpwd%25253DyBUb4HP6krFnv0iF2P67RoECuaAcOX.1%2526data%3D05%25257C02%25257Ctimothy.barrett%252540dot.gov%25257Cc39730f5d18a468acab108dcd42c6469%25257Cc4cd245b44f04395a1aa3848d258f78b%25257C0%25257C0%25257C638618535411926754%25257CUnknown%25257CTWFpbGZsb3d8eyJWIjoiMC4wLjAwMDAiLCJQIjoiV2luMzIiLCJBTiI6Ik1haWwiLCJXVCI6Mn0%25253D%25257C0%25257C%25257C%25257C%2526sdata%3DIHvUMEVMuvAn6266sC1MvYDhgtKTKatKnVnqgrg75FY%25253D%2526reserved%3D0%2F1%2F0101019276a03ab5-5ffbb370-c83e-4588-97dc-a49da8ac6c68-000000%2F4GQOhWD6XhPKPrcGwH_ZbVb5zFZI1g9EPCzq31nf94U%3D374&data=05%7C02%7Cdavid.aimen%40ejb.rutgers.edu%7C2795a9c6ac314e4f9a1508dce92fcb77%7Cb92d2b234d35447093ff69aca6632ffe%7C1%7C0%7C638641638723517924%7CUnknown%7CTWFpbGZsb3d8eyJWIjoiMC4wLjAwMDAiLCJQIjoiV2luMzIiLCJBTiI6Ik1haWwiLCJXVCI6Mn0%3D%7C0%7C%7C%7C&sdata=5DDjUNkbsBUH7Pe4R7oQou7%2FIxEacS6ACHSETMGBfmM%3D&reserved=0 \nSpeaker \nDavid Dobson\, P.E.\, Structural Materials Engineer \nODOT Structure Services \nAgenda \n  * Introduction to EDC-7 and EPIC2\n  * Oregon DOT’s Strategy to Implement Internal Curing for Bridge Decks\n  * Question and Answers\n  * Closing Remarks \nTime will be available for questions from attendees with responses from the speakers and the EPIC2 team. \nJoin ZoomGov Meeting https://nam02.safelinks.protection.outlook.com/?url=https:%2F%2Flinks-2.govdelivery.com%2FCL0%2Fhttps:%252F%252Fgcc02.safelinks.protection.outlook.com%252F%253Furl%3Dhttps%25253A%25252F%25252Fusdot.zoomgov.com%25252Fj%25252F1617738326%25253Fpwd%25253DyBUb4HP6krFnv0iF2P67RoECuaAcOX.1%2526data%3D05%25257C02%25257Ctimothy.barrett%252540dot.gov%25257Cc39730f5d18a468acab108dcd42c6469%25257Cc4cd245b44f04395a1aa3848d258f78b%25257C0%25257C0%25257C638618535411926754%25257CUnknown%25257CTWFpbGZsb3d8eyJWIjoiMC4wLjAwMDAiLCJQIjoiV2luMzIiLCJBTiI6Ik1haWwiLCJXVCI6Mn0%25253D%25257C0%25257C%25257C%25257C%2526sdata%3DIHvUMEVMuvAn6266sC1MvYDhgtKTKatKnVnqgrg75FY%25253D%2526reserved%3D0%2F1%2F0101019276a03ab5-5ffbb370-c83e-4588-97dc-a49da8ac6c68-000000%2F4GQOhWD6XhPKPrcGwH_ZbVb5zFZI1g9EPCzq31nf94U%3D374&data=05%7C02%7Cdavid.aimen%40ejb.rutgers.edu%7C2795a9c6ac314e4f9a1508dce92fcb77%7Cb92d2b234d35447093ff69aca6632ffe%7C1%7C0%7C638641638723517924%7CUnknown%7CTWFpbGZsb3d8eyJWIjoiMC4wLjAwMDAiLCJQIjoiV2luMzIiLCJBTiI6Ik1haWwiLCJXVCI6Mn0%3D%7C0%7C%7C%7C&sdata=5DDjUNkbsBUH7Pe4R7oQou7%2FIxEacS6ACHSETMGBfmM%3D&reserved=0 \nMeeting ID: 161 773 8326 \nPasscode: 480081
URL:https://njdottechtransfer.net/event/webinar-oregon-dots-strategy-to-implement-internal-curing-for-bridge-decks/
LOCATION:NJ
END:VEVENT
BEGIN:VEVENT
DTSTART;TZID=America/New_York:20241017T180000
DTEND;TZID=America/New_York:20241017T193000
DTSTAMP:20260423T053900
CREATED:20251205T201119Z
LAST-MODIFIED:20251205T201119Z
UID:21487-1729188000-1729193400@njdottechtransfer.net
SUMMARY:FHWA Carbon Reduction Strategies from Planning to Implementation Webinars
DESCRIPTION:FHWA CARBON REDUCTION STRATEGIES: FROM PLANNING TO IMPLEMENTATION WEBINARS\nFHWA is offering two sessions via Zoom. Different States will be highlighted in each session. To register for a webinar please follow the links below: \n  * October 9\, 2024 from 2:00 to 3:30 pm Eastern. This webinar will feature staff from the Minnesota\, Alabama\, and Pennsylvania DOTs. Register at https://usdot.zoomgov.com/webinar/register/WN_vvOcq5vfSEmgcTd5G2GmwA https://nam02.safelinks.protection.outlook.com/?url=https:%2F%2Flinks-2.govdelivery.com%2FCL0%2Fhttps:%252F%252Fgcc02.safelinks.protection.outlook.com%252F%253Furl%3Dhttps%25253A%25252F%25252Fusdot.zoomgov.com%25252Fwebinar%25252Fregister%25252FWN_vvOcq5vfSEmgcTd5G2GmwA%2526data%3D05%25257C02%25257CSheliza.Bhanjee%252540dot.gov%25257Cf3dfa8197848478c8b9008dce3b44aa0%25257Cc4cd245b44f04395a1aa3848d258f78b%25257C0%25257C0%25257C638635610679156898%25257CUnknown%25257CTWFpbGZsb3d8eyJWIjoiMC4wLjAwMDAiLCJQIjoiV2luMzIiLCJBTiI6Ik1haWwiLCJXVCI6Mn0%25253D%25257C0%25257C%25257C%25257C%2526sdata%3D863HcIX5hpJBz04uUk%25252FdWoBmjJxl7iaGS2SK%25252BrKFiDM%25253D%2526reserved%3D0%2F1%2F0101019253f9c4dd-eaa4b5bb-5a39-43a1-aebd-3cf923b2c5a1-000000%2FmKXB7_NAIaw_Ckx9E7Wd6OeGUHh9uXTv7KqSqkhdtBk%3D373&data=05%7C02%7Cdavid.aimen%40ejb.rutgers.edu%7C2458aeee487f47d34f5908dce3e644fd%7Cb92d2b234d35447093ff69aca6632ffe%7C1%7C0%7C638635825352489304%7CUnknown%7CTWFpbGZsb3d8eyJWIjoiMC4wLjAwMDAiLCJQIjoiV2luMzIiLCJBTiI6Ik1haWwiLCJXVCI6Mn0%3D%7C0%7C%7C%7C&sdata=%2BLZFexDIerhSEId1dissfI1agfwgyknun9GM%2FRu3X64%3D&reserved=0 .\n  * October 17\, 2024 from 2:00 to 3:30 pm Eastern. This webinar will feature staff from the Indiana\, Oregon\, and North Carolina DOTs. Register at https://usdot.zoomgov.com/webinar/register/WN_cd3bKEn5Tomn7_OCNXO2xA https://nam02.safelinks.protection.outlook.com/?url=https:%2F%2Flinks-2.govdelivery.com%2FCL0%2Fhttps:%252F%252Fgcc02.safelinks.protection.outlook.com%252F%253Furl%3Dhttps%25253A%25252F%25252Fusdot.zoomgov.com%25252Fwebinar%25252Fregister%25252FWN_cd3bKEn5Tomn7_OCNXO2xA%2526data%3D05%25257C02%25257CSheliza.Bhanjee%252540dot.gov%25257Cf3dfa8197848478c8b9008dce3b44aa0%25257Cc4cd245b44f04395a1aa3848d258f78b%25257C0%25257C0%25257C638635610679175867%25257CUnknown%25257CTWFpbGZsb3d8eyJWIjoiMC4wLjAwMDAiLCJQIjoiV2luMzIiLCJBTiI6Ik1haWwiLCJXVCI6Mn0%25253D%25257C0%25257C%25257C%25257C%2526sdata%3DMvS0Y2jWhIzh3iKoRSsNXJ4uFh6y2i%25252B6J2Ku3tDoyIY%25253D%2526reserved%3D0%2F1%2F0101019253f9c4dd-eaa4b5bb-5a39-43a1-aebd-3cf923b2c5a1-000000%2FPBc39KifpNK3zaLT8gWXu9k1D_73aiow4V0zShSPEtY%3D373&data=05%7C02%7Cdavid.aimen%40ejb.rutgers.edu%7C2458aeee487f47d34f5908dce3e644fd%7Cb92d2b234d35447093ff69aca6632ffe%7C1%7C0%7C638635825352500228%7CUnknown%7CTWFpbGZsb3d8eyJWIjoiMC4wLjAwMDAiLCJQIjoiV2luMzIiLCJBTiI6Ik1haWwiLCJXVCI6Mn0%3D%7C0%7C%7C%7C&sdata=63MEexuxYXLyITSg6XCGv3PuenRpgZ8v90h146zswdI%3D&reserved=0 .
URL:https://njdottechtransfer.net/event/fhwa-carbon-reduction-strategies-from-planning-to-implementation-webinars-2/
LOCATION:NJ
END:VEVENT
BEGIN:VEVENT
DTSTART;TZID=America/New_York:20241022T160000
DTEND;TZID=America/New_York:20241022T173000
DTSTAMP:20260423T053900
CREATED:20251205T201133Z
LAST-MODIFIED:20251205T201133Z
UID:21488-1729612800-1729618200@njdottechtransfer.net
SUMMARY:Transportation Research and Connectivity Pooled Fund Study: Section 508 Training Webinars
DESCRIPTION:The Transportation Research and Connectivity Pooled Fund Study will be sponsoring webinars on Section 508/Accessibility for research reports on September 17 (12:00 PM – 1:30 PM Eastern) and October 22 (12:00 PM- 1:30 PM Eastern).\nThese trainings will be geared towards ensuring final research reports (both Word and PDF) meet federal requirements. If you’ve ever had a question about Section 508/Accessibility\, or how to implement it for your organization’s reports\, these will be the webinars to attend. We encourage librarians\, research managers\, PIs\, student workers\, and anyone involved in the remediation of Word or PDF documents to attend. If you are not able to attend\, the webinars will be recorded. \nSession #1 – Registration for September 17: \nhttps://events.teams.microsoft.com/event/8797bc77-e25e-47db-919a-a57d90cef827@3ef1d10b-525d-40e2-a77d-ceb951877e82 https://nam02.safelinks.protection.outlook.com/?url=https:%2F%2Furldefense.com%2Fv3%2F__https:%2Fevents.teams.microsoft.com%2Fevent%2F8797bc77-e25e-47db-919a-a57d90cef827%403ef1d10b-525d-40e2-a77d-ceb951877e82__;!!GNU8KkXDZlD12Q!9OgwcuXzx0-py2EDse4jcsZNIJf0zxYGapcLP-2l8MZbT-bhmT3UFqs5i358w82jRf4I-dim_fzLbBaIEkMW%24&data=05%7C02%7Cdavid.aimen%40ejb.rutgers.edu%7C50eb39a46bd7491cf5dd08dcd40abb92%7Cb92d2b234d35447093ff69aca6632ffe%7C1%7C0%7C638618389859921728%7CUnknown%7CTWFpbGZsb3d8eyJWIjoiMC4wLjAwMDAiLCJQIjoiV2luMzIiLCJBTiI6Ik1haWwiLCJXVCI6Mn0%3D%7C0%7C%7C%7C&sdata=aIba8Q0mPG29Z6tNFwNdyDeem0oMZGNZ1w3NQCQ85OA%3D&reserved=0 \nGeared toward researchers new to Section 508 accessibility requirements\, this session will help authors prepare a compliant report in Microsoft Word\, and will tackle the most common errors that occur when documents are converted from Word to PDF format. \nSession #2 – Registration for October 22: \nhttps://events.teams.microsoft.com/event/8ac2dee7-778a-4182-b7b5-a1692f0812bf@3ef1d10b-525d-40e2-a77d-ceb951877e8 https://nam02.safelinks.protection.outlook.com/?url=https:%2F%2Furldefense.com%2Fv3%2F__https:%2Fevents.teams.microsoft.com%2Fevent%2F8ac2dee7-778a-4182-b7b5-a1692f0812bf%403ef1d10b-525d-40e2-a77d-ceb951877e82__;!!GNU8KkXDZlD12Q!9OgwcuXzx0-py2EDse4jcsZNIJf0zxYGapcLP-2l8MZbT-bhmT3UFqs5i358w82jRf4I-dim_fzLbIW5JZmF%24&data=05%7C02%7Cdavid.aimen%40ejb.rutgers.edu%7C50eb39a46bd7491cf5dd08dcd40abb92%7Cb92d2b234d35447093ff69aca6632ffe%7C1%7C0%7C638618389859927830%7CUnknown%7CTWFpbGZsb3d8eyJWIjoiMC4wLjAwMDAiLCJQIjoiV2luMzIiLCJBTiI6Ik1haWwiLCJXVCI6Mn0%3D%7C0%7C%7C%7C&sdata=I0N9y5Qe9%2FOyZHHW36FTDdbzhRdVkvSKlWxjTMVnmL8%3D&reserved=0 \nFor attendees of Session 1 and researchers who have some knowledge of Section 508 requirements\, this session will include detailed discussion\nof accessibility practices and an opportunity for questions and answers \nThe Transportation Research and Connectivity pooled fund study\, TPF-5(442)\, is a consortium of state departments of transportation (DOTs) and other partners that supports the coordinated development of transportation libraries as well as research organizations without dedicated libraries
URL:https://njdottechtransfer.net/event/transportation-research-and-connectivity-pooled-fund-study-section-508-training-webinars-2/
LOCATION:NJ
END:VEVENT
BEGIN:VEVENT
DTSTART;TZID=America/New_York:20241022T170000
DTEND;TZID=America/New_York:20241022T183000
DTSTAMP:20260423T053900
CREATED:20251205T201133Z
LAST-MODIFIED:20251205T201133Z
UID:21489-1729616400-1729621800@njdottechtransfer.net
SUMMARY:Making Good on the Potential of the Bipartisan Infrastructure Law
DESCRIPTION:Since the passage of the Bipartisan Infrastructure Law (BIL)\, a once-in-a-generation opportunity to rebuild our nation’s infrastructure\, every state and region of this country has seen historic federal investments announced in roads and bridges\, ports and airports\, and trains and transit. The Biden-Harris Administration has announced nearly $454 billion in BIL funding since its passage in 2021\, including over 56\,000 specific projects and awards across over 4\,500 communities in all 50 states\, D.C.\, and the territories and for Tribes.\nWhile many of the economic benefits of the legislation will play out over the coming years and decades\, job gains in construction industries suggest that some benefits have already begun to emerge. In addition\, because of strong investment in transportation and infrastructure and the construction and manufacturing that goes with it\, we are in the midst of an extraordinary and\, by many measures\, unprecedented period of economic growth. \nU.S. Secretary of Transportation Pete Buttigieg launched the U.S. DOT Project Delivery Center of Excellence in the summer of 2023. At the kickoff of a U.S. DOT thought leadership series on Delivering the Benefits of the BIL https://www.volpe.dot.gov/project-delivery-center-excellence/delivering-benefits-bipartisan-infrastructure-law \, Secretary Buttigieg stated that many of the 800 participants linking in from across the transportation enterprise were a part of the story of the passage of the monumental BIL. “And now\, it’s time to be part of the story of how we make good on its potential\,” he said. \nU.S. DOT is committed to partnering with federal\, Tribal governments\, state\, and local project sponsors to speed up project delivery and thereby maximize and accelerate the benefits of BIL. The Project Delivery Center of Excellence is one of the critical tools U.S. DOT is using to achieve such success. \nREGISTER https://usdot.zoomgov.com/webinar/register/WN_YW5SUmdIS8ibnRPbxFoAow \nSeries Panels \nThis virtual\, three-part thought leadership series will include three panels of transportation thought leaders focusing on: \n  * Project Delivery Lessons Learned from Emergency Response Following an Infrastructure Catastrophe (9/18)\n  * Best Practices to Get Big Infrastructure Projects off the Ground (10/8)\n  * Project Acceleration for the Public Good (10/22) \nPanel 3: Project Acceleration for the Public Good https://www.volpe.dot.gov/events/panel-3-project-acceleration-public-good \n  * Mariia Zimmerman\, Principal Deputy Assistant Secretary for Policy\, U.S. DOT\n  * Jennifer Toth\, Director\, Arizona Department of Transportation\n  * Stephen Roe Lewis\, Governor\, Gila River Indian Community\n  * Kurt Kionka\, I-70 Floyd Hill Project Director\, Colorado Department of Transportation City Department of Design and Construction
URL:https://njdottechtransfer.net/event/making-good-on-the-potential-of-the-bipartisan-infrastructure-law-2/
LOCATION:NJ
END:VEVENT
BEGIN:VEVENT
DTSTART;TZID=America/New_York:20241023T000000
DTEND;TZID=America/New_York:20241024T000000
DTSTAMP:20260423T053900
CREATED:20251205T201133Z
LAST-MODIFIED:20251205T201133Z
UID:21490-1729641600-1729728000@njdottechtransfer.net
SUMMARY:Save the Date - The 26th Annual NJDOT Research Showcase
DESCRIPTION:SAVE THE DATE \nThe 26th Annual NJDOT Research Showcase will be held on Wednesday\, October 23rd! \nThe Annual NJDOT Research Showcase provides an opportunity for the New Jersey transportation community to learn about the broad scope of academic research initiatives underway and share technology transfer activities being conducted by institutions of higher education partners and their associates. The annual event serves as a showcase to highlight the benefits of transportation research\, including NJDOT’s own program. \nThis event will be held in-person at the Conference Center at Mercer\, 1200 Old Trenton Road\, West Windsor\, NJ 08550 and also livestreamed. \nLink to registration page and info. https://web.cvent.com/event/63ceb23f-e631-46b7-9a56-276411e6be26/summary
URL:https://njdottechtransfer.net/event/save-the-date-the-26th-annual-njdot-research-showcase/
LOCATION:NJ
END:VEVENT
BEGIN:VEVENT
DTSTART;TZID=America/New_York:20241029T170000
DTEND;TZID=America/New_York:20241029T190000
DTSTAMP:20260423T053900
CREATED:20251205T201133Z
LAST-MODIFIED:20251205T201133Z
UID:21491-1730221200-1730228400@njdottechtransfer.net
SUMMARY:WEBINAR: Design Example - Lighting Design for an Urban Street Environment
DESCRIPTION:Design Example – Lighting Design for an Urban Street Environment \nJoin us for on October 29\, 2024\, at 1:00-3:00 pm Eastern for a webinar on Design Example – Lighting Design for an Urban Street Environment. The webinar will illustrate the different design recommendations applicable to the areas being studied and highlight the key safety elements that should be considered. Through the use of an example that consists of an urban street with bike lanes\, parking\, crosswalks\, intersections\, and sidewalks\, the presentation will include possible adjustments to current criteria from IES-RP-8 and AASHTO GL 7 and approaches expected from emerging research. The attendees will gain an understanding on how different roadway elements within an Urban setting will affect the recommended lighting design guidelines and how newly developed design metrics help protect Vulnerable Road Users \nRegister for this webinar here https://usdot.zoomgov.com/webinar/register/WN_vJlPK9AlTY27GeJ-vrCpyA#/registration . \nAfter registering\, you will receive a confirmation email containing information about joining the webinar. https://nam02.safelinks.protection.outlook.com/?url=https:%2F%2Flnks.gd%2Fl%2FeyJhbGciOiJIUzI1NiJ9.eyJidWxsZXRpbl9saW5rX2lkIjoxMDAsInVyaSI6ImJwMjpjbGljayIsInVybCI6Imh0dHBzOi8vdXNkb3Quem9vbWdvdi5jb20vd2ViaW5hci9yZWdpc3Rlci9XTl92SmxQSzlBbFRZMjdHZUotdnJDcHlBIiwiYnVsbGV0aW5faWQiOiIyMDI0MDgyMC45OTI5MjU3MSJ9.wuV4Urad4vCBoCJ9eNCTNEDj9uU-BD4OVbmtUGrh0tE%2Fs%2F1159082835%2Fbr%2F247706290435-l&data=05%7C02%7Cdavid.aimen%40ejb.rutgers.edu%7C839b65c6bc75472ca4d208dcc14343a4%7Cb92d2b234d35447093ff69aca6632ffe%7C1%7C0%7C638597741876029763%7CUnknown%7CTWFpbGZsb3d8eyJWIjoiMC4wLjAwMDAiLCJQIjoiV2luMzIiLCJBTiI6Ik1haWwiLCJXVCI6Mn0%3D%7C0%7C%7C%7C&sdata=rPGBYxR4ZORKGaBp6dcMpq6IivhqhvF1%2B%2BToWaSx1Z0%3D&reserved=0
URL:https://njdottechtransfer.net/event/webinar-design-example-lighting-design-for-an-urban-street-environment/
LOCATION:NJ
END:VEVENT
END:VCALENDAR