BEGIN:VCALENDAR
VERSION:2.0
PRODID:-//NJDOT Technology Transfer - ECPv6.15.17.1//NONSGML v1.0//EN
CALSCALE:GREGORIAN
METHOD:PUBLISH
X-ORIGINAL-URL:https://njdottechtransfer.net
X-WR-CALDESC:Events for NJDOT Technology Transfer
REFRESH-INTERVAL;VALUE=DURATION:PT1H
X-Robots-Tag:noindex
X-PUBLISHED-TTL:PT1H
BEGIN:VTIMEZONE
TZID:America/New_York
BEGIN:DAYLIGHT
TZOFFSETFROM:-0500
TZOFFSETTO:-0400
TZNAME:EDT
DTSTART:20240310T070000
END:DAYLIGHT
BEGIN:STANDARD
TZOFFSETFROM:-0400
TZOFFSETTO:-0500
TZNAME:EST
DTSTART:20241103T060000
END:STANDARD
BEGIN:DAYLIGHT
TZOFFSETFROM:-0500
TZOFFSETTO:-0400
TZNAME:EDT
DTSTART:20250309T070000
END:DAYLIGHT
BEGIN:STANDARD
TZOFFSETFROM:-0400
TZOFFSETTO:-0500
TZNAME:EST
DTSTART:20251102T060000
END:STANDARD
BEGIN:DAYLIGHT
TZOFFSETFROM:-0500
TZOFFSETTO:-0400
TZNAME:EDT
DTSTART:20260308T070000
END:DAYLIGHT
BEGIN:STANDARD
TZOFFSETFROM:-0400
TZOFFSETTO:-0500
TZNAME:EST
DTSTART:20261101T060000
END:STANDARD
END:VTIMEZONE
BEGIN:VEVENT
DTSTART;TZID=America/New_York:20250113T180000
DTEND;TZID=America/New_York:20250113T193000
DTSTAMP:20260423T013636
CREATED:20251205T201204Z
LAST-MODIFIED:20251205T201204Z
UID:21502-1736791200-1736796600@njdottechtransfer.net
SUMMARY:RSTF: Regional Vision Zero (DVRPC)
DESCRIPTION:Please join DVRPC for the next Regional Safety Task Force (RSTF) meeting\, which will be devoted to the current Regional Vision Zero planning efforts. Presentations from our County partners\, who were featured at our RVZ Partner Summit in November\, will highlight work from various stages of the planning process – from drafting to engagement to implementation. Plus\, DVRPC will be unveiling the Regional High Injury Network and giving a peek at what’s to come for Regional Vision Zero. Q+A will follow. Attendees will have the opportunity to react to guest presentations and create action items in breakout groups.\nClick here to register. https://dvrpc.zoom.us/meeting/register/tZ0vf-mtpzopGteX5wkNWYcuTA7mSM7N4CkF#/registration
URL:https://njdottechtransfer.net/event/rstf-regional-vision-zero-dvrpc/
LOCATION:NJ
END:VEVENT
BEGIN:VEVENT
DTSTART;TZID=America/New_York:20250113T190000
DTEND;TZID=America/New_York:20250113T203000
DTSTAMP:20260423T013636
CREATED:20251205T201218Z
LAST-MODIFIED:20251205T201218Z
UID:21503-1736794800-1736800200@njdottechtransfer.net
SUMMARY:USDOT Climate Change Center 2025 Webinar Series: Action Plans for Implementing the U.S. National Blueprint for Transportation Decarbonization
DESCRIPTION:The action plans for implementing the U.S. National Blueprint for Transportation Decarbonization https://nam02.safelinks.protection.outlook.com/?url=https:%2F%2Flinks-2.govdelivery.com%2FCL0%2Fhttps:%252F%252Fwww.transportation.gov%252Fpriorities%252Fclimate-and-sustainability%252Fus-national-blueprint-transportation-decarbonization%2F1%2F010101943c232221-b91cf9d6-443f-4548-9eca-b64c21a913e6-000000%2FSnlOEUIkQAbmQC2d09KWFkyZP9o9hcd8U1dEUzxAXMI%3D386&data=05%7C02%7Cmlb441%40ejb.rutgers.edu%7Ca5b7001f67dd44380f1908dd2e6314d0%7Cb92d2b234d35447093ff69aca6632ffe%7C1%7C0%7C638717725275917568%7CUnknown%7CTWFpbGZsb3d8eyJFbXB0eU1hcGkiOnRydWUsIlYiOiIwLjAuMDAwMCIsIlAiOiJXaW4zMiIsIkFOIjoiTWFpbCIsIldUIjoyfQ%3D%3D%7C0%7C%7C%7C&sdata=3NB3fuYzmixj5UQeozI65OyW%2FvyoY45Xedma1jauxQw%3D&reserved=0 chart a path forward for all levels of government and the private sector to cut carbon pollution while building a stronger economy and healthier communities with good-paying jobs\, more customer choice\, domestic manufacturing\, and secure supply chains. The action plans were developed by the Departments of Energy\, Transportation\, and Housing and Urban Development and the Environmental Protection Agency\, working with stakeholders. This webinar will highlight the action plans for improving efficiency and the action plans for the rail and maritime sectors.\nSpeakers include leaders from the U.S. DOT Office of the Secretary\, U.S. Department of Energy\, U.S. Maritime Administration\, and Federal Railroad Administration. \nRegister Here https://usdot.zoomgov.com/webinar/register/WN_FnepgV99RUK4Wb9agY_f9w#/registration
URL:https://njdottechtransfer.net/event/usdot-climate-change-center-2025-webinar-series-action-plans-for-implementing-the-u-s-national-blueprint-for-transportation-decarbonization/
LOCATION:NJ
END:VEVENT
BEGIN:VEVENT
DTSTART;TZID=America/New_York:20250115T190000
DTEND;TZID=America/New_York:20250115T203000
DTSTAMP:20260423T013636
CREATED:20251205T201218Z
LAST-MODIFIED:20251205T201218Z
UID:21504-1736967600-1736973000@njdottechtransfer.net
SUMMARY:USDOT Climate Change Center - Navigating Climate Challenges: Enhancing Transportation Resilience
DESCRIPTION:The final U.S. DOT Climate Change Center webinar of the Fall/Winter 2024 series is Navigating Climate Challenges: Enhancing Transportation Resilience https://nam02.safelinks.protection.outlook.com/?url=https:%2F%2Flinks-2.govdelivery.com%2FCL0%2Fhttps:%252F%252Fwww.transportation.gov%252Fpriorities%252Fclimate-and-sustainability%252Fwebinars%2F2%2F010101943c2349fb-f4a529e9-7e79-4e1b-aa63-e41d6e634007-000000%2F2rFt7O0Rvs_IFWFXFpQe9IrU1Yih_leBVyx-EULiG4w%3D386&data=05%7C02%7Cdavid.aimen%40ejb.rutgers.edu%7C0fbbcfa4a07948be206108dd2e631b37%7Cb92d2b234d35447093ff69aca6632ffe%7C1%7C0%7C638717725389764033%7CUnknown%7CTWFpbGZsb3d8eyJFbXB0eU1hcGkiOnRydWUsIlYiOiIwLjAuMDAwMCIsIlAiOiJXaW4zMiIsIkFOIjoiTWFpbCIsIldUIjoyfQ%3D%3D%7C0%7C%7C%7C&sdata=p8gja1iXCtySOpuOAn8vpxUtBNqRCO8VFksa%2B8oUm2I%3D&reserved=0 . Register for the upcoming webinar here https://nam02.safelinks.protection.outlook.com/?url=https:%2F%2Flinks-2.govdelivery.com%2FCL0%2Fhttps:%252F%252Fusdot.zoomgov.com%252Fwebinar%252Fregister%252FWN_LbmU7tzrRKGUKAPRL2q2lg%2523%252Fregistration%2F2%2F010101943c2349fb-f4a529e9-7e79-4e1b-aa63-e41d6e634007-000000%2FxMs0yz0JtQVQ9OypN02uMRkG3rXcP8grRrvw9ZYN978%3D386&data=05%7C02%7Cdavid.aimen%40ejb.rutgers.edu%7C0fbbcfa4a07948be206108dd2e631b37%7Cb92d2b234d35447093ff69aca6632ffe%7C1%7C0%7C638717725389775450%7CUnknown%7CTWFpbGZsb3d8eyJFbXB0eU1hcGkiOnRydWUsIlYiOiIwLjAuMDAwMCIsIlAiOiJXaW4zMiIsIkFOIjoiTWFpbCIsIldUIjoyfQ%3D%3D%7C0%7C%7C%7C&sdata=XHq8nDdUXqVMkGnmuG6VzCllxKI4YQAElwW2FAmI8Y0%3D&reserved=0 .\nJanuary 15\, 2025\, 2:00-3:30 PM ET. \nJoin this webinar to explore government initiatives\, innovative approaches\, and best practices to strengthen transportation systems against natural events and climate impacts. Participants will gain insights from government\, industry\, and research experts on advancing resilience and implementing sustainable practices in transportation. \nSpeakers include senior leaders from the U.S. Office of Research\, Development and Technology; Maryland Department of Transportation; Colorado Department of Transportation; Columbia University; and Econsult Solutions Inc. The webinar will be moderated by Dr. Hamid Ghasemi of the U.S. DOT Office of the Secretary.
URL:https://njdottechtransfer.net/event/usdot-climate-change-center-navigating-climate-challenges-enhancing-transportation-resilience/
LOCATION:NJ
END:VEVENT
BEGIN:VEVENT
DTSTART;TZID=America/New_York:20250122T183000
DTEND;TZID=America/New_York:20250122T200000
DTSTAMP:20260423T013636
CREATED:20251205T201218Z
LAST-MODIFIED:20251205T201218Z
UID:21505-1737570600-1737576000@njdottechtransfer.net
SUMMARY:January 2025 - Talking TIM Webinar
DESCRIPTION:Register for and plan to attend the free January 22 Talking TIM webinar https://nam02.safelinks.protection.outlook.com/?url=https:%2F%2Flinks-2.govdelivery.com%2FCL0%2Fhttps:%252F%252Fus02web.zoom.us%252Fwebinar%252Fregister%252FWN_02tiU7quQn2sIvTajnbhSQ%2523%252Fregistration%2F1%2F010101944601cd89-2308b6e6-6409-4d23-92d4-c3d123751250-000000%2FW8G0AUbfLQ7IVBCCHZUP8QUzSpByAOxqjcdIA8TID7o%3D387&data=05%7C02%7Cdavid.aimen%40ejb.rutgers.edu%7C5f1e9a142bfa4595e3a708dd2fe49f28%7Cb92d2b234d35447093ff69aca6632ffe%7C1%7C0%7C638719381163677355%7CUnknown%7CTWFpbGZsb3d8eyJFbXB0eU1hcGkiOnRydWUsIlYiOiIwLjAuMDAwMCIsIlAiOiJXaW4zMiIsIkFOIjoiTWFpbCIsIldUIjoyfQ%3D%3D%7C0%7C%7C%7C&sdata=hH698Ssj%2FQkInZmYrD3rF2Ge4ABZqIrTC1oe2EMIab8%3D&reserved=0 \, taking place 1:30 – 3:00 p.m. ET. This month’s webinar will feature information on an innovative tool and system for safer\, quicker incident clearance from practitioners within the fire and transportation disciplines:\nAdvancing Safe\, Quick Clearance for Commercial Vehicles – Sean Loscalzo\, President\, A Superior Towing Company\, Florida \nA Cloud-based Traffic Signal Preemption System for Safer\, Quicker Emergency Response – Michael Pattison\, Fire Department Technology Coordinator\, Seminole County\, Florida \nThe Talking TIM webinar series provides a forum where TIM practitioners can exchange information about current practices\, programs\, and technologies. Each month\, Talking TIM will highlight successful programs\, identify best practices\, and showcase technology that advances the profession. Paul Jodoin\, mailto:paul.jodoin@dot.gov Jim Austrich mailto:james.austrich@dot.gov and Joe Tebo mailto:joseph.tebo@dot.gov \, FHWA Office of Operations\, organize and moderate this webinar series hosted by the National Operations Center of Excellence (NOCoE). \nThe FHWA is committed to providing equal access to this online event for all participants. If you need alternative formats or other reasonable accommodations\, please reply to Paul Jodoin mailto:paul.jodoin@dot.gov with your request as soon as possible. To view previous topics in this webinar series\, please visit the FHWA-sponsored Talking TIM webinar site https://nam02.safelinks.protection.outlook.com/?url=https:%2F%2Flinks-2.govdelivery.com%2FCL0%2Fhttps:%252F%252Fnam10.safelinks.protection.outlook.com%252F%253Furl%3Dhttps%25253A%25252F%25252Ftransportationops.org%25252Ftim%25252Ftalkingtim%2526data%3D05%25257C01%25257Cvaishali.shah%252540aemcorp.com%25257C0ac3c881998d48392d6108db735eb163%25257C7a41925ef6974f7cbec30470887ac752%25257C0%25257C0%25257C638230622785574338%25257CUnknown%25257CTWFpbGZsb3d8eyJWIjoiMC4wLjAwMDAiLCJQIjoiV2luMzIiLCJBTiI6Ik1haWwiLCJXVCI6Mn0%25253D%25257C3000%25257C%25257C%25257C%2526sdata%3DnTHcir6oVpAtqZO9s%25252B%25252BWHTT8XSmQBodsSFXYozP%25252FRz8%25253D%2526reserved%3D0%2F1%2F010101944601cd89-2308b6e6-6409-4d23-92d4-c3d123751250-000000%2FKgsQ1AV_GF0TPY8oWZcW_EPKHkK-GJR6sg4P_PY8P0k%3D387&data=05%7C02%7Cdavid.aimen%40ejb.rutgers.edu%7C5f1e9a142bfa4595e3a708dd2fe49f28%7Cb92d2b234d35447093ff69aca6632ffe%7C1%7C0%7C638719381163696766%7CUnknown%7CTWFpbGZsb3d8eyJFbXB0eU1hcGkiOnRydWUsIlYiOiIwLjAuMDAwMCIsIlAiOiJXaW4zMiIsIkFOIjoiTWFpbCIsIldUIjoyfQ%3D%3D%7C0%7C%7C%7C&sdata=wenpQMNGZl%2Bh%2BCKqiW%2Fj5YIu6BDfskVdAnhXOPKIRfo%3D&reserved=0 .
URL:https://njdottechtransfer.net/event/january-2025-talking-tim-webinar/
LOCATION:NJ
END:VEVENT
END:VCALENDAR