BEGIN:VCALENDAR
VERSION:2.0
PRODID:-//NJDOT Technology Transfer - ECPv6.15.17.1//NONSGML v1.0//EN
CALSCALE:GREGORIAN
METHOD:PUBLISH
X-ORIGINAL-URL:https://njdottechtransfer.net
X-WR-CALDESC:Events for NJDOT Technology Transfer
REFRESH-INTERVAL;VALUE=DURATION:PT1H
X-Robots-Tag:noindex
X-PUBLISHED-TTL:PT1H
BEGIN:VTIMEZONE
TZID:America/New_York
BEGIN:DAYLIGHT
TZOFFSETFROM:-0500
TZOFFSETTO:-0400
TZNAME:EDT
DTSTART:20240310T070000
END:DAYLIGHT
BEGIN:STANDARD
TZOFFSETFROM:-0400
TZOFFSETTO:-0500
TZNAME:EST
DTSTART:20241103T060000
END:STANDARD
BEGIN:DAYLIGHT
TZOFFSETFROM:-0500
TZOFFSETTO:-0400
TZNAME:EDT
DTSTART:20250309T070000
END:DAYLIGHT
BEGIN:STANDARD
TZOFFSETFROM:-0400
TZOFFSETTO:-0500
TZNAME:EST
DTSTART:20251102T060000
END:STANDARD
BEGIN:DAYLIGHT
TZOFFSETFROM:-0500
TZOFFSETTO:-0400
TZNAME:EDT
DTSTART:20260308T070000
END:DAYLIGHT
BEGIN:STANDARD
TZOFFSETFROM:-0400
TZOFFSETTO:-0500
TZNAME:EST
DTSTART:20261101T060000
END:STANDARD
END:VTIMEZONE
BEGIN:VEVENT
DTSTART;TZID=America/New_York:20250409T123000
DTEND;TZID=America/New_York:20250409T183000
DTSTAMP:20260422T210336
CREATED:20251205T201304Z
LAST-MODIFIED:20251205T201304Z
UID:21522-1744201800-1744223400@njdottechtransfer.net
SUMMARY:2025 Annual NJ Work Zone Safety Conference
DESCRIPTION:The New Jersey Work Zone Safety Conference promotes work zone safety awareness on local and state roadways for a multi-disciplinary audience of construction\, engineering\, public safety\, maintenance\, and operations personnel.This year’s in-person event will commence with a presentation by Chris Lalevee from Local 825 on Naloxone which is an opioid overdose reversal medication. The U.S. has seen an insurgence of opioids such as fentanyl that has led to a staggering number of overdose deaths which impact work zones. The NJDOT Permits Unit will discuss the permit process and the expectations and requirements when performing work on state roadways. Thomas Parbs from Haas Alert will provide insight into the latest technology to keep motorist and workers safe in work zones. The keynote presentation will be delivered by Todd Peterson from the FHWA and Mark Mockett from the U.S. DOT Volpe Center. They will address the Work Zone Data Exchange which enables infrastructure owners and operators to make harmonized work zone data available for third party use. Professional Engineer Gordon Meth from Robson Forensic will share his unique perspective on work zone litigation with the conference concluding with a panel discussion on work zone safety on county and municipal roadways. \nAs part of the program\, the Michael J. Corbett Training & Education Award will recognize an individual who has enhanced safety through education and training. Furthermore\, the New Jersey Work Zone Safety Excellence Awards will be presented to recognize inspiring efforts of individuals\, companies and roadway agencies that have demonstrated effective temporary traffic control in planned work zones on New Jersey roadways. \nHosted by Rutgers Center for Advanced Infrastructure and Transportation (CAIT) and the New Jersey Work Zone Safety Partnership (NJWZSP). The NJWZSP is an ad hoc committee with the primary goal of promoting work zone safety education and awareness to reduce the number of workers and road users being injured or killed in work zones. The NJWZSP includes representatives from both the public and private sectors involved with work zone activities. \nClick here to register. https://web.cvent.com/event/a7bfd398-e721-4a4e-849d-520b0f852457/summary
URL:https://njdottechtransfer.net/event/2025-annual-nj-work-zone-safety-conference/
LOCATION:NJ
END:VEVENT
BEGIN:VEVENT
DTSTART;TZID=America/New_York:20250415T000000
DTEND;TZID=America/New_York:20250418T000000
DTSTAMP:20260422T210336
CREATED:20251205T201318Z
LAST-MODIFIED:20251205T201318Z
UID:21523-1744675200-1744934400@njdottechtransfer.net
SUMMARY:NJ TransAction Conference 2025
DESCRIPTION:New Jersey’s Premier Transportation Conference at Harrah’s Resort and Casino\, Atlantic City.\nClick here to register. https://www.emailmeform.com/builder/form/2feSbeMed421
URL:https://njdottechtransfer.net/event/nj-transaction-conference-2025/
LOCATION:NJ
END:VEVENT
BEGIN:VEVENT
DTSTART;TZID=America/New_York:20250417T123000
DTEND;TZID=America/New_York:20250417T200000
DTSTAMP:20260422T210336
CREATED:20251205T201318Z
LAST-MODIFIED:20251205T201318Z
UID:21524-1744893000-1744920000@njdottechtransfer.net
SUMMARY:NJLTAP – Pavement Management Systems (In-Person)
DESCRIPTION:Pavement Management Systems provides the basics for developing a pavement management system to help local\, county and State governments manage their pavement network by providing an understanding of the concept and importance of road surface inventories and condition surveys.\nThis course provides illustrations of how to recognize common pavement distress\, the creation of pavement condition evaluations\, and the utilization of performance and economic analyses to develop annual pavement treatment programs. Repair strategies at the system and project level are discussed using the information presented in the course. \nDuring the session\, attendees will be provided with an introduction to developing and implementing a Pavement Management System for local\, county\, and State agencies\, will understand utilization of performance and economic analyses to develop annual pavement treatment programs\, and will learn about an assortment of pavement treatment tools to preserve and rehabilitate the agency pavement network. \nClick here to register. https://web.cvent.com/event/1ee22725-8c1c-4615-a25c-ff2241552c30/summary
URL:https://njdottechtransfer.net/event/njltap-pavement-management-systems-in-person/
LOCATION:NJ
END:VEVENT
BEGIN:VEVENT
DTSTART;TZID=America/New_York:20250417T170000
DTEND;TZID=America/New_York:20250417T180000
DTSTAMP:20260422T210336
CREATED:20251205T201318Z
LAST-MODIFIED:20251205T201318Z
UID:21525-1744909200-1744912800@njdottechtransfer.net
SUMMARY:Investing in Workforce Development to Advance the Transportation System
DESCRIPTION:AASHTO CTSO 3E Task Force\, ITE\, ITS America\, and TRB 2024 Charlie V. Wootan Award winning authors will present on their recent initiatives to develop the future transportation workforce.\nWorkforce development is the key answers to meet evolving industry challenges and to apply emerging technology solutions; and a skilled\, knowledgeable\, and adaptable workforce requires investment in education\, training\, and professional growth\, \nThis webinar will address a variety of efforts to address current workforce development needs\, including: workforce gaps\, the Engineering Workforce Consortium\, and research on practices for workforce develop\, including\, and training\, hiring\, and recruiting practices. \nClick here to register. https://us02web.zoom.us/webinar/register/WN_R8ozQaatRf6rUdTTfFfDhQ#/registration
URL:https://njdottechtransfer.net/event/investing-in-workforce-development-to-advance-the-transportation-system/
LOCATION:NJ
END:VEVENT
BEGIN:VEVENT
DTSTART;TZID=America/New_York:20250417T170000
DTEND;TZID=America/New_York:20250417T180000
DTSTAMP:20260422T210336
CREATED:20251205T201318Z
LAST-MODIFIED:20251205T201318Z
UID:21526-1744909200-1744912800@njdottechtransfer.net
SUMMARY:Webinar: How Chief Information and Technology Officers are Transforming Transportation
DESCRIPTION:Chief Information Officers (CIOs) and Chief Technology Officers (CTOs) are at the forefront of digital transformation in transportation. From deploying smart infrastructure to strengthening cybersecurity\, they are shaping the future of mobility with emerging technologies.\nThese technology leaders oversee information systems and data management – critical components that support all aspects of transportation from real-time traffic management to transit fare systems. Beyond ensuring safe and secure operations\, they also drive strategy\, innovation\, and transformation relating to emerging technologies. \nThree of the nation’s most innovative transportation CTOs and CIOs will share insights on how they leverage technology to ensure reliable operations and shape the future of transportation. \nClick here to register. https://enotrans.zoom.us/webinar/register/WN_Fs656BGFQb2g5lTFB8f8tA#/registration
URL:https://njdottechtransfer.net/event/webinar-how-chief-information-and-technology-officers-are-transforming-transportation/
LOCATION:NJ
END:VEVENT
BEGIN:VEVENT
DTSTART;TZID=America/New_York:20250422T213000
DTEND;TZID=America/New_York:20250422T233000
DTSTAMP:20260422T210336
CREATED:20251205T201319Z
LAST-MODIFIED:20251205T201319Z
UID:21527-1745357400-1745364600@njdottechtransfer.net
SUMMARY:DVRPC In-person Vision Zero Roundtable
DESCRIPTION:DVRPC’s Public Participation Task Force is hosting an in-person Vision Zero roundtable. Below is a schedule of the event.\n5:30 PM Dinner served for attendees \n6:00 PM Introductions & Icebreaker \n6:10 PM Educational Module \n6:30 PM Facilitated Discussion Activity \n7:10 PM Reflections \n7:25 PM Wrapping-up & Next Steps \n7:30 PM Meeting end \nClick here to register. https://docs.google.com/forms/d/e/1FAIpQLSfcpts0mmdsgWPhTMfqNgMjVQJvO6D0bUDbSpA06_j7hvWiRA/viewform
URL:https://njdottechtransfer.net/event/dvrpc-in-person-vision-zero-roundtable/
LOCATION:NJ
END:VEVENT
BEGIN:VEVENT
DTSTART;TZID=America/New_York:20250423T123000
DTEND;TZID=America/New_York:20250423T163000
DTSTAMP:20260422T210336
CREATED:20251205T201333Z
LAST-MODIFIED:20251205T201333Z
UID:21528-1745411400-1745425800@njdottechtransfer.net
SUMMARY:NJLTAP – Introduction to Crash Analysis and Design Exception (In-Person)
DESCRIPTION:This workshop is for public agency personnel and consultants working on their behalf to gain an understanding of crash analysis tools and methods. The significance of data driven decision making will be explained\, as well as the importance of data quality\, where to find data\, and how to use data to make safety improvement decisions.\nLearning Objectives: \n  1. Learn the importance of using crash data for decision making\n  2. Understand how to use data to select countermeasures\n  3. Identify what types of data are available \nClick here to register. https://web.cvent.com/event/39c05837-0f4a-4030-ada5-d59a55783837/summary
URL:https://njdottechtransfer.net/event/njltap-introduction-to-crash-analysis-and-design-exception-in-person/
LOCATION:NJ
END:VEVENT
BEGIN:VEVENT
DTSTART;TZID=America/New_York:20250423T173000
DTEND;TZID=America/New_York:20250423T190000
DTSTAMP:20260422T210336
CREATED:20251205T201333Z
LAST-MODIFIED:20251205T201333Z
UID:21529-1745429400-1745434800@njdottechtransfer.net
SUMMARY:FY25 Safe Streets and Roads for All (SS4A) Program – Supplemental Planning and Demonstration Activities
DESCRIPTION:This webinar will offer a general overview of the Safe Streets and Roads for All (SS4A) program\, with a focus on how to apply for SS4A Supplemental Planning and Demonstration Grant Activities. Potential applicants will learn about the grant application process\, eligibility requirements\, and activities eligible for funding. More information on the SS4A Grant program is available on the website at www.transportation.gov/grants/SS4A https://www.transportation.gov/grants/SS4A .\nClick here to register. https://usdot.zoomgov.com/webinar/register/WN_ni6mqCdcQzWYY_-TAkUzOQ#/registration
URL:https://njdottechtransfer.net/event/fy25-safe-streets-and-roads-for-all-ss4a-program-supplemental-planning-and-demonstration-activities/
LOCATION:NJ
END:VEVENT
BEGIN:VEVENT
DTSTART;TZID=America/New_York:20250430T170000
DTEND;TZID=America/New_York:20250430T183000
DTSTAMP:20260422T210336
CREATED:20251205T201333Z
LAST-MODIFIED:20251205T201333Z
UID:21530-1746032400-1746037800@njdottechtransfer.net
SUMMARY:TRB Webinar: Implementation of UAS into Transportation Infrastructure Inspection
DESCRIPTION:The capabilities of uncrewed aerial systems (UAS)\, or “drones\,” have advanced rapidly\, making them increasingly practical for transportation agencies. TRB will host a webinar on Wednesday\, April 30\, 2025 from 1:00 PM to 2:30 PM Eastern that will share leading applications of UAS to help provide safe and efficient infrastructure assessment capabilities. One of these applications is enhancing the safety and efficiency of infrastructure inspections. Presenters will share three case studies: one on bridge inspection\, another on airport pavement inspection\, and a third on construction modeling.\nThis webinar features research from NCHRP Research Report 1114: Uncrewed Aerial Systems Applications for Bridge Inspections: Element-Level Bridge Data Collection https://nap.nationalacademies.org/catalog/27881/uncrewed-aerial-systems-applications-for-bridge-inspections-element-level-bridge \, NCHRP Synthesis 578: Use of Unmanned Aerial Systems for Highway Construction https://nap.nationalacademies.org/catalog/26546/use-of-unmanned-aerial-systems-for-highway-construction \, and NCHRP Domestic Scan 17-01: Successful Approaches tor the Use of Unmanned Aerial Systems by Surface Transportation Agencies. https://onlinepubs.trb.org/onlinepubs/nchrp/docs/NCHRP20-68A_17-01.pdf \nWebinar agenda and presenters \n  * Eyes in the sky: Unlocking airfield pavement inspection with sUAS – Halil Ceylan\, Iowa State University\n  * UAS for construction inspection and building information modeling – Reihaneh Samsami\, University of New Haven\n  * UAS have changed Ohio DOT bridge inspection – Jamie Davis\, Ohio Department of Transportation\n  * Question and answer session moderated by Colin Brooks\, Michigan Technological University \nThe first 60 minutes of the webinar will be for presentations and the final 30 minutes will be reserved for audience questions. \nClick here to register. https://webinar.mytrb.org/Webinars/Details/1852
URL:https://njdottechtransfer.net/event/trb-webinar-implementation-of-uas-into-transportation-infrastructure-inspection/
LOCATION:NJ
END:VEVENT
END:VCALENDAR