BEGIN:VCALENDAR
VERSION:2.0
PRODID:-//NJDOT Technology Transfer - ECPv6.15.17.1//NONSGML v1.0//EN
CALSCALE:GREGORIAN
METHOD:PUBLISH
X-ORIGINAL-URL:https://njdottechtransfer.net
X-WR-CALDESC:Events for NJDOT Technology Transfer
REFRESH-INTERVAL;VALUE=DURATION:PT1H
X-Robots-Tag:noindex
X-PUBLISHED-TTL:PT1H
BEGIN:VTIMEZONE
TZID:America/New_York
BEGIN:DAYLIGHT
TZOFFSETFROM:-0500
TZOFFSETTO:-0400
TZNAME:EDT
DTSTART:20240310T070000
END:DAYLIGHT
BEGIN:STANDARD
TZOFFSETFROM:-0400
TZOFFSETTO:-0500
TZNAME:EST
DTSTART:20241103T060000
END:STANDARD
BEGIN:DAYLIGHT
TZOFFSETFROM:-0500
TZOFFSETTO:-0400
TZNAME:EDT
DTSTART:20250309T070000
END:DAYLIGHT
BEGIN:STANDARD
TZOFFSETFROM:-0400
TZOFFSETTO:-0500
TZNAME:EST
DTSTART:20251102T060000
END:STANDARD
BEGIN:DAYLIGHT
TZOFFSETFROM:-0500
TZOFFSETTO:-0400
TZNAME:EDT
DTSTART:20260308T070000
END:DAYLIGHT
BEGIN:STANDARD
TZOFFSETFROM:-0400
TZOFFSETTO:-0500
TZNAME:EST
DTSTART:20261101T060000
END:STANDARD
END:VTIMEZONE
BEGIN:VEVENT
DTSTART;TZID=America/New_York:20250826T180000
DTEND;TZID=America/New_York:20250917T200000
DTSTAMP:20260422T134400
CREATED:20251205T201519Z
LAST-MODIFIED:20251205T201519Z
UID:21567-1756231200-1758139200@njdottechtransfer.net
SUMMARY:What Can Police Stop Data Tell Us About Traffic Safety?
DESCRIPTION:Across the country\, police traffic stops are touted as a tool for improving road safety—but not all stops are equal in impact. From DUI enforcement to minor equipment violations\, the behaviors targeted vary widely\, and so do their impacts on traffic safety.\nIn response to growing concerns about policing practices\, many jurisdictions have created detailed police stop databases. These rich data sources were primarily designed to examine demographic disparities—but what if they could also help us better understand and prevent serious and fatal crashes? \nIn this webinar\, SafeTREC’s Liza Lutzker will share research using the confidential version of California’s police stop database\, which includes stop narratives and locations. As the first research team with access to this data\, we’re developing innovative methods to categorize stops by traffic safety relevance—helping us answer a critical question: Are traffic stops aligned with the behaviors that actually cause the most harm on our roads? Join us to explore how these datasets can be repurposed for traffic safety research\, what insights they offer\, and where their limitations lie. \nClick here to register. https://unm.zoom.us/webinar/register/WN_-8MquH_rSmK8Iayvw-xujQ#/registration
URL:https://njdottechtransfer.net/event/what-can-police-stop-data-tell-us-about-traffic-safety/
LOCATION:NJ
END:VEVENT
BEGIN:VEVENT
DTSTART;TZID=America/New_York:20250903T170000
DTEND;TZID=America/New_York:20250903T180000
DTSTAMP:20260422T134400
CREATED:20251205T201533Z
LAST-MODIFIED:20251205T201533Z
UID:21572-1756918800-1756922400@njdottechtransfer.net
SUMMARY:EDC-7 Strategic Workforce Development Careers in Gear - CDL Trainings That Work
DESCRIPTION:This summer\, the FHWA Every Day Counts (EDC)-7 Strategic Workforce Development (SWD) team invites you to the Careers in Gear Summer Series\, highlighting innovative workforce initiatives and success stories from across the country. Supporting and advancing workforce development is what the EDC-7 SWD program does all year long and the EDC-7 Team is excited to share some of the standout programs\, collaborative efforts with stakeholders\, and people making an impact across the country. You’ll hear from the people who help keep the construction industry moving\, from skilled trades professionals to program leaders. Each session offers real stories\, practical strategies\, and fresh ideas to help strengthen the American construction workforce and support the infrastructure of tomorrow.\nClick here to register. https://usdot.zoomgov.com/meeting/register/UnTjCWQwQtS4m8NK3yIuhQ#/registration
URL:https://njdottechtransfer.net/event/edc-7-strategic-workforce-development-careers-in-gear-cdl-trainings-that-work/
LOCATION:NJ
END:VEVENT
BEGIN:VEVENT
DTSTART;TZID=America/New_York:20250910T170000
DTEND;TZID=America/New_York:20250910T183000
DTSTAMP:20260422T134400
CREATED:20251205T201548Z
LAST-MODIFIED:20251205T201548Z
UID:21573-1757523600-1757529000@njdottechtransfer.net
SUMMARY:Road Weather Spotlight Series: Building and Maturing a Snow Fence Program
DESCRIPTION:The U.S. Department of Transportation Federal Highway Administration’s (FHWA’s) Office of Operations is collaborating with the National Operations Center of Excellence (NOCoE) to host a bimonthly webinar series on road weather management (RWM). These webinars\, called the Road Weather Spotlight Series\, align with the mission of the FHWA RWM Program to inform stakeholders and improve highway road weather operations.\nThe theme for September is Building and Maturing a Snow Fence Program. Speakers will be provided several weeks in advance. \nClick here to register. https://us02web.zoom.us/webinar/register/WN_79GkdbCYQ-Sx7rFk5_vJhg
URL:https://njdottechtransfer.net/event/road-weather-spotlight-series-building-and-maturing-a-snow-fence-program/
LOCATION:NJ
END:VEVENT
BEGIN:VEVENT
DTSTART;TZID=America/New_York:20250911T110000
DTEND;TZID=America/New_York:20250911T123000
DTSTAMP:20260422T134400
CREATED:20250820T193628Z
LAST-MODIFIED:20250820T193628Z
UID:20333-1757588400-1757593800@njdottechtransfer.net
SUMMARY:2025 TIM Self-Assessment Tool Webinar
DESCRIPTION:This webinar will cover the Traffic Incident Management Self-Assessment tool. Discussion will cover what’s new with the Self-Assessment tool\, go over the results from the previous year\, and indicate the dates for when the self-assessments are to be completed. \nThe purpose of the Traffic Incident Management Self-Assessment (TIMSA) is to provide a formal process for State and local transportation\, public safety\, first responders and private sector partners to collaboratively assess their traffic incident management programs and identify opportunities for improvement. The TIMSA is now available year-round\, and it is now accessible online at: self-assessment.fhwa.trafficincidentmanagement.net \nClick here to register.
URL:https://njdottechtransfer.net/event/2025-tim-self-assessment-tool-webinar/
LOCATION:Virtual
ATTACH;FMTTYPE=image/jpeg:https://njdottechtransfer.net/wp-content/uploads/2025/08/National-Operations-Center-of-Excellence-logo.jpg
END:VEVENT
BEGIN:VEVENT
DTSTART;TZID=America/New_York:20250911T140000
DTEND;TZID=America/New_York:20250911T160000
DTSTAMP:20260422T134400
CREATED:20251205T201548Z
LAST-MODIFIED:20251205T201548Z
UID:21574-1757599200-1757606400@njdottechtransfer.net
SUMMARY:RSTF: Safe Routes to School
DESCRIPTION:DVRPC is hosting a regional safety task force meeting on Safe Routes to School.\nClick here to register. https://www.ticketleap.events/tickets/dvrpc/sept-rstf
URL:https://njdottechtransfer.net/event/rstf-safe-routes-to-school/
LOCATION:NJ
END:VEVENT
BEGIN:VEVENT
DTSTART;TZID=America/New_York:20250911T150000
DTEND;TZID=America/New_York:20250911T163000
DTSTAMP:20260422T134400
CREATED:20251205T201548Z
LAST-MODIFIED:20251205T201548Z
UID:21575-1757602800-1757608200@njdottechtransfer.net
SUMMARY:2025 TIM Self-Assessment Tool Webinar
DESCRIPTION:This webinar will cover the Traffic Incident Management Self-Assessment tool. Discussion will cover what’s new with the Self-Assessment tool\, go over the results from the previous year\, and indicate the dates for when the self-assessments are to be completed.\nThe purpose of the Traffic Incident Management Self-Assessment (TIMSA) is to provide a formal process for State and local transportation\, public safety\, first responders and private sector partners to collaboratively assess their traffic incident management programs and identify opportunities for improvement. The TIMSA is now available year-round\, and it is now accessible online at: self-assessment.fhwa.trafficincidentmanagement.net https://self-assessment.fhwa.trafficincidentmanagement.net https://nam11.safelinks.protection.outlook.com/?url=https:%2F%2Fself-assessment.fhwa.trafficincidentmanagement.net%2Fadm_program%2Foverview.php&data=05%7C02%7CAHopps%40transportationops.org%7C249bbb5019d7400c973408ddd3894032%7Cf455016998d048f9aafe6973ec2a4453%7C0%7C0%7C638899308983663498%7CUnknown%7CTWFpbGZsb3d8eyJFbXB0eU1hcGkiOnRydWUsIlYiOiIwLjAuMDAwMCIsIlAiOiJXaW4zMiIsIkFOIjoiTWFpbCIsIldUIjoyfQ%3D%3D%7C0%7C%7C%7C&sdata=QZoRFZIWbyeDZtiH9fpPj%2BMtlT85Hvlec8tNyYWwC6E%3D&reserved=0 \nClick here to register. https://us02web.zoom.us/webinar/register/WN_58s3CCFVTGqIesLP6k5acw#/registration
URL:https://njdottechtransfer.net/event/2025-tim-self-assessment-tool-webinar-2/
LOCATION:NJ
END:VEVENT
BEGIN:VEVENT
DTSTART;TZID=America/New_York:20250917T170000
DTEND;TZID=America/New_York:20250917T180000
DTSTAMP:20260422T134400
CREATED:20251205T201549Z
LAST-MODIFIED:20251205T201549Z
UID:21576-1758128400-1758132000@njdottechtransfer.net
SUMMARY:New York State Department of Transportation's Path to Implementation of Internal Curing for Bridge Decks
DESCRIPTION:This webinar will present New York State Department of Transportation’s (NYSDOT) approach to implementing internal curing (IC) in concrete bridge deck. NYSDOT conducted field and laboratory studies to evaluate the effectiveness of IC in controlling cracking and addressing durability concerns. As a lead State championing the use IC\, specifications developed also supported adoption by all stakeholders involved. See below for topics covered.\n  * Bridge deck performance concerns with use of high-performance concrete mixtures\n  * Consideration of IC to control cracking and improve service life\n  * Laboratory and field evaluations and findings\n  * Specification development and description of LWA replacement level\n  * Industry perspective in the adoption of IC \nRegistration is not required. \nClick here to attend. https://usdot.zoomgov.com/j/1619524261?pwd=jSSrgXPY6qqwXdRJXax9b6N9oFGEYN.1#success
URL:https://njdottechtransfer.net/event/new-york-state-department-of-transportations-path-to-implementation-of-internal-curing-for-bridge-decks/
LOCATION:NJ
END:VEVENT
BEGIN:VEVENT
DTSTART;TZID=America/New_York:20250917T180000
DTEND;TZID=America/New_York:20250917T190000
DTSTAMP:20260422T134400
CREATED:20251205T201549Z
LAST-MODIFIED:20251205T201549Z
UID:21577-1758132000-1758135600@njdottechtransfer.net
SUMMARY:TRB Webinar: Find Transportation Research That is Happening Today
DESCRIPTION:The Research in Progress (RIP) database provides access to information on current transportation research and highlights what other institutions are working on. Together\, RIP and TRID (an integrated database of transportation research) are essential tools for developing research problem statements\, preparing and responding to requests for proposals (RFPs)\, and planning future projects. TRB will host a webinar on Wednesday\, September 17\, 2025 from 2:00 PM to 3:00 PM Eastern that will guide participants on how to search RIP and TRID to find ongoing and recently completed research. The presenter will demonstrate how to create an account\, enter and update project records\, and ensure compliance with US DOT’s Public Access Plan requirements.\nClick here to register. https://webinar.mytrb.org/Webinars/Details/1876
URL:https://njdottechtransfer.net/event/trb-webinar-find-transportation-research-that-is-happening-today/
LOCATION:NJ
END:VEVENT
BEGIN:VEVENT
DTSTART;TZID=America/New_York:20250918T140000
DTEND;TZID=America/New_York:20250918T160000
DTSTAMP:20260422T134400
CREATED:20251205T201603Z
LAST-MODIFIED:20251205T201603Z
UID:21578-1758204000-1758211200@njdottechtransfer.net
SUMMARY:Central Jersey Transportation Forum
DESCRIPTION:The NJTPA and Delware Valley Regional Planning Commission will give presentations on their Long Range Transportation Plan updates at the Central Jersey Transportation Forum. NJ TRANSIT will also give a presentationon its Transit Oriented Development Program.\nThe forum brigns togehter municipal and county leaders in Mercer\, Somerset\, and Middlesex counties to coordinate on land use and transportation planning. \nFor information about county coordination\, contact Samantha De Andrea\, PP\, AICP\, Director\, Division of Planning\, Department of Engineering & Planning\, Somerset County at sdeandrea@co.somerset.nj.us mailto:sdeandrea@co.somerset.nj.us . \nClick here to register https://forms.office.com/pages/responsepage.aspx?id=BcDa7tIVjUm8nVjXRVhX2YOFVNlMJDRCv3wXQX5TZUFUNkg4NVhYMU9SVFQ3QVJVMDY4TENSSTdPUC4u&route=shorturl
URL:https://njdottechtransfer.net/event/central-jersey-transportation-forum-2/
LOCATION:NJ
END:VEVENT
BEGIN:VEVENT
DTSTART;TZID=America/New_York:20250918T170000
DTEND;TZID=America/New_York:20250918T180000
DTSTAMP:20260422T134400
CREATED:20251205T201603Z
LAST-MODIFIED:20251205T201603Z
UID:21579-1758214800-1758218400@njdottechtransfer.net
SUMMARY:Webinar: Preparing for the New Highway Safety Manual
DESCRIPTION:On September 18 at 1:00 pm EST\, software provider AASHTOWare will host a webinar providing insights to state transportation agencies regarding the upcoming release of the second edition of the Highway Safety Manual by the American Association of State Highway and Transportation Officials or AASHTO.\nTo register for this webinar\, click here https://us02web.zoom.us/webinar/register/WN_qTDDLkKPQfWxpAKTBY3RyQ#/registration .
URL:https://njdottechtransfer.net/event/webinar-preparing-for-the-new-highway-safety-manual/
LOCATION:NJ
END:VEVENT
BEGIN:VEVENT
DTSTART;TZID=America/New_York:20250922T180000
DTEND;TZID=America/New_York:20250922T193000
DTSTAMP:20260422T134400
CREATED:20251205T201603Z
LAST-MODIFIED:20251205T201603Z
UID:21580-1758564000-1758569400@njdottechtransfer.net
SUMMARY:TRB Webinar: The Future of Commuter Rail in North America
DESCRIPTION:Implement long-term\, practical strategies to make commuter rail a successful part of regional mobility. TRB will host a webinar on Monday\, September 22\, 2025 from 2:00 PM to 3:30 PM Eastern that will explore how commuter railroads are navigating the market dynamics\, service\, and upcoming funding challenges. Presenters will discuss current trends\, examples in CA and PA\, and explores alternative approaches to service schedules\, simplified fare structures\, and infrastructure options to address changing goals and circumstances at the agency\, regional\, and national levels in the United States and Canada.This webinar is based on TCRP Research Report 254: The Future of Commuter Rail in North America https://nap.nationalacademies.org/catalog/29128/the-future-of-commuter-rail-in-north-america . \nClick here to register. https://webinar.mytrb.org/Webinars/Details/1880
URL:https://njdottechtransfer.net/event/trb-webinar-the-future-of-commuter-rail-in-north-america/
LOCATION:NJ
END:VEVENT
BEGIN:VEVENT
DTSTART;TZID=America/New_York:20250924T123000
DTEND;TZID=America/New_York:20250924T163000
DTSTAMP:20260422T134400
CREATED:20251205T201604Z
LAST-MODIFIED:20251205T201604Z
UID:21581-1758717000-1758731400@njdottechtransfer.net
SUMMARY:NJLTAP – Getting to Vision Zero: Implementing a Toward Zero Deaths Strategy at the Local Level (In-Person)
DESCRIPTION:New Jersey DOT and many other states have adopted the Toward Zero Deaths initiative. This workshop will introduce the Toward Zero Deaths (TZD) road safety strategy\, the background of the zero deaths philosophy\, and the latest roadway fatality trends. It will identify the six emphasis areas in the TZD National Strategy and explain the importance of safety culture. Participants will learn the implementation steps for TZD on local roads and understand the proactive steps to take to start a zero deaths program in their municipality or county\, as well as where to find additional resources for TZD.\nLearning Objectives: \n  1. Gain an understanding of TZD and how it relates to the state SHSP\n  2. Learn about developing TZD strategies for their agencies\n  3. Learn the definition and importance of Safety Culture
URL:https://njdottechtransfer.net/event/njltap-getting-to-vision-zero-implementing-a-toward-zero-deaths-strategy-at-the-local-level-in-person-2/
LOCATION:NJ
END:VEVENT
BEGIN:VEVENT
DTSTART;TZID=America/New_York:20250925T120000
DTEND;TZID=America/New_York:20250925T170000
DTSTAMP:20260422T134400
CREATED:20251205T201604Z
LAST-MODIFIED:20251205T201604Z
UID:21582-1758801600-1758819600@njdottechtransfer.net
SUMMARY:Traffic Incident Management (In-Person)
DESCRIPTION:Using a multi-discipline approach\, first responders in New Jersey will learn how to operate more efficiently and act collectively. The training covers topics including TIM guidelines\, fundamentals\, and terminology; notifications and scene size up; scene safety and risk management; traffic management; special circumstances; clearance; and termination.\nThis course is open to all traffic-incident first responders including personnel in law enforcement\, fire-fighting\, emergency medical services (EMS)\, public safety\, public works\, towing and recovery\, and hazardous materials (HAZMAT). \nClick here to register. https://web.cvent.com/event/2d0b8e39-8931-4525-9258-8a8193b262da/summary
URL:https://njdottechtransfer.net/event/traffic-incident-management-in-person-2/
LOCATION:NJ
END:VEVENT
END:VCALENDAR